| Back to Multiple platform build/check report for BioC 3.10 |
This page was generated on 2020-04-15 12:55:02 -0400 (Wed, 15 Apr 2020).
Version Built
a4 1.34.0 3.6.3
a4Base 1.34.1 3.6.3
a4Classif 1.34.0 3.6.3
a4Core 1.34.0 3.6.3
a4Preproc 1.34.0 3.6.3
a4Reporting 1.34.0 3.6.3
ABAData 1.16.0 3.6.3
ABAEnrichment 1.16.0 3.6.3
ABarray 1.54.0 3.6.3
abind 1.4-5 3.6.0
abseqR 1.4.0 3.6.3
ABSSeq 1.40.0 3.6.3
acde 1.16.0 3.6.3
ACE 1.4.0 3.6.3
acepack 1.4.1 3.6.3
aCGH 1.64.0 3.6.3
ACME 2.42.0 3.6.3
actuar 2.3-3 3.6.3
ada 2.0-5 3.6.3
ADaCGH2 2.26.0 3.6.3
ADAM 1.2.0 3.6.3
ADAMgui 1.2.0 3.6.3
adaptest 1.6.1 3.6.3
additivityTests 1.1-4 3.6.3
adductData 1.2.0 3.6.3
adductomicsR 1.2.0 3.6.3
ade4 1.7-15 3.6.3
adehabitatLT 0.3.25 3.6.3
adehabitatMA 0.3.14 3.6.3
ADGofTest 0.3 3.6.0
admisc 0.7 3.6.3
adSplit 1.56.0 3.6.3
afex 0.27-2 3.6.3
AffiXcan 1.4.0 3.6.3
affxparser 1.58.0 3.6.3
affy 1.64.0 3.6.3
affycomp 1.62.0 3.6.3
AffyCompatible 1.46.0 3.6.3
affycompData 1.24.0 3.6.3
affyContam 1.44.0 3.6.3
affycoretools 1.58.4 3.6.3
affydata 1.34.0 3.6.3
AffyExpress 1.52.0 3.6.3
Affyhgu133A2Expr 1.22.0 3.6.3
Affyhgu133aExpr 1.24.0 3.6.3
Affyhgu133Plus2Expr 1.20.0 3.6.3
affyILM 1.38.0 3.6.3
affyio 1.56.0 3.6.3
affylmGUI 1.60.0 3.6.3
AffymetrixDataTestFiles 0.24.0 3.6.3
Affymoe4302Expr 1.24.0 3.6.3
affyPara 1.46.0 3.6.3
affypdnn 1.60.0 3.6.3
affyPLM 1.62.0 3.6.3
affyQCReport 1.64.0 3.6.3
AffyRNADegradation 1.32.0 3.6.3
AGDEX 1.34.0 3.6.3
agilp 3.18.0 3.6.3
AgiMicroRna 2.36.0 3.6.3
agricolae 1.3-2 3.6.3
AhoCorasickTrie 0.1.0 3.6.3
AIMS 1.18.0 3.6.3
airway 1.6.0 3.6.3
akima 0.6-2 3.6.3
alabama 2015.3-1 3.6.0
ALDEx2 1.18.0 3.6.3
alevinQC 1.2.0 3.6.3
AlgDesign 1.2.0 3.6.1
ALL 1.28.0 3.6.3
AllelicImbalance 1.24.0 3.6.3
ALLMLL 1.26.0 3.6.3
alluvial 0.1-2 3.6.3
AlphaBeta 1.0.0 3.6.3
alpine 1.12.0 3.6.3
alpineData 1.12.0 3.6.3
ALPS 1.0.0 3.6.3
ALS 0.0.6 3.6.0
alsace 1.22.0 3.6.3
altcdfenvs 2.48.0 3.6.3
amap 0.8-18 3.6.1
AMARETTO 1.2.0 3.6.3
AMOUNTAIN 1.12.0 3.6.3
AmpAffyExample 1.26.0 3.6.3
amplican 1.8.2 3.6.3
AnalysisPageServer 1.20.0 3.6.3
anamiR 1.14.0 3.6.3
Anaquin 2.10.0 3.6.3
AneuFinder 1.14.0 3.6.3
AneuFinderData 1.14.0 3.6.3
ANF 1.8.0 3.6.3
animalcules 1.2.1 3.6.3
animation 2.6 3.6.3
annaffy 1.58.0 3.6.3
annotate 1.64.0 3.6.3
AnnotationDbi 1.48.0 3.6.3
AnnotationFilter 1.10.0 3.6.3
AnnotationForge 1.28.0 3.6.3
AnnotationFuncs 1.36.0 3.6.3
AnnotationHub 2.18.0 3.6.3
AnnotationHubData 1.16.0 3.6.3
annotationTools 1.60.0 3.6.3
annotatr 1.12.1 3.6.3
anota 1.34.0 3.6.3
anota2seq 1.8.0 3.6.3
antiProfiles 1.26.0 3.6.3
antiProfilesData 1.22.0 3.6.3
aod 1.3.1 3.6.3
APAlyzer 1.0.0 3.6.3
apcluster 1.4.8 3.6.3
apComplex 2.52.0 3.6.3
ape 5.3 3.6.3
apeglm 1.8.0 3.6.3
aplpack 1.3.3 3.6.1
appreci8R 1.4.0 3.6.3
argparse 2.0.1 3.6.3
argparser 0.6 3.6.2
ArgumentCheck 0.10.2 3.6.3
arm 1.10-1 3.6.3
aroma.affymetrix 3.2.0 3.6.3
aroma.apd 0.6.0 3.6.3
aroma.core 3.2.1 3.6.3
aroma.light 3.16.0 3.6.3
ArrayExpress 1.46.0 3.6.3
arrayMvout 1.44.0 3.6.3
arrayQuality 1.64.0 3.6.3
arrayQualityMetrics 3.42.0 3.6.3
ArrayTools 1.46.0 3.6.3
ArrayTV 1.24.0 3.6.3
ARRmData 1.22.0 3.6.3
ARRmNormalization 1.26.0 3.6.3
arrow 0.16.0.2 3.6.3
artMS 1.4.3 3.6.3
arules 1.6-5 3.6.3
ASAFE 1.12.0 3.6.3
ASEB 1.30.0 3.6.3
ASGSCA 1.20.0 3.6.3
ashr 2.2-47 3.6.3
ASICS 2.2.0 3.6.3
ASICSdata 1.6.0 3.6.3
askpass 1.1 3.6.3
ASpediaFI 1.0.0 3.6.3
ASpli 1.12.0 3.6.3
assertive 0.3-5 3.6.3
assertive.base 0.0-7 3.6.3
assertive.code 0.0-3 3.6.3
assertive.data 0.0-3 3.6.3
assertive.data.uk 0.0-2 3.6.3
assertive.data.us 0.0-2 3.6.3
assertive.datetimes 0.0-2 3.6.3
assertive.files 0.0-2 3.6.3
assertive.matrices 0.0-2 3.6.3
assertive.models 0.0-2 3.6.3
assertive.numbers 0.0-2 3.6.3
assertive.properties 0.0-4 3.6.3
assertive.reflection 0.0-4 3.6.3
assertive.sets 0.0-3 3.6.3
assertive.strings 0.0-3 3.6.3
assertive.types 0.0-3 3.6.3
assertthat 0.2.1 3.6.3
AssessORF 1.4.0 3.6.3
AssessORFData 1.4.0 3.6.3
ASSET 2.4.0 3.6.3
ASSIGN 1.22.0 3.6.3
ATACseqQC 1.10.4 3.6.3
atSNP 1.2.0 3.6.3
attract 1.38.0 3.6.3
AUCell 1.8.0 3.6.3
Autotuner 1.0.1 3.6.3
AWFisher 1.0.1 3.6.3
aws 2.4-1 3.6.2
awsMethods 1.1-1 3.6.0
BaalChIP 1.12.0 3.6.3
BAC 1.46.0 3.6.3
backports 1.1.6 3.6.3
bacon 1.14.0 3.6.3
BADER 1.24.0 3.6.3
badger 0.0.7 3.6.3
BadRegionFinder 1.14.0 3.6.3
BAGS 2.26.0 3.6.3
ballgown 2.18.0 3.6.3
bamsignals 1.18.0 3.6.3
BANDITS 1.2.3 3.6.3
banocc 1.10.0 3.6.3
base 3.6.3 3.6.3
base64 2.0 3.6.3
base64enc 0.1-3 3.6.0
base64url 1.4 3.6.3
basecallQC 1.10.0 3.6.3
baseline 1.2-3 3.6.3
BaseSpaceR 1.30.0 3.6.3
Basic4Cseq 1.22.0 3.6.3
BASiCS 1.8.1 3.6.3
BasicSTARRseq 1.14.0 3.6.3
basicTrendline 2.0.3 3.6.3
batchelor 1.2.4 3.6.3
BatchJobs 1.8 3.6.3
BatchQC 1.14.0 3.6.3
batchtools 0.9.13 3.6.3
BayesKnockdown 1.12.0 3.6.3
bayesm 3.1-4 3.6.3
BayesPeak 1.38.0 3.6.3
bayestestR 0.5.3 3.6.3
bayNorm 1.4.14 3.6.3
baySeq 2.20.0 3.6.3
BB 2019.10-1 3.6.3
BBCAnalyzer 1.16.0 3.6.3
BBmisc 1.11 3.6.3
bbmle 1.0.23.1 3.6.3
bc3net 1.0.4 3.6.3
bcellViper 1.22.0 3.6.3
BCRANK 1.48.0 3.6.3
bcSeq 1.8.0 3.6.3
BDgraph 2.62 3.6.3
BDMMAcorrect 1.4.0 3.6.3
bdsmatrix 1.3-4 3.6.2
beachmat 2.2.1 3.6.3
beadarray 2.36.1 3.6.3
beadarrayExampleData 1.24.0 3.6.3
beadarraySNP 1.52.0 3.6.3
BeadDataPackR 1.38.0 3.6.3
beanplot 1.2 3.6.3
BEARscc 1.6.0 3.6.3
BEAT 1.24.0 3.6.3
BEclear 2.2.0 3.6.3
beeswarm 0.2.3 3.6.0
benchmarkme 1.0.3 3.6.3
benchmarkmeData 1.0.3 3.6.3
betareg 3.1-3 3.6.3
bezier 1.1.2 3.6.0
bgafun 1.48.0 3.6.3
BgeeDB 2.12.1 3.6.3
bgmm 1.8.4 3.6.3
bgx 1.52.0 3.6.3
BH 1.72.0-3 3.6.2
BHC 1.38.0 3.6.3
BiasedUrn 1.07 3.6.0
BiBitR 0.3.1 3.6.3
bibtex 0.4.2.2 3.6.3
BicARE 1.44.0 3.6.3
biclust 2.0.2 3.6.3
BiFET 1.6.0 3.6.3
BiGGR 1.22.0 3.6.3
biglm 0.9-1 3.6.3
bigmelon 1.12.0 3.6.3
bigmemory 4.5.36 3.6.3
bigmemory.sri 0.1.3 3.6.0
bigPint 1.2.2 3.6.3
bigrquery 1.2.0 3.6.3
binom 1.1-1 3.6.3
bioassayR 1.24.0 3.6.3
Biobase 2.46.0 3.6.3
biobroom 1.18.0 3.6.3
bioCancer 1.14.02 3.6.3
BiocCaseStudies 1.48.0 3.6.3
BiocCheck 1.22.0 3.6.3
BiocFileCache 1.10.2 3.6.3
BiocGenerics 0.32.0 3.6.3
biocGraph 1.48.0 3.6.3
BiocManager 1.30.10 3.6.3
BiocNeighbors 1.4.2 3.6.3
BiocOncoTK 1.6.0 3.6.3
BioCor 1.10.0 3.6.3
BiocParallel 1.20.1 3.6.3
BiocPkgTools 1.4.6 3.6.3
BiocSet 1.0.1 3.6.3
BiocSingular 1.2.2 3.6.3
BiocSklearn 1.8.1 3.6.3
BiocStyle 2.14.4 3.6.3
BiocVersion 3.10.1 3.6.3
biocViews 1.54.0 3.6.3
BiocWorkflowTools 1.12.1 3.6.3
bioDist 1.58.0 3.6.3
BioMark 0.4.5 3.6.3
biomaRt 2.42.1 3.6.3
biomformat 1.14.0 3.6.3
BioMM 1.2.0 3.6.3
BioMVCClass 1.54.0 3.6.3
biomvRCNS 1.26.0 3.6.3
BioNet 1.46.0 3.6.3
bionetdata 1.0.1 3.6.0
BioNetStat 1.6.0 3.6.3
BioQC 1.14.0 3.6.3
BioSeqClass 1.44.0 3.6.3
biosigner 1.14.4 3.6.3
Biostrings 2.54.0 3.6.3
biosvd 2.22.0 3.6.3
BioTIP 1.0.0 3.6.3
biotmle 1.10.0 3.6.3
biotmleData 1.10.0 3.6.3
biovizBase 1.34.1 3.6.3
BiRewire 3.18.0 3.6.3
birta 1.30.0 3.6.3
birte 1.22.0 3.6.3
biscuiteer 1.0.0 3.6.3
biscuiteerData 1.0.0 3.6.3
BiSeq 1.26.0 3.6.3
bit 1.1-15.2 3.6.2
bit64 0.9-7 3.6.2
bitops 1.0-6 3.6.0
BitSeq 1.30.1 3.6.3
biwt 1.0 3.6.3
blacksheepr 1.0.0 3.6.3
bladderbatch 1.24.0 3.6.3
blastula 0.3.1 3.6.3
blima 1.20.0 3.6.3
blimaTestingData 1.6.0 3.6.3
BLMA 1.10.0 3.6.3
blme 1.0-4 3.6.3
blob 1.2.1 3.6.3
blockmodeling 0.3.6 3.6.3
BMA 3.18.12 3.6.3
bmp 0.3 3.6.3
bnbc 1.8.0 3.6.3
bnlearn 4.5 3.6.3
bodymapRat 1.2.0 3.6.3
bookdown 0.18 3.6.3
BoolNet 2.1.5 3.6.3
boot 1.3-24 3.6.3
bootstrap 2019.6 3.6.0
bpca 1.3-0 3.6.3
BPRMeth 1.12.0 3.6.3
BRAIN 1.32.0 3.6.3
brainflowprobes 1.0.0 3.6.3
brainImageR 1.4.0 3.6.3
BrainStars 1.30.0 3.6.3
branchpointer 1.12.0 3.6.3
breakpointR 1.4.0 3.6.3
breakpointRdata 1.4.0 3.6.3
breastCancerMAINZ 1.24.0 3.6.3
breastCancerNKI 1.24.0 3.6.3
breastCancerTRANSBIG 1.24.0 3.6.3
breastCancerUNT 1.24.0 3.6.3
breastCancerUPP 1.24.0 3.6.3
breastCancerVDX 1.24.0 3.6.3
brendaDb 1.0.0 3.6.3
brew 1.0-6 3.6.0
brgedata 1.8.0 3.6.3
brglm 0.6.2 3.6.3
bridge 1.50.0 3.6.3
BridgeDbR 1.20.3 3.6.3
broom 0.5.5 3.6.3
BrowserViz 2.8.0 3.6.3
BSgenome 1.54.0 3.6.3
BSgenome.Athaliana.TAIR.TAIR9 1.3.1000 3.6.3
BSgenome.Btaurus.UCSC.bosTau6 1.4.0 3.6.3
BSgenome.Btaurus.UCSC.bosTau6.masked 1.3.99 3.6.3
BSgenome.Celegans.UCSC.ce10 1.4.0 3.6.3
BSgenome.Celegans.UCSC.ce2 1.4.0 3.6.3
BSgenome.Dmelanogaster.UCSC.dm3 1.4.0 3.6.3
BSgenome.Drerio.UCSC.danRer10 1.4.2 3.6.3
BSgenome.Drerio.UCSC.danRer7 1.4.0 3.6.3
BSgenome.Ecoli.NCBI.20080805 1.3.1000 3.6.3
BSgenome.Ggallus.UCSC.galGal3 1.4.0 3.6.3
BSgenome.Hsapiens.1000genomes.hs37d5 0.99.1 3.6.3
BSgenome.Hsapiens.NCBI.GRCh38 1.3.1000 3.6.3
BSgenome.Hsapiens.UCSC.hg18 1.3.1000 3.6.3
BSgenome.Hsapiens.UCSC.hg18.masked 1.3.99 3.6.3
BSgenome.Hsapiens.UCSC.hg19 1.4.0 3.6.3
BSgenome.Hsapiens.UCSC.hg19.masked 1.3.99 3.6.3
BSgenome.Hsapiens.UCSC.hg38 1.4.1 3.6.3
BSgenome.Hsapiens.UCSC.hg38.masked 1.3.99 3.6.3
BSgenome.Mmusculus.UCSC.mm10 1.4.0 3.6.3
BSgenome.Mmusculus.UCSC.mm10.masked 1.3.99 3.6.3
BSgenome.Mmusculus.UCSC.mm8 1.4.0 3.6.3
BSgenome.Mmusculus.UCSC.mm8.masked 1.3.99 3.6.3
BSgenome.Mmusculus.UCSC.mm9 1.4.0 3.6.3
BSgenome.Mmusculus.UCSC.mm9.masked 1.3.99 3.6.3
BSgenome.Rnorvegicus.UCSC.rn5 1.4.0 3.6.3
BSgenome.Rnorvegicus.UCSC.rn5.masked 1.3.99 3.6.3
BSgenome.Rnorvegicus.UCSC.rn6 1.4.1 3.6.3
BSgenome.Scerevisiae.UCSC.sacCer1 1.4.0 3.6.3
BSgenome.Scerevisiae.UCSC.sacCer2 1.4.0 3.6.3
BSgenome.Scerevisiae.UCSC.sacCer3 1.4.0 3.6.3
bsseq 1.22.0 3.6.3
bsseqData 0.24.0 3.6.3
BubbleTree 2.16.0 3.6.3
BufferedMatrix 1.50.0 3.6.3
BufferedMatrixMethods 1.50.0 3.6.3
BUMHMM 1.10.0 3.6.3
bumphunter 1.28.0 3.6.3
BUS 1.42.0 3.6.3
BUScorrect 1.4.0 3.6.3
BUSpaRse 1.0.0 3.6.3
c3net 1.1.1 3.6.3
C50 0.1.3 3.6.3
ca 0.71.1 3.6.3
CAFE 1.22.0 3.6.3
CAGEfightR 1.6.0 3.6.3
CAGEr 1.28.0 3.6.3
Cairo 1.5-12 3.6.3
cairoDevice 2.28 3.6.1
CALIB 1.52.0 3.6.3
calibrate 1.7.5 3.6.3
callr 3.4.3 3.6.3
calm 1.0.0 3.6.3
CAMERA 1.42.0 3.6.3
CAMTHC 1.4.0 3.6.3
canceR 1.20.0 3.6.3
cancerclass 1.30.0 3.6.3
cancerdata 1.24.0 3.6.3
CancerInSilico 2.6.0 3.6.3
CancerMutationAnalysis 1.28.0 3.6.3
CancerSubtypes 1.12.1 3.6.3
CAnD 1.18.0 3.6.3
caOmicsV 1.16.0 3.6.3
capushe 1.1.1 3.6.3
car 3.0-7 3.6.3
carData 3.0-3 3.6.1
Cardinal 2.4.0 3.6.3
caret 6.0-86 3.6.3
caroline 0.7.6 3.6.3
casper 2.20.0 3.6.3
CATALYST 1.10.3 3.6.3
Category 2.52.1 3.6.3
categoryCompare 1.30.0 3.6.3
catnet 1.15.7 3.6.3
caTools 1.18.0 3.6.3
CausalR 1.18.0 3.6.3
cba 0.2-21 3.6.3
cbaf 1.8.1 3.6.3
ccaPP 0.3.3 3.6.3
ccdata 1.12.0 3.6.3
ccdrAlgorithm 0.0.5 3.6.3
ccfindR 1.6.0 3.6.3
CCl4 1.24.0 3.6.3
ccmap 1.12.0 3.6.3
CCP 1.1 3.6.0
CCPROMISE 1.12.0 3.6.3
ccrepe 1.22.0 3.6.3
CDFt 1.0.1 3.6.0
celaref 1.4.0 3.6.3
celda 1.2.4 3.6.3
celestial 1.4.6 3.6.3
cellbaseR 1.10.0 3.6.3
CellBench 1.2.0 3.6.3
cellGrowth 1.30.0 3.6.3
cellHTS2 2.50.0 3.6.3
cellity 1.14.0 3.6.3
CellMapper 1.12.0 3.6.3
CellMapperData 1.12.0 3.6.3
CellMixS 1.2.6 3.6.3
CellNOptR 1.32.0 3.6.3
cellranger 1.1.0 3.6.3
cellscape 1.10.0 3.6.3
CellScore 1.6.0 3.6.3
CellTrails 1.4.0 3.6.3
CEMiTool 1.10.2 3.6.3
CexoR 1.24.0 3.6.3
CFAssay 1.20.0 3.6.3
cgdsr 1.3.0 3.6.3
CGEN 3.22.0 3.6.3
CGHbase 1.46.0 3.6.3
CGHcall 2.48.0 3.6.3
cghMCR 1.44.0 3.6.3
CGHnormaliter 1.40.0 3.6.3
CGHregions 1.44.0 3.6.3
ChAMP 2.16.2 3.6.3
ChAMPdata 2.18.0 3.6.3
changepoint 2.2.2 3.6.3
checkmate 2.0.0 3.6.3
ChemmineDrugs 1.0.2 3.6.3
ChemmineOB 1.24.0 3.6.3
ChemmineR 3.38.0 3.6.3
chemometrics 1.4.2 3.6.3
ChemometricsWithR 0.1.13 3.6.3
CHETAH 1.2.0 3.6.3
Chicago 1.14.0 3.6.3
chimera 1.28.0 3.6.3
chimeraviz 1.12.3 3.6.3
ChIPanalyser 1.8.0 3.6.3
ChIPComp 1.16.0 3.6.3
chipenrich 2.10.0 3.6.3
chipenrich.data 2.10.0 3.6.3
ChIPexoQual 1.10.0 3.6.3
ChIPexoQualExample 1.10.0 3.6.3
ChIPpeakAnno 3.20.1 3.6.3
ChIPQC 1.22.0 3.6.3
ChIPseeker 1.22.1 3.6.3
chipseq 1.36.0 3.6.3
ChIPseqR 1.40.0 3.6.3
ChIPSeqSpike 1.6.0 3.6.3
ChIPsim 1.40.0 3.6.3
chopsticks 1.52.0 3.6.3
chromDraw 2.16.0 3.6.3
ChromHeatMap 1.40.0 3.6.3
chromPlot 1.14.0 3.6.3
chromstaR 1.12.0 3.6.3
chromstaRData 1.12.0 3.6.3
chromswitch 1.8.0 3.6.3
chromVAR 1.8.0 3.6.3
chron 2.3-55 3.6.3
CHRONOS 1.14.0 3.6.3
cicero 1.4.4 3.6.3
CINdex 1.14.0 3.6.3
circlize 0.4.8 3.6.3
circRNAprofiler 1.0.0 3.6.3
CircStats 0.2-6 3.6.3
cisPath 1.26.0 3.6.3
citr 0.3.2 3.6.3
Ckmeans.1d.dp 4.3.2 3.6.3
class 7.3-16 3.6.3
ClassifyR 2.6.1 3.6.3
classInt 0.4-3 3.6.3
cleanUpdTSeq 1.24.0 3.6.3
cleaver 1.24.0 3.6.3
cli 2.0.2 3.6.3
clinfun 1.0.15 3.6.3
clippda 1.36.0 3.6.3
clipper 1.26.0 3.6.3
clipr 0.7.0 3.6.3
cliqueMS 1.0.2 3.6.3
clisymbols 1.2.0 3.6.3
CLL 1.26.0 3.6.3
Clomial 1.22.0 3.6.3
Clonality 1.34.0 3.6.3
clonotypeR 1.24.0 3.6.3
clst 1.34.0 3.6.3
clstutils 1.34.0 3.6.3
clue 0.3-57 3.6.3
clues 0.6.2.2 3.6.3
CluMSID 1.2.1 3.6.3
CluMSIDdata 1.2.0 3.6.3
clustComp 1.14.0 3.6.3
cluster 2.1.0 3.6.3
clusterCrit 1.2.8 3.6.2
clusterExperiment 2.6.1 3.6.3
ClusterJudge 1.8.0 3.6.3
clusterProfiler 3.14.3 3.6.3
ClusterR 1.2.1 3.6.3
clusterSeq 1.10.0 3.6.3
ClusterSignificance 1.14.0 3.6.3
clusterSim 0.48-3 3.6.3
clusterStab 1.58.0 3.6.3
clusteval 0.1 3.6.3
clustvarsel 2.3.3 3.6.3
clv 0.3-2.2 3.6.3
clValid 0.6-6 3.6.3
CMA 1.44.0 3.6.3
cMAP 1.15.1 3.6.3
cMap2data 1.22.0 3.6.3
CMplot 3.6.0 3.6.3
cmprsk 2.2-9 3.6.3
cn.farms 1.34.0 3.6.3
cn.mops 1.32.0 3.6.3
CNAnorm 1.32.0 3.6.3
CNEr 1.22.0 3.6.3
CNORdt 1.28.0 3.6.3
CNORfeeder 1.26.0 3.6.3
CNORfuzzy 1.28.0 3.6.3
CNORode 1.28.0 3.6.3
CNPBayes 1.16.0 3.6.3
CNTools 1.42.0 3.6.3
CNVfilteR 1.0.4 3.6.3
cnvGSA 1.30.0 3.6.3
cnvGSAdata 1.22.0 3.6.3
CNVPanelizer 1.18.0 3.6.3
CNVRanger 1.2.2 3.6.3
CNVrd2 1.24.0 3.6.3
CNVtools 1.80.0 3.6.3
cobs 1.3-4 3.6.3
CoCiteStats 1.58.0 3.6.3
COCOA 2.0.0 3.6.3
coda 0.19-3 3.6.3
codelink 1.54.0 3.6.3
codetools 0.2-16 3.6.3
CODEX 1.18.0 3.6.3
coexnet 1.8.0 3.6.3
CoGAPS 3.6.0 3.6.3
cogena 1.20.0 3.6.3
coGPS 1.30.0 3.6.3
COHCAP 1.32.0 3.6.3
COHCAPanno 1.22.0 3.6.3
coin 1.3-1 3.6.3
cola 1.2.1 3.6.3
colonCA 1.28.0 3.6.3
colorRamps 2.3 3.6.0
colorspace 1.4-1 3.6.1
colortools 0.1.5 3.6.0
colourpicker 1.0 3.6.3
colr 0.1.900 3.6.3
combinat 0.0-8 3.6.0
coMET 1.18.0 3.6.3
commonmark 1.7 3.6.3
compartmap 1.4.0 3.6.3
COMPASS 1.24.1 3.6.3
compcodeR 1.22.0 3.6.3
compEpiTools 1.20.0 3.6.3
CompGO 1.22.0 3.6.3
compiler 3.6.3 3.6.3
ComplexHeatmap 2.2.0 3.6.3
compositions 1.40-5 3.6.3
CompQuadForm 1.4.3 3.6.0
condcomp 1.4.0 3.6.3
CONFESS 1.14.0 3.6.3
CONFESSdata 1.14.0 3.6.3
config 0.3 3.6.3
consensus 1.4.0 3.6.3
ConsensusClusterPlus 1.50.0 3.6.3
consensusDE 1.4.0 3.6.3
consensusOV 1.8.1 3.6.3
consensusSeekeR 1.14.0 3.6.3
contiBAIT 1.14.0 3.6.3
contrast 0.22 3.6.3
convert 1.62.0 3.6.3
copa 1.54.0 3.6.3
copula 0.999-20 3.6.3
CopyhelpeR 1.18.0 3.6.3
copynumber 1.26.0 3.6.3
CopyNumberPlots 1.2.3 3.6.3
CopywriteR 2.18.0 3.6.3
coRdon 1.4.0 3.6.3
CoRegFlux 1.2.0 3.6.3
CoRegNet 1.24.0 3.6.3
Cormotif 1.32.0 3.6.3
CorMut 1.28.0 3.6.3
corpcor 1.6.9 3.6.0
CORREP 1.52.0 3.6.3
corrgram 1.13 3.6.3
corrplot 0.84 3.6.3
coseq 1.10.0 3.6.3
COSINE 2.1 3.6.3
COSMIC.67 1.22.0 3.6.3
cosmiq 1.20.0 3.6.3
COSNet 1.20.0 3.6.3
countsimQC 1.4.0 3.6.3
covEB 1.12.0 3.6.3
covr 3.5.0 3.6.3
covRNA 1.12.0 3.6.3
cowplot 1.0.0 3.6.3
CoxBoost 1.4 3.6.3
cp4p 0.3.6 3.6.3
CPE 1.5.1 3.6.3
CpGassoc 2.60 3.6.3
cplm 0.7-8 3.6.3
cpvSNP 1.18.0 3.6.3
cqn 1.32.0 3.6.3
crayon 1.3.4 3.6.3
CRImage 1.34.0 3.6.3
CRISPRseek 1.26.0 3.6.3
crisprseekplus 1.12.0 3.6.3
CrispRVariants 1.14.0 3.6.3
crlmm 1.44.0 3.6.3
CrossICC 1.0.0 3.6.3
crossmeta 1.12.0 3.6.3
crosstalk 1.1.0.1 3.6.3
crul 0.9.0 3.6.3
CSAR 1.38.0 3.6.3
csaw 1.20.0 3.6.3
csSAM 1.2.4 3.6.0
CSSP 1.24.0 3.6.3
ctc 1.60.0 3.6.3
CTDquerier 1.6.0 3.6.3
cTRAP 1.4.0 3.6.3
ctsGE 1.12.0 3.6.3
cubature 2.0.4 3.6.3
Cubist 0.2.3 3.6.3
cummeRbund 2.28.0 3.6.3
curatedBladderData 1.22.0 3.6.3
curatedMetagenomicData 1.16.1 3.6.3
curatedOvarianData 1.24.0 3.6.3
curatedTCGAData 1.8.1 3.6.3
curl 4.3 3.6.3
customProDB 1.26.1 3.6.3
cvAUC 1.1.0 3.6.3
CVE 1.12.0 3.6.3
cvTools 0.3.2 3.6.3
cycle 1.40.0 3.6.3
cyclocomp 1.1.0 3.6.3
cydar 1.10.0 3.6.3
CytoDx 1.6.0 3.6.3
cytofast 1.2.0 3.6.3
cytolib 1.8.0 3.6.3
CytoML 1.12.1 3.6.3
d3heatmap 0.6.1.2 3.6.3
d3Network 0.5.2.1 3.6.3
dada2 1.14.1 3.6.3
dagLogo 1.24.0 3.6.3
daMA 1.58.0 3.6.3
DaMiRseq 1.10.0 3.6.3
DAPAR 1.18.5 3.6.3
DAPARdata 1.16.0 3.6.3
DART 1.34.0 3.6.3
data.table 1.12.8 3.6.3
data.tree 0.7.11 3.6.3
datasets 3.6.3 3.6.3
DBChIP 1.30.0 3.6.3
DBI 1.1.0 3.6.3
dbplyr 1.4.2 3.6.3
dbscan 1.1-5 3.6.3
dcanr 1.2.0 3.6.3
dcGSA 1.14.0 3.6.3
DChIPRep 1.16.0 3.6.3
ddCt 1.42.0 3.6.3
ddPCRclust 1.6.0 3.6.3
DDRTree 0.1.5 3.6.3
debCAM 1.4.0 3.6.3
debrowser 1.14.2 3.6.3
debugme 1.1.0 3.6.3
DECIPHER 2.14.0 3.6.3
deco 1.2.0 3.6.3
DEComplexDisease 1.6.0 3.6.3
decompTumor2Sig 2.2.0 3.6.3
DeconRNASeq 1.28.0 3.6.3
decontam 1.6.0 3.6.3
DEDS 1.60.0 3.6.3
DeepBlueR 1.12.0 3.6.3
deepSNV 1.32.0 3.6.3
DEFormats 1.14.0 3.6.3
DEGreport 1.22.0 3.6.3
DEGseq 1.40.0 3.6.3
Delaporte 7.0.2 3.6.3
DelayedArray 0.12.3 3.6.3
DelayedDataFrame 1.2.0 3.6.3
DelayedMatrixStats 1.8.0 3.6.3
deldir 0.1-25 3.6.2
deltaCaptureC 1.0.0 3.6.3
deltaGseg 1.26.0 3.6.3
DeMAND 1.16.0 3.6.3
DeMixT 1.2.5 3.6.3
dendextend 1.13.4 3.6.3
dendsort 0.3.3 3.6.3
densityClust 0.3 3.6.3
DEoptimR 1.0-8 3.6.0
DEP 1.8.0 3.6.3
DepecheR 1.2.2 3.6.3
depmixS4 1.4-2 3.6.3
DEqMS 1.4.0 3.6.3
derfinder 1.20.0 3.6.3
derfinderData 2.4.0 3.6.3
derfinderHelper 1.20.0 3.6.3
derfinderPlot 1.20.0 3.6.3
Deriv 4.0 3.6.3
desc 1.2.0 3.6.3
DEScan2 1.6.0 3.6.3
DescTools 0.99.34 3.6.3
DESeq 1.38.0 3.6.3
DESeq2 1.26.0 3.6.3
DEsingle 1.6.0 3.6.3
deSolve 1.28 3.6.3
destiny 3.0.1 3.6.3
DEsubs 1.12.0 3.6.3
devtools 2.3.0 3.6.3
DEWSeq 1.0.6 3.6.3
DEXSeq 1.32.0 3.6.3
dexus 1.26.0 3.6.3
DFP 1.44.0 3.6.3
diagram 1.6.4 3.6.0
DiagrammeR 1.0.5 3.6.3
DiagrammeRsvg 0.1 3.6.3
dichromat 2.0-0 3.6.0
DiffBind 2.14.0 3.6.3
diffcoexp 1.6.0 3.6.3
DiffCorr 0.4.1 3.6.3
diffcyt 1.6.6 3.6.3
diffGeneAnalysis 1.68.0 3.6.3
diffHic 1.18.0 3.6.3
DiffLogo 2.10.0 3.6.3
diffloop 1.14.0 3.6.3
diffloopdata 1.14.0 3.6.3
diffobj 0.2.4 3.6.3
diffr 0.1 3.6.3
diffusr 0.1.4 3.6.3
diffuStats 1.6.0 3.6.3
digest 0.6.25 3.6.3
diggit 1.18.0 3.6.3
diggitdata 1.18.0 3.6.3
diptest 0.75-7 3.6.0
Director 1.12.0 3.6.3
DirichletMultinomial 1.28.0 3.6.3
discordant 1.10.0 3.6.3
DiscoRhythm 1.2.1 3.6.3
discretecdAlgorithm 0.0.7 3.6.3
DiscriMiner 0.1-29 3.6.3
distillery 1.0-6 3.6.0
distr 2.8.0 3.6.3
distrEx 2.8.0 3.6.3
divergence 1.2.0 3.6.3
dks 1.32.0 3.6.3
DLBCL 1.26.0 3.6.3
dlstats 0.1.3 3.6.3
DMCFB 1.0.0 3.6.3
DMCHMM 1.8.0 3.6.3
dml 1.1.0 3.6.3
DMRcaller 1.18.0 3.6.3
DMRcate 2.0.7 3.6.3
DMRcatedata 2.2.1 3.6.3
DMRforPairs 1.22.0 3.6.3
DMRScan 1.8.0 3.6.3
dmrseq 1.6.0 3.6.3
dmt 0.8.20 3.6.3
DMwR 0.4.1 3.6.3
DNABarcodeCompatibility 1.2.0 3.6.3
DNABarcodes 1.16.0 3.6.3
DNAcopy 1.60.0 3.6.3
DNAshapeR 1.14.0 3.6.3
dnet 1.1.7 3.6.3
DO.db 2.9 3.6.3
doBy 4.6.5 3.6.3
docopt 0.6.1 3.6.3
doFuture 0.9.0 3.6.3
DominoEffect 1.6.0 3.6.3
doParallel 1.0.15 3.6.3
doppelgangR 1.14.0 3.6.3
doRNG 1.8.2 3.6.3
Doscheda 1.8.1 3.6.3
DOSE 3.12.0 3.6.3
doseR 1.2.0 3.6.3
doSNOW 1.0.18 3.6.3
dotCall64 1.0-0 3.6.3
downloader 0.4 3.6.3
dplR 1.7.1 3.6.3
dplyr 0.8.5 3.6.3
dqrng 0.2.1 3.6.3
drawProteins 1.6.0 3.6.3
DRaWR 1.0.1 3.6.3
drc 3.0-1 3.6.3
DRIMSeq 1.14.0 3.6.3
DriverNet 1.26.0 3.6.3
DropletUtils 1.6.1 3.6.3
drosgenome1.db 3.2.3 3.6.3
drosophila2probe 2.18.0 3.6.3
DrugVsDisease 2.28.0 3.6.3
DrugVsDiseasedata 1.22.0 3.6.3
DSS 2.34.0 3.6.3
DT 0.13 3.6.3
DTA 2.32.0 3.6.3
dtw 1.21-3 3.6.3
dualKS 1.46.0 3.6.3
dunn.test 1.3.5 3.6.0
DupChecker 1.24.0 3.6.3
dyebias 1.46.0 3.6.3
dyebiasexamples 1.26.0 3.6.3
dynamicTreeCut 1.63-1 3.6.0
DynDoc 1.64.0 3.6.3
e1071 1.7-3 3.6.3
earth 5.1.2 3.6.3
EasyqpcR 1.28.0 3.6.3
easyRNASeq 2.22.5 3.6.3
EBarrays 2.50.0 3.6.3
EBcoexpress 1.30.0 3.6.3
ebdbNet 1.2.5 3.6.3
EBImage 4.28.1 3.6.3
EBSEA 1.14.0 3.6.3
EBSeq 1.26.0 3.6.3
EBSeqHMM 1.20.0 3.6.3
ecolicdf 2.18.0 3.6.3
ecoliLeucine 1.26.0 3.6.3
ecolitk 1.58.0 3.6.3
ecp 3.1.2 3.6.3
EDASeq 2.20.0 3.6.3
EDDA 1.24.0 3.6.3
edge 2.18.0 3.6.3
edgeR 3.28.1 3.6.3
eegc 1.12.0 3.6.3
effectsize 0.3.0 3.6.3
EGAD 1.14.0 3.6.3
egg 0.4.5 3.6.3
EGSEA 1.14.0 3.6.3
EGSEAdata 1.14.0 3.6.3
eiR 1.26.0 3.6.3
eisa 1.38.0 3.6.3
elasticnet 1.1.1 3.6.0
ELBOW 1.22.0 3.6.3
ellipse 0.4.1 3.6.3
ellipsis 0.3.0 3.6.3
ELMER 2.10.0 3.6.3
ELMER.data 2.10.0 3.6.3
emdbook 1.3.12 3.6.3
emdist 0.3-1 3.6.0
EMDomics 2.16.0 3.6.3
emmeans 1.4.5 3.6.3
emojifont 0.5.3 3.6.3
EmpiricalBrownsMethod 1.14.0 3.6.3
EMT 1.1 3.6.0
ENCODExplorer 2.12.1 3.6.3
energy 1.7-7 3.6.3
EnhancedVolcano 1.4.0 3.6.3
ENmix 1.22.6 3.6.3
EnrichedHeatmap 1.16.0 3.6.3
EnrichmentBrowser 2.16.1 3.6.3
enrichplot 1.6.1 3.6.3
enrichR 2.1 3.6.3
enrichTF 1.2.3 3.6.3
EnsDb.Hsapiens.v75 2.99.0 3.6.3
EnsDb.Hsapiens.v79 2.99.0 3.6.3
EnsDb.Hsapiens.v86 2.99.0 3.6.3
EnsDb.Mmusculus.v79 2.99.0 3.6.3
ensembldb 2.10.2 3.6.3
ensurer 1.1 3.6.3
entropy 1.2.1 3.6.0
EntropyExplorer 1.1 3.6.0
enviPat 2.4 3.6.0
ENVISIONQuery 1.34.0 3.6.3
EnvStats 2.3.1 3.6.3
Epi 2.40 3.6.3
EpiDISH 2.2.2 3.6.3
epigenomix 1.26.0 3.6.3
epihet 1.2.0 3.6.3
epiNEM 1.10.0 3.6.3
epivizr 2.16.0 3.6.3
epivizrChart 1.8.0 3.6.3
epivizrData 1.14.0 3.6.3
epivizrServer 1.14.0 3.6.3
epivizrStandalone 1.14.0 3.6.3
erccdashboard 1.20.0 3.6.3
erma 1.2.0 3.6.3
ERSSA 1.4.0 3.6.3
esATAC 1.8.0 3.6.3
esetVis 1.12.0 3.6.3
estimability 1.3 3.6.0
estrogen 1.32.0 3.6.3
etec16s 1.14.0 3.6.3
etm 1.0.5.1 3.6.3
etrunct 0.1 3.6.3
eudysbiome 1.16.0 3.6.3
eulerr 6.1.0 3.6.3
europepmc 0.3 3.6.3
evaluate 0.14 3.6.3
evaluomeR 1.2.41 3.6.3
evd 2.3-3 3.6.3
EventPointer 2.4.0 3.6.3
evmix 2.12 3.6.3
exactRankTests 0.8-31 3.6.3
ExiMiR 2.28.0 3.6.3
exomeCopy 1.32.0 3.6.3
exomePeak 2.20.0 3.6.3
ExperimentHub 1.12.0 3.6.3
ExperimentHubData 1.12.0 3.6.3
expint 0.1-6 3.6.1
explorase 1.50.0 3.6.3
expm 0.999-4 3.6.3
ExPosition 2.8.23 3.6.0
ExpressionAtlas 1.14.0 3.6.3
ExpressionView 1.38.0 3.6.3
extraDistr 1.8.11 3.6.3
extrafont 0.17 3.6.2
extrafontdb 1.0 3.6.0
extRemes 2.0-11 3.6.3
faahKO 1.26.0 3.6.3
fabia 2.32.0 3.6.3
factDesign 1.62.0 3.6.3
factoextra 1.0.7 3.6.3
FactoMineR 2.3 3.6.3
FamAgg 1.14.0 3.6.3
fansi 0.4.1 3.6.3
FANTOM3and4CAGE 1.22.0 3.6.3
farms 1.38.0 3.6.3
farver 2.0.3 3.6.3
fastcluster 1.1.25 3.6.0
fastDummies 1.6.1 3.6.3
fastICA 1.2-2 3.6.3
fastLiquidAssociation 1.22.0 3.6.3
fastmap 1.0.1 3.6.3
fastmatch 1.1-0 3.6.0
FastqCleaner 1.4.0 3.6.3
fastseg 1.32.0 3.6.3
fBasics 3042.89.1 3.6.3
FCBF 1.4.0 3.6.3
fCCAC 1.12.0 3.6.3
fCI 1.16.0 3.6.3
fcoex 1.0.0 3.6.3
fcScan 1.0.0 3.6.3
fda 2.4.8.1 3.6.3
FDb.InfiniumMethylation.hg18 2.2.0 3.6.3
FDb.InfiniumMethylation.hg19 2.2.0 3.6.3
FDb.UCSC.tRNAs 1.0.1 3.6.3
fdrame 1.58.0 3.6.3
fdrtool 1.2.15 3.6.0
feather 0.3.5 3.6.3
feature 1.2.13 3.6.3
FELLA 1.6.0 3.6.3
FEM 3.14.0 3.6.3
ff 2.2-14 3.6.3
ffbase 0.12.8 3.6.3
FField 0.1.0 3.6.3
ffpe 1.30.0 3.6.3
ffpeExampleData 1.24.0 3.6.3
fftwtools 0.9-8 3.6.2
fGarch 3042.83.2 3.6.3
FGNet 3.20.0 3.6.3
fgsea 1.12.0 3.6.3
fibroEset 1.28.0 3.6.3
fields 10.3 3.6.3
filehash 2.4-2 3.6.0
filematrix 1.3 3.6.3
FindMyFriends 1.16.0 3.6.3
findpython 1.0.5 3.6.3
fingerprint 3.5.7 3.6.2
FIs 1.14.0 3.6.3
FISHalyseR 1.20.0 3.6.3
fishpond 1.2.0 3.6.3
fitdistrplus 1.0-14 3.6.3
FitHiC 1.12.0 3.6.3
flagme 1.42.0 3.6.3
flare 1.6.0.2 3.6.3
flashClust 1.01-2 3.6.0
Fletcher2013a 1.22.0 3.6.3
Fletcher2013b 1.22.0 3.6.3
flexclust 1.4-0 3.6.3
flexdashboard 0.5.1.1 3.6.3
flexmix 2.3-15 3.6.3
flowAI 1.16.0 3.6.3
flowBeads 1.24.0 3.6.3
flowBin 1.22.0 3.6.3
flowcatchR 1.20.0 3.6.3
flowCHIC 1.20.0 3.6.3
flowCL 1.24.0 3.6.3
flowClean 1.24.0 3.6.3
flowClust 3.24.0 3.6.3
flowCore 1.52.1 3.6.3
flowCyBar 1.22.0 3.6.3
flowDensity 1.20.0 3.6.3
flowFit 1.24.0 3.6.3
flowFitExampleData 1.22.0 3.6.3
flowFP 1.44.0 3.6.3
flowMap 1.24.0 3.6.3
flowMatch 1.22.0 3.6.3
flowMeans 1.46.0 3.6.3
flowMerge 2.34.0 3.6.3
flowPeaks 1.32.0 3.6.3
flowPloidy 1.12.0 3.6.3
flowPloidyData 1.12.0 3.6.3
flowPlots 1.34.0 3.6.3
FlowRepositoryR 1.18.0 3.6.3
FlowSOM 1.18.0 3.6.3
FlowSorted.Blood.450k 1.24.0 3.6.3
FlowSorted.Blood.EPIC 1.4.1 3.6.3
FlowSorted.CordBloodNorway.450k 1.12.0 3.6.3
flowSpecs 1.0.2 3.6.3
flowSpy 1.0.4 3.6.3
flowStats 3.44.0 3.6.3
flowTime 1.10.0 3.6.3
flowTrans 1.38.0 3.6.3
flowType 2.24.0 3.6.3
flowUtils 1.50.0 3.6.3
flowViz 1.50.0 3.6.3
flowVS 1.18.0 3.6.3
flowWorkspace 3.34.1 3.6.3
flowWorkspaceData 2.22.0 3.6.3
fmcsR 1.28.0 3.6.3
fmsb 0.7.0 3.6.1
FNN 1.1.3 3.6.3
focalCall 1.20.0 3.6.3
FoldGO 1.4.0 3.6.3
fontBitstreamVera 0.1.1 3.6.0
fontLiberation 0.1.0 3.6.0
fontquiver 0.2.1 3.6.3
forcats 0.5.0 3.6.3
foreach 1.5.0 3.6.3
forecast 8.12 3.6.3
foreign 0.8-76 3.6.3
forestplot 1.9 3.6.3
formatR 1.7 3.6.3
Formula 1.2-3 3.6.0
formula.tools 1.7.1 3.6.3
FourCSeq 1.20.0 3.6.3
fpc 2.2-5 3.6.3
fracdiff 1.5-1 3.6.3
freetypeharfbuzz 0.2.5 3.6.3
FRGEpistasis 1.22.0 3.6.3
frma 1.38.0 3.6.3
frmaExampleData 1.22.0 3.6.3
frmaTools 1.38.0 3.6.3
fs 1.4.1 3.6.3
FSelector 0.31 3.6.3
FunChIP 1.12.0 3.6.3
FunciSNP 1.30.0 3.6.3
FunciSNP.data 1.22.0 3.6.3
funtooNorm 1.10.0 3.6.3
futile.logger 1.4.3 3.6.3
futile.options 1.0.1 3.6.0
future 1.16.0 3.6.3
future.apply 1.4.0 3.6.3
GA4GHclient 1.10.0 3.6.3
GA4GHshiny 1.8.0 3.6.3
gaga 2.32.0 3.6.3
gage 2.36.0 3.6.3
gageData 2.24.0 3.6.3
gaggle 1.54.0 3.6.3
gaia 2.30.0 3.6.3
gam 1.16.1 3.6.3
gamlss 5.1-6 3.6.3
gamlss.data 5.1-4 3.6.0
gamlss.dist 5.1-6 3.6.3
gap 1.2.2 3.6.3
GAPGOM 1.2.0 3.6.3
GAprediction 1.12.0 3.6.3
garfield 1.14.0 3.6.3
gargle 0.4.0 3.6.3
GARS 1.6.0 3.6.3
GateFinder 1.6.0 3.6.3
gatingMLData 2.26.0 3.6.3
gbm 2.1.5 3.6.3
gbRd 0.4-11 3.6.0
gcapc 1.10.0 3.6.3
gcatest 1.16.0 3.6.3
gclus 1.3.2 3.6.3
gCrisprTools 1.14.0 3.6.3
gcrma 2.58.0 3.6.3
gcspikelite 1.24.0 3.6.3
GCSscore 1.0.0 3.6.3
gdata 2.18.0 3.6.2
GDCRNATools 1.6.0 3.6.3
GDSArray 1.6.0 3.6.3
gdsfmt 1.22.0 3.6.3
gdtools 0.2.2 3.6.3
geecc 1.20.0 3.6.3
geeM 0.10.1 3.6.3
geepack 1.3-1 3.6.3
GEM 1.12.0 3.6.3
gemini 1.0.0 3.6.3
genalg 0.2.0 3.6.0
genArise 1.62.0 3.6.3
genbankr 1.14.0 3.6.3
GeneAccord 1.4.0 3.6.3
GeneAnswers 2.28.0 3.6.3
geneAttribution 1.12.0 3.6.3
GeneBreak 1.16.0 3.6.3
geneClassifiers 1.10.0 3.6.3
GeneExpressionSignature 1.32.0 3.6.3
genefilter 1.68.0 3.6.3
genefu 2.18.1 3.6.3
GeneGeneInteR 1.12.0 3.6.3
geneLenDataBase 1.22.0 3.6.3
GeneMeta 1.58.0 3.6.3
GeneNet 1.2.14 3.6.2
GeneNetworkBuilder 1.28.1 3.6.3
GeneOverlap 1.22.0 3.6.3
geneplast 1.12.2 3.6.3
geneplast.data.string.v91 0.99.6 3.6.3
geneplotter 1.64.0 3.6.3
geneRecommender 1.58.0 3.6.3
GeneRegionScan 1.42.0 3.6.3
generics 0.0.2 3.6.3
geneRxCluster 1.22.0 3.6.3
GeneSelectMMD 2.30.0 3.6.3
GENESIS 2.16.1 3.6.3
GeneStructureTools 1.6.0 3.6.3
geNetClassifier 1.26.0 3.6.3
genetics 1.3.8.1.2 3.6.3
GeneticsDesign 1.54.0 3.6.3
GeneticsPed 1.48.0 3.6.3
geneXtendeR 1.12.0 3.6.3
GENIE3 1.8.0 3.6.3
GenKern 1.2-60 3.6.3
GENLIB 1.0.7 3.6.3
genoCN 1.38.0 3.6.3
GenoGAM 2.4.0 3.6.3
genomation 1.18.0 3.6.3
genomationData 1.18.0 3.6.3
GenomeGraphs 1.46.0 3.6.3
GenomeInfoDb 1.22.1 3.6.3
GenomeInfoDbData 1.2.2 3.6.3
genomeIntervals 1.42.0 3.6.3
genomes 3.16.0 3.6.3
genomewidesnp5Crlmm 1.0.6 3.6.3
genomewidesnp6Crlmm 1.0.7 3.6.3
GenomicAlignments 1.22.1 3.6.3
GenomicDataCommons 1.10.0 3.6.3
GenomicFeatures 1.38.2 3.6.3
GenomicFiles 1.22.0 3.6.3
GenomicInteractions 1.20.3 3.6.3
GenomicOZone 1.0.0 3.6.3
GenomicRanges 1.38.0 3.6.3
GenomicScores 1.10.0 3.6.3
GenomicState 0.99.9 3.6.3
GenomicTuples 1.20.0 3.6.3
Genominator 1.40.0 3.6.3
genoset 1.42.0 3.6.3
genotypeeval 1.18.0 3.6.3
genphen 1.14.0 3.6.3
GenRank 1.14.0 3.6.3
GenSA 1.1.7 3.6.0
GenVisR 1.18.1 3.6.3
GeoDE 1.0 3.6.3
GEOmap 2.4-4 3.6.3
GEOmetadb 1.48.2 3.6.3
geometry 0.4.5 3.6.3
GEOquery 2.54.1 3.6.3
GEOsubmission 1.38.0 3.6.3
gep2pep 1.6.0 3.6.3
gespeR 1.18.0 3.6.3
getopt 1.20.3 3.6.3
GetoptLong 0.1.8 3.6.3
getPass 0.2-2 3.6.3
GeuvadisTranscriptExpr 1.14.0 3.6.3
geuvPack 1.18.0 3.6.3
geuvStore2 1.16.0 3.6.3
GEWIST 1.30.0 3.6.3
GFA 1.0.3 3.6.0
ggalluvial 0.11.1 3.6.3
GGally 1.5.0 3.6.3
GGBase 3.48.0 3.6.3
ggbeeswarm 0.6.0 3.6.3
ggbio 1.34.0 3.6.3
ggcorrplot 0.1.3 3.6.3
ggcyto 1.14.1 3.6.3
GGdata 1.24.0 3.6.3
ggdendro 0.1-20 3.6.3
ggExtra 0.9 3.6.3
ggforce 0.3.1 3.6.3
ggformula 0.9.4 3.6.3
ggfortify 0.4.9 3.6.3
gghalves 0.1.0 3.6.3
ggimage 0.2.8 3.6.3
ggiraph 0.7.0 3.6.3
ggm 2.5 3.6.3
ggmcmc 1.4.1 3.6.3
ggnetwork 0.5.8 3.6.3
ggplot.multistats 1.0.0 3.6.3
ggplot2 3.3.0 3.6.3
ggplotify 0.0.5 3.6.3
ggpmisc 0.3.3 3.6.3
ggpubr 0.2.5 3.6.3
ggraph 2.0.2 3.6.3
ggrepel 0.8.2 3.6.3
ggridges 0.5.2 3.6.3
ggsci 2.9 3.6.3
ggseqlogo 0.1 3.6.3
ggsignif 0.6.0 3.6.3
ggstance 0.3.4 3.6.3
ggthemes 4.2.0 3.6.3
GGtools 5.22.0 3.6.3
ggtree 2.0.4 3.6.3
ggupset 0.2.1 3.6.3
ggvis 0.4.5 3.6.3
gh 1.1.0 3.6.3
GIGSEA 1.4.0 3.6.3
girafe 1.38.0 3.6.3
GISPA 1.10.0 3.6.3
gistr 0.5.0 3.6.3
git2r 0.26.1 3.6.3
GLAD 2.50.0 3.6.3
GladiaTOX 1.2.0 3.6.3
glasso 1.11 3.6.1
gld 2.6.2 3.6.3
Glimma 1.14.0 3.6.3
glm2 1.2.1 3.6.0
glmmTMB 1.0.1 3.6.3
glmnet 3.0-2 3.6.3
glmSparseNet 1.4.0 3.6.3
GlobalAncova 4.4.0 3.6.3
GlobalOptions 0.1.1 3.6.3
globals 0.12.5 3.6.1
globalSeq 1.14.0 3.6.3
globaltest 5.40.0 3.6.3
glpkAPI 1.3.2 3.6.2
glue 1.4.0 3.6.3
GmicR 1.0.6 3.6.3
gmm 1.6-4 3.6.3
gmodels 2.18.1 3.6.3
gmp 0.5-13.6 3.6.3
GMRP 1.14.0 3.6.3
GNET2 1.2.0 3.6.3
gnm 1.1-1 3.6.3
GO.db 3.10.0 3.6.3
GOexpress 1.20.0 3.6.3
goftest 1.2-2 3.6.1
GOfuncR 1.6.1 3.6.3
GOFunction 1.34.0 3.6.3
golubEsets 1.28.0 3.6.3
googleAuthR 1.1.1 3.6.3
googleVis 0.6.4 3.6.3
GOpro 1.12.0 3.6.3
goProfiles 1.48.0 3.6.3
goric 1.1-0 3.6.3
GOSemSim 2.12.1 3.6.3
goseq 1.38.0 3.6.3
GOSim 1.24.0 3.6.3
goSTAG 1.10.0 3.6.3
GOstats 2.52.0 3.6.3
GOsummaries 2.22.0 3.6.3
GOTHiC 1.22.0 3.6.3
goTools 1.60.0 3.6.3
gower 0.2.1 3.6.1
gpart 1.4.0 3.6.3
GPfit 1.0-8 3.6.3
gplots 3.0.3 3.6.3
gpls 1.58.0 3.6.3
gprege 1.30.0 3.6.3
gProfileR 0.7.0 3.6.3
gprofiler2 0.1.8 3.6.3
gptk 1.08 3.6.3
gQTLBase 1.18.0 3.6.3
gQTLstats 1.18.0 3.6.3
gRain 1.3-4 3.6.3
gramm4R 1.0.0 3.6.3
graper 1.2.0 3.6.3
graph 1.64.0 3.6.3
GraphAlignment 1.50.0 3.6.3
GraphAT 1.58.0 3.6.3
graphics 3.6.3 3.6.3
graphite 1.32.0 3.6.3
graphlayouts 0.6.0 3.6.3
GraphPAC 1.28.0 3.6.3
grasp2db 1.1.0 3.6.3
gRbase 1.8-6.4 3.6.3
grDevices 3.6.3 3.6.3
GRENITS 1.38.0 3.6.3
GreyListChIP 1.18.0 3.6.3
grid 3.6.3 3.6.3
gridBase 0.4-7 3.6.3
gridExtra 2.3 3.6.3
gridGraphics 0.5-0 3.6.3
gridSVG 1.7-1 3.6.3
grImport 0.9-3 3.6.3
grImport2 0.2-0 3.6.3
GRmetrics 1.12.2 3.6.3
grndata 1.18.0 3.6.3
groHMM 1.20.0 3.6.3
grr 0.9.5 3.6.0
GRridge 1.10.0 3.6.3
GSA 1.03.1 3.6.0
GSALightning 1.14.0 3.6.3
GSAR 1.20.0 3.6.3
GSBenchMark 1.6.0 3.6.3
GSCA 2.16.0 3.6.3
gscreend 1.0.0 3.6.3
GSE62944 1.14.0 3.6.3
GSEABase 1.48.0 3.6.3
GSEABenchmarkeR 1.6.4 3.6.3
GSEAlm 1.46.0 3.6.3
gsean 1.6.0 3.6.3
gsl 2.1-6 3.6.0
gsmoothr 0.1.7 3.6.0
GSReg 1.20.0 3.6.3
GSRI 2.34.0 3.6.3
gss 2.1-12 3.6.3
gsubfn 0.7 3.6.3
GSVA 1.34.0 3.6.3
GSVAdata 1.22.0 3.6.3
gtable 0.3.0 3.6.3
gtools 3.8.2 3.6.3
gtrellis 1.18.0 3.6.3
GUIDEseq 1.16.0 3.6.3
Guitar 2.2.0 3.6.3
Gviz 1.30.3 3.6.3
gwascat 2.18.0 3.6.3
GWASdata 1.24.0 3.6.3
GWASExactHW 1.01 3.6.0
GWASTools 1.32.0 3.6.3
gwasurvivr 1.4.0 3.6.3
gWidgets 0.0-54.1 3.6.3
gWidgets2 1.0-8 3.6.3
gWidgets2RGtk2 1.0-7 3.6.3
gWidgetsRGtk2 0.0-86 3.6.3
h5vc 2.20.0 3.6.3
h5vcData 2.6.0 3.6.3
hapFabia 1.28.0 3.6.3
haplo.stats 1.7.9 3.6.3
hapmap100kxba 1.28.0 3.6.3
hapmapsnp5 1.28.0 3.6.3
hapmapsnp6 1.28.0 3.6.3
HardyWeinberg 1.6.3 3.6.3
Harman 1.14.0 3.6.3
HarmanData 1.14.0 3.6.3
HarmonizedTCGAData 1.8.0 3.6.3
Harshlight 1.58.0 3.6.3
hash 2.2.6.1 3.6.3
hashmap 0.2.2 3.6.3
haven 2.2.0 3.6.3
HCABrowser 1.2.0 3.6.3
HCAExplorer 1.0.0 3.6.3
HDCytoData 1.6.6 3.6.3
HDF5Array 1.14.4 3.6.3
HDTD 1.20.0 3.6.3
healthyFlowData 1.24.0 3.6.3
heatmap.plus 1.3 3.6.0
heatmap3 1.1.7 3.6.3
heatmaply 1.1.0 3.6.3
heatmaps 1.10.0 3.6.3
Heatplus 2.32.1 3.6.3
HEEBOdata 1.24.0 3.6.3
HelloRanges 1.12.0 3.6.3
HelloRangesData 1.12.0 3.6.3
HELP 1.44.0 3.6.3
HEM 1.58.0 3.6.3
here 0.1 3.6.3
hexbin 1.28.1 3.6.3
hgfocuscdf 2.18.0 3.6.3
hgfocusprobe 2.18.0 3.6.3
hgu133a.db 3.2.3 3.6.3
hgu133a2.db 3.2.3 3.6.3
hgu133acdf 2.18.0 3.6.3
hgu133afrmavecs 1.5.0 3.6.3
hgu133aprobe 2.18.0 3.6.3
hgu133atagcdf 2.18.0 3.6.3
hgu133atagprobe 2.18.0 3.6.3
hgu133plus2.db 3.2.3 3.6.3
hgu133plus2cdf 2.18.0 3.6.3
hgu133plus2CellScore 1.6.0 3.6.3
hgu133plus2probe 2.18.0 3.6.3
hgu95a.db 3.2.3 3.6.3
hgu95acdf 2.18.0 3.6.3
hgu95av2 2.2.0 3.6.3
hgu95av2.db 3.2.3 3.6.3
hgu95av2cdf 2.18.0 3.6.3
hgu95av2probe 2.18.0 3.6.3
hgug4112a.db 3.2.3 3.6.3
HH 3.1-40 3.6.3
hiAnnotator 1.20.0 3.6.3
HIBAG 1.22.0 3.6.3
HiCBricks 1.4.0 3.6.3
HiCcompare 1.8.0 3.6.3
HiCDataHumanIMR90 1.6.0 3.6.3
HiCDataLymphoblast 1.22.0 3.6.3
hicrep 1.10.0 3.6.3
HiddenMarkov 1.8-11 3.6.0
hierGWAS 1.16.0 3.6.3
hierinf 1.4.0 3.6.3
highcharter 0.7.0 3.6.3
highlight 0.5.0 3.6.1
highr 0.8 3.6.3
HilbertCurve 1.16.0 3.6.3
HilbertVis 1.44.0 3.6.3
HilbertVisGUI 1.44.0 3.6.3
HiLDA 1.0.0 3.6.3
hipathia 2.2.1 3.6.3
HIREewas 1.4.0 3.6.3
HiTC 1.30.0 3.6.3
HiveR 0.3.42 3.6.3
hmdbQuery 1.6.1 3.6.3
Hmisc 4.4-0 3.6.3
HMMcopy 1.28.1 3.6.3
hms 0.5.3 3.6.3
hom.Dm.inp.db 3.1.2 3.6.3
hom.Hs.inp.db 3.1.2 3.6.3
hom.Mm.inp.db 3.1.2 3.6.3
hom.Rn.inp.db 3.1.2 3.6.3
hom.Sc.inp.db 3.1.2 3.6.3
Homo.sapiens 1.3.1 3.6.3
hopach 2.46.0 3.6.3
howmany 0.3-1 3.6.0
HPAanalyze 1.4.3 3.6.3
hpar 1.28.0 3.6.3
HSMMSingleCell 1.6.0 3.6.3
htmlTable 1.13.3 3.6.3
htmltools 0.4.0 3.6.3
HTMLUtils 0.1.7 3.6.3
htmlwidgets 1.5.1 3.6.3
HTqPCR 1.40.0 3.6.3
HTSanalyzeR 2.38.0 3.6.3
HTSCluster 2.0.8 3.6.3
HTSFilter 1.26.0 3.6.3
httpcode 0.3.0 3.6.3
httptest 3.3.0 3.6.3
httpuv 1.5.2 3.6.3
httr 1.4.1 3.6.3
hu6800.db 3.2.3 3.6.3
huge 1.3.4.1 3.6.3
hugene10sttranscriptcluster.db 8.7.0 3.6.3
human.db0 3.10.0 3.6.3
human370v1cCrlmm 1.0.2 3.6.3
human610quadv1bCrlmm 1.0.3 3.6.3
HumanAffyData 1.12.0 3.6.3
humanCHRLOC 2.1.6 3.6.3
humanStemCell 0.26.0 3.6.3
HumanTranscriptomeCompendium 1.2.0 3.6.3
hunspell 3.0 3.6.3
hwriter 1.3.2 3.6.0
HybridMTest 1.30.0 3.6.3
hypeR 1.2.0 3.6.3
hyperdraw 1.38.0 3.6.3
hypergea 1.3.6 3.6.2
hypergraph 1.58.0 3.6.3
iASeq 1.30.0 3.6.3
iasva 1.4.0 3.6.3
iBBiG 1.30.0 3.6.3
ibh 1.34.0 3.6.3
iBMQ 1.26.0 3.6.3
ic.infer 1.1-6 3.6.3
iC10 1.5 3.6.3
iC10TrainingData 1.3.1 3.6.0
ica 1.0-2 3.6.0
iCARE 1.14.0 3.6.3
Icens 1.58.0 3.6.3
icetea 1.4.0 3.6.3
iCheck 1.16.0 3.6.3
iChip 1.40.0 3.6.3
iCluster 2.1.0 3.6.3
iClusterPlus 1.22.0 3.6.3
iCNV 1.6.0 3.6.3
iCOBRA 1.14.0 3.6.3
ICS 1.3-1 3.6.3
ICSNP 1.1-1 3.6.3
ideal 1.10.0 3.6.3
IdeoViz 1.22.0 3.6.3
idiogram 1.62.0 3.6.3
IdMappingAnalysis 1.30.0 3.6.3
IdMappingRetrieval 1.34.0 3.6.3
IDPmisc 1.1.20 3.6.3
idr 1.2 3.6.0
idr2d 1.0.4 3.6.3
ifultools 2.0-5 3.6.3
iGC 1.16.0 3.6.3
IgGeneUsage 1.0.1 3.6.3
igraph 1.2.5 3.6.3
igraphdata 1.0.1 3.6.3
igvR 1.6.1 3.6.3
iheatmapr 0.4.12 3.6.3
IHW 1.14.0 3.6.3
Illumina450ProbeVariants.db 1.22.0 3.6.3
IlluminaDataTestFiles 1.24.0 3.6.3
IlluminaHumanMethylation450kanno.ilmn12.hg19 0.6.0 3.6.3
IlluminaHumanMethylation450kmanifest 0.4.0 3.6.3
IlluminaHumanMethylationEPICanno.ilm10b2.hg19 0.6.0 3.6.3
IlluminaHumanMethylationEPICanno.ilm10b4.hg19 0.6.0 3.6.3
IlluminaHumanMethylationEPICmanifest 0.3.0 3.6.3
illuminaHumanv1.db 1.26.0 3.6.3
illuminaHumanv3.db 1.26.0 3.6.3
illuminaHumanv4.db 1.26.0 3.6.3
illuminaio 0.28.0 3.6.3
imageHTS 1.36.0 3.6.3
IMAS 1.10.0 3.6.3
Imetagene 1.16.0 3.6.3
IMMAN 1.6.0 3.6.3
ImmuneSpaceR 1.14.1 3.6.3
immunoClust 1.18.1 3.6.3
imp4p 0.8 3.6.3
IMPCdata 1.22.0 3.6.3
import 1.1.0 3.6.3
ImpulseDE 1.12.0 3.6.3
ImpulseDE2 1.10.0 3.6.3
impute 1.60.0 3.6.3
imputeLCMD 2.0 3.6.3
inaparc 1.1.0 3.6.3
INDEED 2.0.0 3.6.3
ineq 0.2-13 3.6.0
infercnv 1.2.1 3.6.3
influenceR 0.1.0 3.6.3
infotheo 1.2.0 3.6.0
ini 0.3.1 3.6.3
inline 0.3.15 3.6.3
InPAS 1.18.0 3.6.3
INPower 1.22.0 3.6.3
insight 0.8.2 3.6.3
INSPEcT 1.16.3 3.6.3
InTAD 1.6.0 3.6.3
intansv 1.26.1 3.6.3
InteractionSet 1.14.0 3.6.3
interactiveDisplay 1.24.0 3.6.3
interactiveDisplayBase 1.24.0 3.6.3
IntEREst 1.10.2 3.6.3
intergraph 2.0-2 3.6.3
InterMineR 1.8.1 3.6.3
intervals 0.15.2 3.6.3
IntramiRExploreR 1.8.0 3.6.3
inum 1.0-1 3.6.3
InvariantCausalPrediction 0.8 3.6.3
inveRsion 1.34.0 3.6.3
investr 1.4.0 3.6.3
invgamma 1.1 3.6.0
IONiseR 2.10.0 3.6.3
iPAC 1.30.0 3.6.3
ipdDb 1.4.0 3.6.3
IPO 1.12.0 3.6.3
IPPD 1.34.0 3.6.3
ipred 0.9-9 3.6.3
IRanges 2.20.2 3.6.3
irlba 2.3.3 3.6.3
irr 0.84.1 3.6.2
isa2 0.3.5 3.6.3
iSEE 1.6.1 3.6.3
iSeq 1.38.0 3.6.3
ismev 1.42 3.6.3
Iso 0.0-18 3.6.0
isoband 0.2.1 3.6.3
isobar 1.32.0 3.6.3
IsoCorrectoR 1.4.1 3.6.3
IsoCorrectoRGUI 1.2.0 3.6.3
IsoformSwitchAnalyzeR 1.8.0 3.6.3
IsoGene 1.0-24 3.6.3
IsoGeneGUI 2.22.0 3.6.3
ISoLDE 1.14.0 3.6.3
isomiRs 1.14.0 3.6.3
isva 1.9 3.6.3
ITALICS 2.46.0 3.6.3
ITALICSData 2.24.0 3.6.3
iterativeBMA 1.44.0 3.6.3
iterativeBMAsurv 1.44.0 3.6.3
iterators 1.0.12 3.6.3
iterClust 1.8.0 3.6.3
iteremoval 1.6.0 3.6.3
itertools 0.1-3 3.6.3
IVAS 2.6.0 3.6.3
ivygapSE 1.8.0 3.6.3
IWTomics 1.10.0 3.6.3
jackstraw 1.3 3.6.3
JADE 2.0-3 3.6.3
JASPAR2014 1.22.0 3.6.3
JASPAR2016 1.14.0 3.6.3
JASPAR2018 1.1.1 3.6.3
JctSeqData 1.16.0 3.6.3
joda 1.34.0 3.6.3
jpeg 0.1-8.1 3.6.1
jsonlite 1.6.1 3.6.3
JunctionSeq 1.16.0 3.6.3
kableExtra 1.1.0 3.6.3
kappalab 0.4-7 3.6.2
karyoploteR 1.12.4 3.6.3
KCsmart 2.44.0 3.6.3
kebabs 1.20.0 3.6.3
KEGG.db 3.2.3 3.6.3
KEGGandMetacoreDzPathwaysGEO 1.6.0 3.6.3
KEGGdzPathwaysGEO 1.24.0 3.6.3
KEGGgraph 1.46.0 3.6.3
KEGGlincs 1.12.0 3.6.3
keggorthology 2.38.0 3.6.3
KEGGprofile 1.28.0 3.6.3
KEGGREST 1.26.1 3.6.3
keras 2.2.5.0 3.6.3
kernlab 0.9-29 3.6.1
KernSmooth 2.23-16 3.6.3
kimod 1.14.0 3.6.3
kinship2 1.8.5 3.6.3
KinSwingR 1.4.0 3.6.3
kissDE 1.6.0 3.6.3
kknn 1.3.1 3.6.3
klaR 0.6-15 3.6.3
km.ci 0.5-2 3.6.3
KMsurv 0.1-5 3.6.0
knitcitations 1.0.10 3.6.3
knitr 1.28 3.6.3
knitrBootstrap 1.0.2 3.6.3
knn.covertree 1.0 3.6.3
KnowSeq 1.0.0 3.6.3
KOdata 1.12.0 3.6.3
kohonen 3.0.10 3.6.3
kpeaks 1.1.0 3.6.2
kpmt 0.1.0 3.6.3
ks 1.11.7 3.6.3
kSamples 1.2-9 3.6.3
kza 4.1.0.1 3.6.3
labeling 0.3 3.6.0
labelled 2.2.2 3.6.3
laeken 0.5.1 3.6.3
lambda.r 1.2.4 3.6.3
LaplacesDemon 16.1.4 3.6.3
lapmix 1.52.0 3.6.3
lars 1.2 3.6.0
lasso2 1.2-20 3.6.0
lassopv 0.2.0 3.6.0
lassoshooting 0.1.5-1 3.6.0
later 1.0.0 3.6.3
latex2exp 0.4.0 3.6.3
lattice 0.20-41 3.6.3
latticeExtra 0.6-29 3.6.3
lava 1.6.7 3.6.3
lavaan 0.6-5 3.6.3
lazyeval 0.2.2 3.6.3
LBE 1.54.0 3.6.3
ldblock 1.16.0 3.6.3
LEA 2.8.0 3.6.3
leaps 3.1 3.6.3
learnr 0.10.1 3.6.3
LedPred 1.20.0 3.6.3
leeBamViews 1.22.0 3.6.3
leiden 0.3.3 3.6.3
les 1.36.0 3.6.3
leukemiasEset 1.22.0 3.6.3
levi 1.4.2 3.6.3
lfa 1.16.0 3.6.3
lfda 1.1.3 3.6.3
lhs 1.0.2 3.6.3
libcoin 1.0-5 3.6.3
LiblineaR 2.10-8 3.6.0
lifecycle 0.2.0 3.6.3
LIM 1.4.6 3.6.3
limma 3.42.2 3.6.3
limmaGUI 1.62.0 3.6.3
limSolve 1.5.6 3.6.3
LINC 1.14.0 3.6.3
LineagePulse 1.6.0 3.6.3
linkcomm 1.0-12 3.6.3
LinkHD 1.0.0 3.6.3
Linnorm 2.10.0 3.6.3
linprog 0.9-2 3.6.2
lintr 2.0.1 3.6.3
lionessR 1.0.0 3.6.3
lipidr 2.0.0 3.6.3
LiquidAssociation 1.40.0 3.6.3
listarrays 0.3.1 3.6.3
listenv 0.8.0 3.6.3
listviewer 3.0.0 3.6.3
lmdme 1.28.0 3.6.3
lme4 1.1-23 3.6.3
lmerTest 3.1-2 3.6.3
LMGene 2.42.0 3.6.3
lmom 2.8 3.6.0
Lmoments 1.3-1 3.6.3
lmtest 0.9-37 3.6.3
LOBSTAHS 1.12.0 3.6.3
locfdr 1.1-8 3.6.0
locfit 1.5-9.4 3.6.3
loci2path 1.6.0 3.6.3
locpol 0.7-0 3.6.0
log4r 0.3.2 3.6.3
logging 0.10-108 3.6.3
logicFS 2.6.2 3.6.3
LogicReg 1.6.2 3.6.3
logistf 1.23 3.6.3
logitT 1.44.0 3.6.3
Logolas 1.10.0 3.6.3
logspline 2.1.15 3.6.1
lokern 1.1-8 3.6.3
lol 1.34.0 3.6.3
LOLA 1.16.0 3.6.3
longitudinal 1.1.12 3.6.0
longitudinalData 2.4.1 3.6.3
loo 2.2.0 3.6.3
LoomExperiment 1.4.0 3.6.3
loose.rock 1.0.16 3.6.3
LowMACA 1.16.0 3.6.3
LowMACAAnnotation 0.99.3 3.6.3
LPE 1.60.0 3.6.3
LPEadj 1.46.0 3.6.3
lpNet 2.18.0 3.6.3
lpSolve 5.6.15 3.6.2
lpSolveAPI 5.5.2.0-17.6 3.6.2
lpsymphony 1.14.0 3.6.3
LRBase.Hsa.eg.db 1.2.0 3.6.3
LRBase.Mmu.eg.db 1.2.0 3.6.3
LRBaseDbi 1.4.0 3.6.3
lsa 0.73.1 3.6.3
LSD 4.0-0 3.6.0
lsei 1.2-0 3.6.0
lsr 0.5 3.6.0
lubridate 1.7.8 3.6.3
lumi 2.38.0 3.6.3
lumiBarnes 1.26.0 3.6.3
lumiHumanAll.db 1.22.0 3.6.3
lumiHumanIDMapping 1.10.1 3.6.3
LungCancerACvsSCCGEO 1.22.0 3.6.3
LungCancerLines 0.24.0 3.6.3
lungExpression 0.24.0 3.6.3
LVSmiRNA 1.36.0 3.6.3
lydata 1.12.0 3.6.3
LymphoSeq 1.14.0 3.6.3
LymphoSeqDB 0.99.2 3.6.3
M3C 1.8.0 3.6.3
M3D 1.20.0 3.6.3
M3DExampleData 1.12.0 3.6.3
M3Drop 1.12.0 3.6.3
maanova 1.56.0 3.6.3
Maaslin2 1.0.0 3.6.3
macat 1.60.0 3.6.3
maCorrPlot 1.56.0 3.6.3
MACPET 1.6.0 3.6.3
macrophage 1.2.0 3.6.3
MACSQuantifyR 1.0.1 3.6.3
made4 1.60.0 3.6.3
MADSEQ 1.12.0 3.6.3
MafDb.1Kgenomes.phase1.hs37d5 3.10.0 3.6.3
MafDb.1Kgenomes.phase3.GRCh38 3.10.0 3.6.3
MafDb.1Kgenomes.phase3.hs37d5 3.10.0 3.6.3
MafDb.ESP6500SI.V2.SSA137.hs37d5 3.10.0 3.6.3
MafDb.ExAC.r1.0.hs37d5 3.10.0 3.6.3
MafDb.gnomADex.r2.1.hs37d5 3.10.0 3.6.3
maftools 2.2.10 3.6.3
MAGeCKFlute 1.6.5 3.6.3
magic 1.5-9 3.6.0
magicaxis 2.0.10 3.6.3
magick 2.3 3.6.3
magrittr 1.5 3.6.3
maigesPack 1.50.0 3.6.3
MAIT 1.20.0 3.6.3
makecdfenv 1.62.0 3.6.3
MALDIquant 1.19.3 3.6.3
manipulateWidget 0.10.1 3.6.3
MANOR 1.58.0 3.6.3
manta 1.32.0 3.6.3
MantelCorr 1.56.0 3.6.3
mapdata 2.3.0 3.6.3
mAPKL 1.16.0 3.6.3
mAPKLData 1.18.0 3.6.3
mapplots 1.5.1 3.6.2
mapproj 1.2.7 3.6.3
maPredictDSC 1.24.0 3.6.3
maps 3.3.0 3.6.3
mapscape 1.10.0 3.6.3
maptools 0.9-9 3.6.3
maptree 1.4-7 3.6.3
maqcExpression4plex 1.30.0 3.6.3
MAQCsubset 1.24.0 3.6.3
MAQCsubsetAFX 1.24.0 3.6.3
markdown 1.1 3.6.3
marray 1.64.0 3.6.3
martini 1.6.0 3.6.3
maser 1.4.0 3.6.3
maSigPro 1.58.0 3.6.3
maskBAD 1.30.0 3.6.3
MASS 7.3-51.5 3.6.3
MassArray 1.38.0 3.6.3
massiR 1.22.0 3.6.3
MassSpecWavelet 1.52.0 3.6.3
MAST 1.12.0 3.6.3
matchBox 1.28.0 3.6.3
Matching 4.9-7 3.6.3
matlab 1.0.2 3.6.0
Matrix 1.2-18 3.6.3
Matrix.utils 0.9.8 3.6.3
matrixcalc 1.0-3 3.6.0
MatrixCorrelation 0.9.2 3.6.3
MatrixModels 0.4-1 3.6.3
MatrixRider 1.18.0 3.6.3
matrixStats 0.56.0 3.6.3
matrixTests 0.1.8 3.6.3
matter 1.12.0 3.6.3
MaxContrastProjection 1.10.0 3.6.3
maxLik 1.3-8 3.6.3
maxstat 0.7-25 3.6.3
MBA 0.0-9 3.6.3
MBAmethyl 1.20.0 3.6.3
MBASED 1.20.0 3.6.3
MBCB 1.40.0 3.6.3
mbkmeans 1.2.0 3.6.3
mboost 2.9-2 3.6.3
mBPCR 1.40.0 3.6.3
MBQN 1.0.1 3.6.3
MBttest 1.14.0 3.6.3
mcaGUI 1.34.0 3.6.3
MCbiclust 1.10.0 3.6.3
mcbiopi 1.1.6 3.6.0
MCL 1.0 3.6.3
mclust 5.4.6 3.6.3
mcmc 0.9-7 3.6.3
MCMCglmm 2.29 3.6.3
MCMCpack 1.4-6 3.6.3
MCMCprecision 0.4.0 3.6.3
MCRestimate 2.42.0 3.6.3
mCSEA 1.6.0 3.6.3
mCSEAdata 1.6.0 3.6.3
mdgsa 1.18.0 3.6.3
mdp 1.6.0 3.6.3
mdqc 1.48.0 3.6.3
MDTS 1.6.0 3.6.3
MEAL 1.16.2 3.6.3
MeasurementError.cor 1.58.0 3.6.3
MEB 1.0.0 3.6.3
MEDIPS 1.38.0 3.6.3
MEDIPSData 1.22.0 3.6.3
MEDME 1.46.0 3.6.3
MEEBOdata 1.24.0 3.6.3
mefa 3.2-7 3.6.3
MEIGOR 1.20.0 3.6.3
Melissa 1.2.0 3.6.3
memoise 1.1.0 3.6.3
memuse 4.1-0 3.6.2
MergeMaid 2.58.0 3.6.3
Mergeomics 1.14.0 3.6.3
MeSH.Aca.eg.db 1.13.0 3.6.3
MeSH.AOR.db 1.13.0 3.6.3
MeSH.Bsu.168.eg.db 1.13.0 3.6.3
MeSH.Cel.eg.db 1.13.0 3.6.3
MeSH.db 1.13.0 3.6.3
MeSH.Hsa.eg.db 1.13.0 3.6.3
MeSH.Mmu.eg.db 1.13.0 3.6.3
MeSH.PCR.db 1.13.0 3.6.3
MeSH.Syn.eg.db 1.13.0 3.6.3
MeSHDbi 1.22.0 3.6.3
meshes 1.12.0 3.6.3
meshr 1.22.0 3.6.3
MESS 0.5.6 3.6.3
messina 1.22.0 3.6.3
metaArray 1.64.0 3.6.3
Metab 1.20.0 3.6.3
metabomxtr 1.20.0 3.6.3
MetaboSignal 1.16.0 3.6.3
metaCCA 1.14.0 3.6.3
MetaCycle 1.2.0 3.6.3
MetaCyto 1.8.0 3.6.3
metafor 2.4-0 3.6.3
metagene 2.18.0 3.6.3
metagene2 1.2.1 3.6.3
metagenomeFeatures 2.6.0 3.6.3
metagenomeSeq 1.28.2 3.6.3
metahdep 1.44.0 3.6.3
metaMA 3.1.2 3.6.3
metaMS 1.22.0 3.6.3
metaMSdata 1.22.0 3.6.3
MetaNeighbor 1.6.0 3.6.3
metap 1.3 3.6.3
metaSeq 1.26.0 3.6.3
metaseqR 1.26.0 3.6.3
metavizr 1.10.0 3.6.3
MetaVolcanoR 1.0.1 3.6.3
MetCirc 1.16.0 3.6.3
MethCP 1.0.2 3.6.3
methimpute 1.8.0 3.6.3
methInheritSim 1.8.0 3.6.3
methods 3.6.3 3.6.3
MethPed 1.14.0 3.6.3
methrix 1.0.05 3.6.3
MethTargetedNGS 1.18.0 3.6.3
methVisual 1.38.0 3.6.3
methyAnalysis 1.28.0 3.6.3
MethylAid 1.20.0 3.6.3
MethylAidData 1.18.0 3.6.3
methylCC 1.0.0 3.6.3
methylGSA 1.4.9 3.6.3
methylInheritance 1.10.0 3.6.3
methylKit 1.12.0 3.6.3
MethylMix 2.16.0 3.6.3
methylMnM 1.24.0 3.6.3
methylPipe 1.20.0 3.6.3
MethylSeekR 1.26.0 3.6.3
methylumi 2.32.0 3.6.3
methyvim 1.8.0 3.6.3
methyvimData 1.8.0 3.6.3
MetID 1.4.0 3.6.3
MetNet 1.4.2 3.6.3
mfa 1.8.0 3.6.3
Mfuzz 2.46.0 3.6.3
mgcv 1.8-31 3.6.3
MGFM 1.20.0 3.6.3
MGFR 1.12.0 3.6.3
mgsa 1.34.0 3.6.3
mGSZ 1.0 3.6.3
mhsmm 0.4.16 3.6.2
mice 3.8.0 3.6.3
MiChip 1.40.0 3.6.3
microbenchmark 1.4-7 3.6.3
microbiome 1.8.0 3.6.3
microbiomeDASim 1.0.0 3.6.3
microRNA 1.44.0 3.6.3
MIGSA 1.10.1 3.6.3
MIGSAdata 1.10.0 3.6.3
mimager 1.10.0 3.6.3
mime 0.9 3.6.2
MIMOSA 1.24.0 3.6.3
MineICA 1.26.0 3.6.3
minerva 1.5.8 3.6.3
minet 3.44.1 3.6.3
minfi 1.32.0 3.6.3
minfiData 0.32.0 3.6.3
minfiDataEPIC 1.12.0 3.6.3
MinimumDistance 1.30.0 3.6.3
minionSummaryData 1.16.0 3.6.3
miniUI 0.1.1.1 3.6.3
minpack.lm 1.2-1 3.6.3
minqa 1.2.4 3.6.3
MiPP 1.58.0 3.6.3
MIRA 1.8.0 3.6.3
MiRaGE 1.28.0 3.6.3
mirbase.db 1.2.0 3.6.3
miRBaseConverter 1.10.1 3.6.3
miRBaseVersions.db 1.1.0 3.6.3
miRcomp 1.16.0 3.6.3
miRcompData 1.16.0 3.6.3
mirIntegrator 1.16.0 3.6.3
miRLAB 1.16.0 3.6.3
miRmine 1.8.0 3.6.3
mirna10cdf 2.18.0 3.6.3
miRNAmeConverter 1.14.0 3.6.3
miRNApath 1.46.0 3.6.3
miRNAtap 1.20.0 3.6.3
miRNAtap.db 0.99.10 3.6.3
miRNATarget 1.24.0 3.6.3
miRSM 1.4.1 3.6.3
miRspongeR 1.12.0 3.6.3
Mirsynergy 1.22.0 3.6.3
misc3d 0.8-4 3.6.3
miscTools 0.6-26 3.6.3
missForest 1.4 3.6.3
missMethyl 1.20.4 3.6.3
missRows 1.6.0 3.6.3
mitoODE 1.24.0 3.6.3
mitoODEdata 1.22.0 3.6.3
mitools 2.4 3.6.3
mixOmics 6.10.9 3.6.3
mixsmsn 1.1-6 3.6.2
mixsqp 0.3-17 3.6.3
mixtools 1.2.0 3.6.3
mlbench 2.1-1 3.6.3
MLInterfaces 1.66.5 3.6.3
MLmetrics 1.1.1 3.6.3
MLP 1.34.0 3.6.3
mlr 2.17.1 3.6.3
MLSeq 2.4.0 3.6.3
mltools 0.3.5 3.6.3
MMDiff2 1.14.0 3.6.3
MMDiffBamSubset 1.22.0 3.6.3
MmPalateMiRNA 1.36.0 3.6.3
MMUPHin 1.0.0 3.6.3
mnem 1.2.0 3.6.3
mnormt 1.5-6 3.6.2
MODA 1.12.0 3.6.3
modeest 2.4.0 3.6.3
ModelMetrics 1.2.2.2 3.6.3
modelr 0.1.6 3.6.3
modeltools 0.2-23 3.6.3
Modstrings 1.2.1 3.6.3
MOFA 1.2.0 3.6.3
MOFAdata 1.2.0 3.6.3
mogene10sttranscriptcluster.db 8.7.0 3.6.3
mogsa 1.20.0 3.6.3
moments 0.14 3.6.0
mongolite 2.2.0 3.6.3
monocle 2.14.0 3.6.3
MoPS 1.20.0 3.6.3
mosaicCore 0.6.0 3.6.3
mosaics 2.24.0 3.6.3
mosaicsExample 1.24.0 3.6.3
MOSim 1.0.2 3.6.3
motifbreakR 2.0.0 3.6.3
motifcounter 1.10.0 3.6.3
MotifDb 1.28.0 3.6.3
motifmatchr 1.8.0 3.6.3
motifRG 1.30.0 3.6.3
motifStack 1.30.0 3.6.3
MotIV 1.42.0 3.6.3
mouse4302.db 3.2.3 3.6.3
MPFE 1.22.0 3.6.3
mpm 1.0-22 3.6.3
mpmi 0.43 3.6.3
mppa 1.0 3.6.0
mpra 1.8.0 3.6.3
MPRAnalyze 1.4.0 3.6.3
mRMRe 2.1.0 3.6.3
msa 1.18.0 3.6.3
msd16s 1.6.0 3.6.3
msdata 0.26.0 3.6.3
msgbsR 1.10.0 3.6.3
MSGFgui 1.20.0 3.6.3
MSGFplus 1.20.0 3.6.3
msgps 1.3.1 3.6.0
msigdbr 7.0.1 3.6.3
msm 1.6.8 3.6.3
msmsEDA 1.24.0 3.6.3
msmsTests 1.24.0 3.6.3
MSnbase 2.12.0 3.6.3
MSnID 1.20.0 3.6.3
msPurity 1.12.2 3.6.3
msPurityData 1.14.0 3.6.3
MSQC 1.0.2 3.6.3
MSstats 3.18.5 3.6.3
MSstatsBioData 1.8.0 3.6.3
MSstatsQC 2.4.0 3.6.3
MSstatsQCgui 1.6.0 3.6.3
MSstatsSampleSize 1.0.1 3.6.3
MSstatsTMT 1.4.6 3.6.3
mstate 0.2.12 3.6.3
mtbls2 1.16.0 3.6.3
Mulcom 1.36.0 3.6.3
multcomp 1.4-13 3.6.3
multcompView 0.1-8 3.6.3
MultiAssayExperiment 1.12.6 3.6.3
multiClust 1.16.0 3.6.3
multicool 0.1-11 3.6.3
MultiDataSet 1.14.0 3.6.3
multiHiCcompare 1.4.0 3.6.3
MultiMed 2.8.0 3.6.3
multiMiR 1.8.0 3.6.3
multiOmicsViz 1.10.0 3.6.3
multiscan 1.46.0 3.6.3
multtest 2.42.0 3.6.3
MuMIn 1.43.15 3.6.3
munsell 0.5.0 3.6.3
Mus.musculus 1.3.1 3.6.3
muscat 1.0.1 3.6.3
muscle 3.28.0 3.6.3
muStat 1.7.0 3.6.0
MutationalPatterns 1.12.0 3.6.3
mutoss 0.1-12 3.6.3
MVCClass 1.60.0 3.6.3
mvoutData 1.22.0 3.6.3
mvoutlier 2.0.9 3.6.3
mvtnorm 1.1-0 3.6.2
MWASTools 1.10.0 3.6.3
mygene 1.22.0 3.6.3
myvariant 1.16.0 3.6.3
mzID 1.24.0 3.6.3
mzR 2.20.0 3.6.3
nabor 0.5.0 3.6.3
NADA 1.6-1.1 3.6.3
NADfinder 1.10.0 3.6.3
naivebayes 0.9.7 3.6.3
NanoStringDiff 1.16.0 3.6.3
NanoStringQCPro 1.18.0 3.6.3
nanotatoR 1.2.0 3.6.3
NarrowPeaks 1.30.0 3.6.3
naturalsort 0.1.3 3.6.3
NBAMSeq 1.2.1 3.6.3
NbClust 3.0 3.6.0
nbconvertR 1.3.2 3.6.3
NBPSeq 0.3.0 3.6.0
NBSplice 1.4.0 3.6.3
ncdf4 1.17 3.6.1
ncdfFlow 2.32.0 3.6.3
ncGTW 1.0.0 3.6.3
NCmisc 1.1.6 3.6.3
ndexr 1.8.0 3.6.3
NeighborNet 1.4.0 3.6.3
nem 2.60.0 3.6.3
netbiov 1.20.0 3.6.3
nethet 1.18.0 3.6.3
NetPathMiner 1.22.0 3.6.3
NetPreProc 1.1 3.6.0
netprioR 1.12.0 3.6.3
netReg 1.10.0 3.6.3
netresponse 1.46.0 3.6.3
NetSAM 1.26.0 3.6.3
netSmooth 1.6.0 3.6.3
network 1.16.0 3.6.2
networkBMA 2.26.0 3.6.3
networkD3 0.4 3.6.3
ngsReports 1.2.0 3.6.3
nipals 0.7 3.6.3
NISTunits 1.0.1 3.6.0
nlcv 0.3.5 3.6.2
nleqslv 3.3.2 3.6.0
nlme 3.1-147 3.6.3
nloptr 1.2.2.1 3.6.3
NLP 0.2-0 3.6.0
nls2 0.2 3.6.3
NMF 0.22.0 3.6.3
NMFN 2.0 3.6.0
NMI 2.0 3.6.0
nnet 7.3-13 3.6.3
nnlasso 0.3 3.6.0
nnls 1.4 3.6.0
nnNorm 2.50.0 3.6.3
nnTensor 1.0.2 3.6.3
NOISeq 2.30.0 3.6.3
nondetects 2.16.0 3.6.3
nor1mix 1.3-0 3.6.3
norm 1.0-9.5 3.6.0
normalize450K 1.14.0 3.6.3
NormalyzerDE 1.4.0 3.6.3
NormqPCR 1.32.0 3.6.3
normr 1.12.0 3.6.3
nortest 1.0-4 3.6.0
Nozzle.R1 1.1-1 3.6.0
npGSEA 1.22.0 3.6.3
npsurv 0.4-0 3.6.0
nsprcomp 0.5.1-2 3.6.3
NTW 1.36.0 3.6.3
nucleoSim 1.14.0 3.6.3
nucleR 2.18.4 3.6.3
nuCpos 1.4.0 3.6.3
numbers 0.7-5 3.6.3
numDeriv 2016.8-1.1 3.6.0
NuPoP 1.36.0 3.6.3
objectProperties 0.6.5 3.6.0
objectSignals 0.10.2 3.6.0
occugene 1.46.0 3.6.3
OCplus 1.60.0 3.6.3
odseq 1.14.0 3.6.3
OGSA 1.16.0 3.6.3
oligo 1.50.0 3.6.3
oligoClasses 1.48.0 3.6.3
oligoData 1.8.0 3.6.3
OLIN 1.64.0 3.6.3
OLINgui 1.60.0 3.6.3
OmaDB 2.2.0 3.6.3
omicade4 1.26.0 3.6.3
OmicCircos 1.24.0 3.6.3
omicplotR 1.6.1 3.6.3
omicRexposome 1.8.0 3.6.3
OmicsLonDA 1.2.2 3.6.3
OmicsMarkeR 1.18.0 3.6.3
OMICsPCA 1.4.0 3.6.3
OMICsPCAdata 1.4.0 3.6.3
omicsPrint 1.6.0 3.6.3
OmnipathR 1.0.1 3.6.3
Onassis 1.8.2 3.6.3
OnassisJavaLibs 1.8.0 3.6.3
oncomix 1.8.0 3.6.3
OncoScore 1.14.0 3.6.3
OncoSimulR 2.16.1 3.6.3
Oncotree 0.3.3 3.6.3
oneSENSE 1.8.0 3.6.3
onlineFDR 1.4.0 3.6.3
ontologyIndex 2.5 3.6.3
ontologyPlot 1.4 3.6.3
ontoProc 1.8.1 3.6.3
opencpu 2.1.6 3.6.3
openCyto 1.24.0 3.6.3
openPrimeR 1.8.0 3.6.3
openPrimeRui 1.8.0 3.6.3
openssl 1.4.1 3.6.3
openxlsx 4.1.4 3.6.3
operator.tools 1.6.3 3.6.3
oposSOM 2.4.0 3.6.3
oppar 1.14.0 3.6.3
oppti 1.0.0 3.6.3
optimx 2020-4.2 3.6.3
optparse 1.6.4 3.6.3
OPWeight 1.8.0 3.6.3
ORCME 2.0.2 3.6.0
OrderedList 1.58.0 3.6.3
ore 1.6.3 3.6.3
ORFik 1.6.9 3.6.3
org.Ag.eg.db 3.10.0 3.6.3
org.At.tair.db 3.10.0 3.6.3
org.Bt.eg.db 3.10.0 3.6.3
org.Ce.eg.db 3.10.1 3.6.3
org.Cf.eg.db 3.10.0 3.6.3
org.Dm.eg.db 3.10.0 3.6.3
org.Dr.eg.db 3.10.0 3.6.3
org.EcK12.eg.db 3.10.0 3.6.3
org.EcSakai.eg.db 3.10.0 3.6.3
org.Gg.eg.db 3.10.0 3.6.3
org.Hs.eg.db 3.10.0 3.6.3
org.Mm.eg.db 3.10.0 3.6.3
org.Mmu.eg.db 3.10.0 3.6.3
org.Pf.plasmo.db 3.10.0 3.6.3
org.Pt.eg.db 3.10.0 3.6.3
org.Rn.eg.db 3.10.0 3.6.3
org.Sc.sgd.db 3.10.0 3.6.3
org.Ss.eg.db 3.10.0 3.6.3
org.Xl.eg.db 3.10.0 3.6.3
Organism.dplyr 1.14.0 3.6.3
OrganismDbi 1.28.0 3.6.3
OrgMassSpecR 0.5-3 3.6.3
ORIClust 1.0-1 3.6.0
origami 1.0.3 3.6.3
orQA 0.2.1 3.6.3
OSAT 1.34.0 3.6.3
Oscope 1.16.0 3.6.3
OTUbase 1.36.0 3.6.3
OutlierD 1.50.0 3.6.3
outliers 0.14 3.6.0
OUTRIDER 1.4.2 3.6.3
OVESEG 1.2.0 3.6.3
PAA 1.20.0 3.6.3
PADOG 1.28.0 3.6.3
paintmap 1.0 3.6.0
PAIRADISE 1.2.0 3.6.3
paircompviz 1.24.0 3.6.3
PairedData 1.1.1 3.6.3
pairsD3 0.1.0 3.6.3
pamr 1.56.1 3.6.3
pandaR 1.18.0 3.6.3
pander 0.6.3 3.6.3
panelcn.mops 1.8.0 3.6.3
panp 1.56.0 3.6.3
PANR 1.32.0 3.6.3
PANTHER.db 1.0.10 3.6.3
PanVizGenerator 1.14.0 3.6.3
PAPi 1.26.0 3.6.3
parallel 3.6.3 3.6.3
parallelMap 1.5.0 3.6.3
parameters 0.6.1 3.6.3
ParamHelpers 1.14 3.6.3
parathyroidSE 1.24.0 3.6.3
parcor 0.2-6 3.6.3
parglms 1.18.0 3.6.3
parmigene 1.0.2 3.6.0
parody 1.44.0 3.6.3
parsedate 1.2.0 3.6.3
parsetools 0.1.3 3.6.3
party 1.3-4 3.6.3
partykit 1.2-7 3.6.3
pasilla 1.14.0 3.6.3
pasillaBamSubset 0.24.0 3.6.3
PasillaTranscriptExpr 1.14.0 3.6.3
PAST 1.2.8 3.6.3
pastecs 1.3.21 3.6.3
patchwork 1.0.0 3.6.3
Path2PPI 1.16.0 3.6.3
pathifier 1.24.0 3.6.3
PathNet 1.26.1 3.6.3
PathNetData 1.22.0 3.6.3
PathoStat 1.12.0 3.6.3
pathprint 1.16.0 3.6.3
pathprintGEOData 1.16.0 3.6.3
pathRender 1.54.0 3.6.3
pathVar 1.16.0 3.6.3
pathview 1.26.0 3.6.3
pathwayPCA 1.2.0 3.6.3
PathwaySplice 1.10.0 3.6.3
paxtoolsr 1.20.0 3.6.3
pbapply 1.4-2 3.6.1
Pbase 0.26.0 3.6.3
pbivnorm 0.6.0 3.6.0
pbkrtest 0.4-8.6 3.6.3
pbmcapply 1.5.0 3.6.1
pcaExplorer 2.12.0 3.6.3
pcaGoPromoter 1.30.0 3.6.3
pcaGoPromoter.Hs.hg19 1.22.0 3.6.3
pcaGoPromoter.Mm.mm9 1.22.0 3.6.3
pcaGoPromoter.Rn.rn4 1.22.0 3.6.3
pcalg 2.6-10 3.6.3
pcaMethods 1.78.0 3.6.3
PCAN 1.14.0 3.6.3
pcaPP 1.9-73 3.6.2
PCAtools 1.2.0 3.6.3
PCHiCdata 1.14.0 3.6.3
pcot2 1.54.0 3.6.3
PCpheno 1.48.0 3.6.3
pcxn 2.8.0 3.6.3
pcxnData 2.8.0 3.6.3
pd.atdschip.tiling 0.24.0 3.6.3
pd.charm.hg18.example 0.99.4 3.6.3
pd.genomewidesnp.5 3.14.1 3.6.3
pd.genomewidesnp.6 3.14.1 3.6.3
pd.hg.u133a.2 3.12.0 3.6.3
pd.hg.u95a 3.12.0 3.6.3
pd.hg.u95av2 3.12.0 3.6.3
pd.hg18.60mer.expr 3.12.0 3.6.3
pd.huex.1.0.st.v2 3.14.1 3.6.3
pd.hugene.1.0.st.v1 3.14.1 3.6.3
pd.mapping250k.nsp 3.12.0 3.6.3
pd.mapping250k.sty 3.12.0 3.6.3
pd.mapping50k.hind240 3.12.0 3.6.3
pd.mapping50k.xba240 3.12.0 3.6.3
pdc 1.0.3 3.6.3
pdftools 2.3 3.6.3
pdInfoBuilder 1.50.0 3.6.3
pdist 1.2 3.6.0
peakPantheR 1.0.0 3.6.3
PECA 1.22.0 3.6.3
penalized 0.9-51 3.6.3
pepDat 1.6.0 3.6.3
PepsNMR 1.4.0 3.6.3
PepsNMRData 1.4.0 3.6.3
pepStat 1.20.0 3.6.3
pepXMLTab 1.20.0 3.6.3
PERFect 1.0.0 3.6.3
PerfMeas 1.2.1 3.6.0
performance 0.4.5 3.6.3
PerformanceAnalytics 2.0.4 3.6.3
permute 0.9-5 3.6.3
perturbatr 1.6.0 3.6.3
PFAM.db 3.10.0 3.6.3
PGA 1.16.0 3.6.3
pgca 1.10.0 3.6.3
PGSEA 1.60.0 3.6.3
phangorn 2.5.5 3.6.3
phantasus 1.6.0 3.6.3
PharmacoGx 1.17.1 3.6.3
phastCons100way.UCSC.hg19 3.7.2 3.6.3
phastCons100way.UCSC.hg38 3.7.1 3.6.3
phateR 1.0.0 3.6.2
pheatmap 1.0.12 3.6.3
phemd 1.2.0 3.6.3
phenopath 1.10.0 3.6.3
phenoTest 1.34.0 3.6.3
PhenStat 2.22.0 3.6.3
philr 1.12.0 3.6.3
phosphonormalizer 1.10.0 3.6.3
phylobase 0.8.10 3.6.3
PhyloProfile 1.0.7 3.6.3
phyloseq 1.30.0 3.6.3
Pi 1.14.0 3.6.3
piano 2.2.0 3.6.3
picante 1.8.1 3.6.3
pickgene 1.58.0 3.6.3
PICS 2.30.0 3.6.3
Pigengene 1.12.0 3.6.3
pillar 1.4.3 3.6.3
pinfsc50 1.1.0 3.6.0
PING 2.30.0 3.6.3
pingr 2.0.0 3.6.3
pint 1.36.0 3.6.3
pipeFrame 1.2.2 3.6.3
pixmap 0.4-11 3.6.0
pkgbuild 1.0.6 3.6.3
pkgcond 0.1.0 3.6.3
pkgconfig 2.0.3 3.6.3
pkgDepTools 1.52.0 3.6.3
pkgdown 1.5.1 3.6.3
pkgload 1.0.2 3.6.3
pkgmaker 0.31.1 3.6.3
plasFIA 1.14.0 3.6.3
plasmodiumanophelescdf 2.18.0 3.6.3
plethy 1.24.0 3.6.3
plgem 1.58.0 3.6.3
plier 1.56.0 3.6.3
plogr 0.2.0 3.6.3
plot3D 1.3 3.6.3
plotGrouper 1.4.0 3.6.3
plotly 4.9.2.1 3.6.3
plotmo 3.5.6 3.6.3
plotrix 3.7-7 3.6.1
plotROC 2.2.1 3.6.3
PLPE 1.46.0 3.6.3
plrs 1.26.0 3.6.3
pls 2.7-2 3.6.3
plsgenomics 1.5-2 3.6.3
plspm 0.4.9 3.6.3
plsVarSel 0.9.6 3.6.3
plw 1.46.0 3.6.3
plyr 1.8.6 3.6.3
plyranges 1.6.10 3.6.3
PMA 1.2.1 3.6.2
PMCMR 4.3 3.6.3
pmm 1.18.0 3.6.3
png 0.1-7 3.6.0
podkat 1.18.0 3.6.3
pogos 1.6.0 3.6.3
poibin 1.5 3.6.2
PoiClaClu 1.0.2.1 3.6.0
poilog 0.4 3.6.0
polspline 1.1.17 3.6.1
polyclip 1.10-0 3.6.0
polyester 1.22.0 3.6.3
Polyfit 1.20.0 3.6.3
polylabelr 0.1.0 3.6.3
polynom 1.4-0 3.6.3
PolynomF 2.0-3 3.6.3
PolyPhen.Hsapiens.dbSNP131 1.0.2 3.6.3
POST 1.10.0 3.6.3
postlogic 0.1.0.1 3.6.3
PoTRA 1.2.0 3.6.3
PowerExplorer 1.6.0 3.6.3
poweRlaw 0.70.4 3.6.3
powerTCR 1.6.0 3.6.3
ppclust 1.1.0 3.6.3
ppcor 1.1 3.6.3
ppiData 0.24.0 3.6.3
PPInfer 1.12.0 3.6.3
ppiStats 1.52.0 3.6.3
ppls 1.6-1.1 3.6.3
pqsfinder 2.2.0 3.6.3
prabclus 2.3-2 3.6.3
pracma 2.2.9 3.6.3
prada 1.62.0 3.6.3
praise 1.0.0 3.6.3
pram 1.2.0 3.6.3
praznik 8.0.0 3.6.3
prebs 1.26.0 3.6.3
prebsdata 1.22.0 3.6.3
PrecisionTrialDrawer 1.2.1 3.6.3
precrec 0.11 3.6.3
PREDA 1.32.0 3.6.3
PREDAsampledata 0.26.0 3.6.3
preprocessCore 1.48.0 3.6.3
preseqR 4.0.0 3.6.3
prettydoc 0.3.1 3.6.3
prettyGraphs 2.1.6 3.6.0
prettyunits 1.1.1 3.6.3
primirTSS 1.4.0 3.6.3
PRIMME 3.0-0 3.6.3
PrInCE 1.2.0 3.6.3
princurve 2.1.4 3.6.3
printr 0.1 3.6.3
Prize 1.16.0 3.6.3
proBAMr 1.20.0 3.6.3
proBatch 1.2.0 3.6.3
pROC 1.16.2 3.6.3
PROcess 1.62.0 3.6.3
processx 3.4.2 3.6.3
procoil 2.14.0 3.6.3
proDA 1.0.0 3.6.3
prodlim 2019.11.13 3.6.3
proFIA 1.12.0 3.6.3
profileModel 0.6.0 3.6.3
profileplyr 1.2.0 3.6.3
profileScoreDist 1.14.0 3.6.3
profmem 0.5.0 3.6.3
proftools 0.99-2 3.6.3
profvis 0.3.6 3.6.3
progeny 1.8.0 3.6.3
progress 1.2.2 3.6.3
projectR 1.2.0 3.6.3
pRoloc 1.26.0 3.6.3
pRolocdata 1.24.0 3.6.3
pRolocGUI 1.20.0 3.6.3
PROMISE 1.38.0 3.6.3
promises 1.1.0 3.6.3
PROPER 1.18.0 3.6.3
PROPS 1.8.0 3.6.3
Prostar 1.18.6 3.6.3
proteinProfiles 1.26.0 3.6.3
ProteomicsAnnotationHubData 1.16.0 3.6.3
ProteoMM 1.4.0 3.6.3
proteoQC 1.22.0 3.6.3
ProtGenerics 1.18.0 3.6.3
proto 1.0.0 3.6.3
protolite 2.1 3.6.3
protViz 0.6.3 3.6.3
proxy 0.4-23 3.6.3
PRROC 1.3.1 3.6.3
pryr 0.1.4 3.6.3
ps 1.3.2 3.6.3
PSCBS 0.65.0 3.6.3
pscl 1.5.5 3.6.3
PSEA 1.20.0 3.6.3
psichomics 1.12.1 3.6.3
PSICQUIC 1.24.0 3.6.3
pspline 1.0-18 3.6.0
psych 1.9.12.31 3.6.3
psygenet2r 1.18.0 3.6.3
PtH2O2lipids 1.12.0 3.6.3
ptw 1.9-15 3.6.3
pulsedSilac 1.0.1 3.6.3
puma 3.28.0 3.6.3
pumadata 2.22.0 3.6.3
PureCN 1.16.0 3.6.3
purrr 0.3.3 3.6.3
purrrogress 0.1.1 3.6.3
pvac 1.34.0 3.6.3
pvca 1.26.0 3.6.3
pvclust 2.2-0 3.6.3
Pviz 1.20.0 3.6.3
PWMEnrich 4.22.0 3.6.3
PWMEnrich.Dmelanogaster.background 4.20.0 3.6.3
PWMEnrich.Hsapiens.background 4.20.0 3.6.3
PWMEnrich.Mmusculus.background 4.20.0 3.6.3
pwOmics 1.18.0 3.6.3
pwrEWAS 1.0.0 3.6.3
pwrEWAS.data 1.0.0 3.6.3
qap 0.1-1 3.6.3
qckitfastq 1.2.0 3.6.3
qcmetrics 1.24.0 3.6.3
QDNAseq 1.22.0 3.6.3
QDNAseq.hg19 1.16.0 3.6.3
QDNAseq.mm10 1.16.0 3.6.3
qgraph 1.6.5 3.6.3
qlcMatrix 0.9.7 3.6.3
qpcR 1.4-1 3.6.3
qpcrNorm 1.44.0 3.6.3
qpdf 1.1 3.6.3
qpgraph 2.20.0 3.6.3
qPLEXanalyzer 1.4.0 3.6.3
qPLEXdata 1.4.0 3.6.3
qqman 0.1.4 3.6.3
qrqc 1.40.0 3.6.3
qsea 1.12.0 3.6.3
qsmooth 1.2.0 3.6.3
QSutils 1.4.0 3.6.3
qtl 1.46-2 3.6.3
Qtlizer 1.0.0 3.6.3
quadprog 1.5-8 3.6.1
QUALIFIER 1.30.0 3.6.3
qualV 0.3-3 3.6.3
quantmod 0.4.17 3.6.3
quantreg 5.55 3.6.3
quantro 1.20.0 3.6.3
quantsmooth 1.52.0 3.6.3
QuartPAC 1.18.0 3.6.3
QuasR 1.26.0 3.6.3
QuaternaryProd 1.20.0 3.6.3
QUBIC 1.14.0 3.6.3
QUBICdata 1.14.0 3.6.3
questionr 0.7.0 3.6.3
qusage 2.20.0 3.6.3
qvalue 2.18.0 3.6.3
qvcalc 1.0.2 3.6.3
R.cache 0.14.0 3.6.3
R.devices 2.16.1 3.6.3
R.filesets 2.13.0 3.6.3
R.huge 0.9.0 3.6.3
R.matlab 3.6.2 3.6.3
R.methodsS3 1.8.0 3.6.2
R.oo 1.23.0 3.6.2
R.rsp 0.43.2 3.6.3
R.utils 2.9.2 3.6.3
r2glmm 0.1.2 3.6.3
R2HTML 2.3.2 3.6.3
R2jags 0.5-7 3.6.3
R2WinBUGS 2.1-21 3.6.3
R3CPET 1.18.0 3.6.3
r3Cseq 1.32.0 3.6.3
R453Plus1Toolbox 1.36.0 3.6.3
R4RNA 1.14.0 3.6.3
R6 2.4.1 3.6.3
radiant.data 1.3.4 3.6.3
rae230a.db 3.2.3 3.6.3
rae230aprobe 2.18.0 3.6.3
RaggedExperiment 1.10.0 3.6.3
rain 1.20.0 3.6.3
rama 1.60.0 3.6.3
ramwas 1.10.5 3.6.3
randomcoloR 1.1.0.1 3.6.3
randomForest 4.6-14 3.6.3
randomizr 0.20.0 3.6.3
RandomWalkRestartMH 1.6.0 3.6.3
randPack 1.32.0 3.6.3
randtests 1.0 3.6.0
ranger 0.12.1 3.6.3
RankProd 3.12.0 3.6.3
RANKS 1.0 3.6.0
RANN 2.6.1 3.6.3
rapidjsonr 1.2.0 3.6.3
rappdirs 0.3.1 3.6.3
RareVariantVis 2.14.0 3.6.3
Rariant 1.22.0 3.6.3
rARPACK 0.11-0 3.6.3
raster 3.0-12 3.6.3
rasterVis 0.47 3.6.3
rat2302.db 3.2.3 3.6.3
Rattus.norvegicus 1.3.1 3.6.3
rBayesianOptimization 1.1.0 3.6.3
RbcBook1 1.54.0 3.6.3
rbenchmark 1.0.0 3.6.0
RBGL 1.62.1 3.6.3
RBioinf 1.46.0 3.6.3
rBiopaxParser 2.26.0 3.6.3
RBM 1.18.0 3.6.3
rbokeh 0.5.0 3.6.3
Rbowtie 1.26.0 3.6.3
Rbowtie2 1.8.0 3.6.3
rbsurv 2.44.0 3.6.3
Rcade 1.28.0 3.6.3
RCAS 1.12.0 3.6.3
RCASPAR 1.32.0 3.6.3
rcdk 3.5.0 3.6.3
rcdklibs 2.3 3.6.3
rcellminer 2.8.0 3.6.3
rcellminerData 2.8.0 3.6.3
rCGH 1.16.0 3.6.3
Rchemcpp 2.24.0 3.6.3
rChoiceDialogs 1.0.6 3.6.0
RchyOptimyx 2.26.0 3.6.3
RCircos 1.2.1 3.6.0
RcisTarget 1.6.0 3.6.3
RcisTarget.hg19.motifDBs.cisbpOnly.500bp 1.6.0 3.6.3
rclipboard 0.1.2 3.6.3
RCM 1.2.0 3.6.3
rcmdcheck 1.3.3 3.6.3
RcmdrMisc 2.7-0 3.6.3
RColorBrewer 1.1-2 3.6.0
rcompanion 2.3.25 3.6.3
Rcpi 1.22.0 3.6.3
Rcpp 1.0.4.6 3.6.3
RcppAnnoy 0.0.16 3.6.3
RcppArmadillo 0.9.860.2.0 3.6.3
RcppEigen 0.3.3.7.0 3.6.3
RcppGSL 0.3.7 3.6.3
RcppHNSW 0.2.0 3.6.3
RcppNumerical 0.4-0 3.6.3
RcppParallel 5.0.0 3.6.3
RcppProgress 0.4.2 3.6.3
RcppRoll 0.3.0 3.6.3
RcppThread 0.5.4 3.6.3
RcppZiggurat 0.1.5 3.6.3
Rcsdp 0.1.57.1 3.6.3
RCurl 1.98-1.1 3.6.2
RCy3 2.6.3 3.6.3
RCyjs 2.8.0 3.6.3
RDAVIDWebService 1.24.0 3.6.3
rDGIdb 1.12.0 3.6.3
Rdisop 1.46.0 3.6.3
Rdpack 0.11-1 3.6.3
rdrop2 0.8.1 3.6.3
RDRToolbox 1.36.0 3.6.3
reactable 0.1.0.1 3.6.3
reactome.db 1.70.0 3.6.3
ReactomeGSA 1.0.0 3.6.3
ReactomeGSA.data 1.0.0 3.6.3
ReactomePA 1.30.0 3.6.3
reactR 0.4.2 3.6.3
readbitmap 0.1.5 3.6.3
reader 1.0.6 3.6.3
ReadqPCR 1.32.0 3.6.3
readr 1.3.1 3.6.3
readstata13 0.9.2 3.6.3
readxl 1.3.1 3.6.3
reb 1.64.0 3.6.3
REBET 1.4.0 3.6.3
rebus 0.1-3 3.6.3
rebus.base 0.0-3 3.6.3
rebus.datetimes 0.0-1 3.6.3
rebus.numbers 0.0-1 3.6.3
rebus.unicode 0.0-2 3.6.3
recipes 0.1.10 3.6.3
RecordLinkage 0.4-12 3.6.3
recount 1.12.1 3.6.3
recoup 1.14.0 3.6.3
RedeR 1.34.0 3.6.3
REDseq 1.32.0 3.6.3
RefFreeEWAS 2.2 3.6.1
RefManageR 1.2.12 3.6.3
RefNet 1.22.0 3.6.3
RefPlus 1.56.0 3.6.3
regioneR 1.18.1 3.6.3
regionReport 1.20.1 3.6.3
registry 0.5-1 3.6.0
regsplice 1.12.6 3.6.3
relations 0.6-9 3.6.3
reldist 1.6-6 3.6.3
relimp 1.0-5 3.6.3
rematch 1.0.1 3.6.3
rematch2 2.1.1 3.6.3
remotes 2.1.1 3.6.3
REMP 1.10.1 3.6.3
rentrez 1.2.2 3.6.3
renv 0.9.3 3.6.3
ReorderCluster 1.0 3.6.3
Repitools 1.32.0 3.6.3
repmis 0.5 3.6.3
repo 2.1.5 3.6.3
ReportingTools 2.26.0 3.6.3
reportr 1.3.0 3.6.3
reprex 0.3.0 3.6.3
RepViz 1.2.0 3.6.3
ReQON 1.32.0 3.6.3
reshape 0.8.8 3.6.3
reshape2 1.4.4 3.6.3
restfulSE 1.8.0 3.6.3
restfulSEData 1.8.0 3.6.3
reticulate 1.15 3.6.3
reutils 0.2.3 3.6.3
rex 1.1.2 3.6.3
rexposome 1.8.0 3.6.3
Rfast 1.9.9 3.6.3
RFOC 3.4-6 3.6.3
RforProteomics 1.24.0 3.6.3
rfPermute 2.1.81 3.6.3
rfPred 1.24.0 3.6.3
rGADEM 2.34.1 3.6.3
RGalaxy 1.30.0 3.6.3
rgeos 0.5-2 3.6.3
rggobi 2.1.22 3.6.3
Rgin 1.6.0 3.6.3
rgl 0.100.54 3.6.3
RGMQL 1.6.0 3.6.3
RGMQLlib 1.6.0 3.6.3
RGraph2js 1.14.0 3.6.3
Rgraphviz 2.30.0 3.6.3
rGREAT 1.18.0 3.6.3
RGSEA 1.20.0 3.6.3
rgsepd 1.18.0 3.6.3
RGtk2 2.20.36 3.6.0
rhandsontable 0.3.7 3.6.3
rhdf5 2.30.1 3.6.3
rhdf5client 1.8.0 3.6.3
Rhdf5lib 1.8.0 3.6.3
Rhisat2 1.2.0 3.6.3
RhpcBLASctl 0.20-17 3.6.2
Rhtslib 1.18.1 3.6.3
rHVDM 1.52.0 3.6.3
RiboProfiling 1.16.0 3.6.3
riboSeqR 1.20.0 3.6.3
RImmPort 1.14.0 3.6.3
Ringo 1.50.0 3.6.3
rintrojs 0.2.2 3.6.3
rio 0.5.16 3.6.3
RIPSeeker 1.26.0 3.6.3
Risa 1.28.0 3.6.3
RISmed 2.1.7 3.6.0
RITAN 1.10.0 3.6.3
RITANdata 1.10.0 3.6.3
RIVER 1.10.0 3.6.3
rjags 4-10 3.6.3
rJava 0.9-12 3.6.3
RJMCMCNucleosomes 1.10.0 3.6.3
rjson 0.2.20 3.6.0
RJSONIO 1.3-1.4 3.6.2
Rlab 2.15.1 3.6.0
Rlabkey 2.4.0 3.6.3
rlang 0.4.5 3.6.3
rlecuyer 0.3-5 3.6.1
rlist 0.4.6.1 3.6.3
RLMM 1.48.0 3.6.3
Rmagic 2.0.3 3.6.2
Rmagpie 1.42.0 3.6.3
RMallow 1.1 3.6.2
RMariaDB 1.0.8 3.6.3
rmarkdown 2.1 3.6.3
RMassBank 2.14.1 3.6.3
RMassBankData 1.24.0 3.6.3
rmelting 1.2.0 3.6.3
rmeta 3.0 3.6.0
RmiR 1.42.0 3.6.3
RmiR.Hs.miRNA 1.0.7 3.6.3
Rmisc 1.5 3.6.3
Rmixmod 2.1.2.2 3.6.3
Rmmquant 1.4.0 3.6.3
Rmpfr 0.8-1 3.6.3
Rmpi 0.6-9 3.6.0
rms 5.1-4 3.6.3
RMTstat 0.3 3.6.0
rmutil 1.1.3 3.6.0
RMySQL 0.10.20 3.6.3
RNAdecay 1.6.0 3.6.3
RNAinteract 1.34.0 3.6.3
RNAither 2.34.0 3.6.3
RNAmodR 1.0.2 3.6.3
RNAmodR.AlkAnilineSeq 1.0.0 3.6.3
RNAmodR.Data 1.0.0 3.6.3
RNAmodR.ML 1.0.0 3.6.3
RNAmodR.RiboMethSeq 1.0.0 3.6.3
RNAprobR 1.18.0 3.6.3
RNAsense 1.0.0 3.6.3
rnaseqcomp 1.16.0 3.6.3
RNAseqData.HNRNPC.bam.chr14 0.24.0 3.6.3
rnaSeqMap 2.44.0 3.6.3
RNASeqPower 1.26.0 3.6.3
RnaSeqSampleSize 1.18.0 3.6.3
RnaSeqSampleSizeData 1.18.0 3.6.3
RnBeads 2.4.0 3.6.3
RnBeads.hg19 1.18.0 3.6.3
rncl 0.8.4 3.6.3
RNeXML 2.4.3 3.6.3
rngtools 1.5 3.6.3
RNifti 1.1.0 3.6.3
Rnits 1.20.0 3.6.3
roar 1.22.0 3.6.3
robCompositions 2.2.1 3.6.3
robustbase 0.93-6 3.6.3
RobustRankAggreg 1.1 3.6.0
ROC 1.62.0 3.6.3
ROCR 1.0-7 3.6.3
Roleswitch 1.24.0 3.6.3
rols 2.14.0 3.6.3
ROntoTools 2.14.0 3.6.3
Rook 1.1-1 3.6.0
rootSolve 1.8.2 3.6.2
ropls 1.18.8 3.6.3
ROTS 1.14.0 3.6.3
roxygen2 7.1.0 3.6.3
RPA 1.42.0 3.6.3
rpart 4.1-15 3.6.3
rpart.plot 3.0.8 3.6.3
RPMG 2.2-3 3.6.1
RPMM 1.25 3.6.3
RPostgres 1.2.0 3.6.3
RPostgreSQL 0.6-2 3.6.3
rPref 1.3 3.6.3
rprojroot 1.3-2 3.6.3
RProtoBufLib 1.8.0 3.6.3
RpsiXML 2.28.0 3.6.3
rpx 1.22.0 3.6.3
Rqc 1.20.0 3.6.3
rqt 1.12.0 3.6.3
rqubic 1.32.0 3.6.3
rrcov 1.5-2 3.6.3
rRDP 1.20.0 3.6.3
rRDPData 1.6.0 3.6.3
RRHO 1.26.0 3.6.3
Rsamtools 2.2.3 3.6.3
rsbml 2.44.0 3.6.3
rScudo 1.2.0 3.6.3
RSEIS 3.9-0 3.6.1
RSeqAn 1.6.0 3.6.3
Rserve 1.7-3.1 3.6.2
rsm 2.10 3.6.3
RSNNS 0.4-12 3.6.3
rsnps 0.3.0 3.6.3
Rsolnp 1.16 3.6.3
RSpectra 0.16-0 3.6.3
RSQLite 2.2.0 3.6.3
rstan 2.19.3 3.6.3
rstantools 2.0.0 3.6.3
rstudioapi 0.11 3.6.3
Rsubread 2.0.1 3.6.3
rsvd 1.0.3 3.6.3
rsvg 1.3 3.6.3
RSVGTipsDevice 1.0-7 3.6.3
RSVSim 1.26.0 3.6.3
rTANDEM 1.26.0 3.6.3
RTCA 1.38.0 3.6.3
RTCGA 1.16.0 3.6.3
RTCGA.clinical 20151101.16.0 3.6.3
RTCGA.CNV 1.14.0 3.6.3
RTCGA.methylation 1.14.0 3.6.3
RTCGA.miRNASeq 1.14.0 3.6.3
RTCGA.mRNA 1.14.0 3.6.3
RTCGA.mutations 20151101.16.0 3.6.3
RTCGA.PANCAN12 1.14.0 3.6.3
RTCGA.rnaseq 20151101.16.0 3.6.3
RTCGA.RPPA 1.14.0 3.6.3
RTCGAToolbox 2.16.3 3.6.3
rTensor 1.4.1 3.6.3
rtiff 1.4.7 3.6.1
RTN 2.10.1 3.6.3
RTNduals 1.10.0 3.6.3
RTNsurvival 1.10.0 3.6.3
RTopper 1.32.0 3.6.3
rtracklayer 1.46.0 3.6.3
Rtreemix 1.48.0 3.6.3
rTRM 1.24.0 3.6.3
rTRMui 1.24.0 3.6.3
Rtsne 0.15 3.6.3
Rttf2pt1 1.3.8 3.6.2
runibic 1.8.0 3.6.3
RUnit 0.4.32 3.6.2
ruv 0.9.7.1 3.6.3
RUVcorr 1.18.0 3.6.3
RUVnormalize 1.20.1 3.6.3
RUVnormalizeData 1.6.0 3.6.3
RUVSeq 1.20.0 3.6.3
rvcheck 0.1.8 3.6.3
rversions 2.0.1 3.6.3
rvest 0.3.5 3.6.3
RVS 1.8.0 3.6.3
Rwave 2.4-8 3.6.0
RWeka 0.4-42 3.6.3
RWekajars 3.9.3-2 3.6.1
rWikiPathways 1.6.1 3.6.3
s4vd 1.1-1 3.6.3
S4Vectors 0.24.4 3.6.3
safe 3.26.0 3.6.3
sagenhaft 1.56.0 3.6.3
SAGx 1.60.0 3.6.3
SAIGEgds 1.0.2 3.6.3
sampleClassifier 1.10.0 3.6.3
sampleClassifierData 1.10.0 3.6.3
sampling 2.8 3.6.3
sampSurf 0.7-5 3.6.3
samr 3.0 3.6.3
SamSPECTRAL 1.40.0 3.6.3
sandwich 2.5-1 3.6.3
sangerseqR 1.22.0 3.6.3
SANTA 2.24.0 3.6.3
sapFinder 1.24.0 3.6.3
sass 0.2.0 3.6.3
SAVER 1.1.2 3.6.3
savR 1.24.0 3.6.3
SBGNview 1.0.0 3.6.3
SBGNview.data 1.0.0 3.6.3
SBMLR 1.82.0 3.6.3
SC3 1.14.0 3.6.3
Scale4C 1.8.0 3.6.3
scales 1.1.0 3.6.3
SCAN.UPC 2.28.0 3.6.3
SCANVIS 1.0.0 3.6.3
scater 1.14.6 3.6.3
scatterpie 0.1.4 3.6.3
scatterplot3d 0.3-41 3.6.0
scBFA 1.0.0 3.6.3
SCBN 1.4.0 3.6.3
scDblFinder 1.1.8 3.6.3
scDD 1.10.0 3.6.3
scde 2.14.0 3.6.3
scds 1.2.0 3.6.3
scFeatureFilter 1.6.0 3.6.3
scfind 1.8.0 3.6.3
scGPS 1.0.0 3.6.3
schex 1.0.55 3.6.3
ScISI 1.58.0 3.6.3
SCLCBam 1.18.0 3.6.3
scmap 1.8.0 3.6.3
scMerge 1.2.0 3.6.3
scmeth 1.6.0 3.6.3
SCnorm 1.8.2 3.6.3
scone 1.10.0 3.6.3
Sconify 1.6.0 3.6.3
scoreInvHap 1.8.0 3.6.3
scPCA 1.0.0 3.6.3
scPipe 1.8.0 3.6.3
scran 1.14.6 3.6.3
scRecover 1.2.0 3.6.3
scrime 1.3.5 3.6.3
scRNAseq 2.0.2 3.6.3
scsR 1.22.0 3.6.3
scTensor 1.2.1 3.6.3
scTGIF 1.0.0 3.6.3
sctransform 0.2.1 3.6.3
sda 1.3.7 3.6.3
SDAMS 1.6.0 3.6.3
segmented 1.1-0 3.6.1
segmentSeq 2.20.0 3.6.3
selectr 0.4-2 3.6.3
SELEX 1.18.0 3.6.3
SemDist 1.20.0 3.6.3
semisup 1.10.0 3.6.3
sendmailR 1.2-1 3.6.0
SEPA 1.16.0 3.6.3
SEPIRA 1.6.0 3.6.3
seq2pathway 1.18.0 3.6.3
seq2pathway.data 1.18.0 3.6.3
SeqArray 1.26.2 3.6.3
seqbias 1.34.0 3.6.3
seqCAT 1.8.1 3.6.3
seqCNA 1.32.0 3.6.3
seqCNA.annot 1.22.0 3.6.3
seqcombo 1.8.0 3.6.3
SeqGSEA 1.26.0 3.6.3
seqinr 3.6-1 3.6.3
seqLogo 1.52.0 3.6.3
seqminer 8.0 3.6.3
seqPattern 1.18.0 3.6.3
seqplots 1.24.0 3.6.3
seqsetvis 1.6.0 3.6.3
SeqSQC 1.8.1 3.6.3
seqTools 1.20.0 3.6.3
SeqVarTools 1.24.1 3.6.3
seriation 1.2-8 3.6.3
serumStimulation 1.22.0 3.6.3
servr 0.16 3.6.3
sesame 1.4.0 3.6.3
sesameData 1.4.0 3.6.3
sessioninfo 1.1.1 3.6.3
SEtools 1.0.0 3.6.3
setRNG 2013.9-1 3.6.0
sets 1.0-18 3.6.3
settings 0.2.4 3.6.3
Seurat 3.1.4 3.6.3
sevenbridges 1.16.1 3.6.3
sevenC 1.6.0 3.6.3
sfsmisc 1.1-6 3.6.3
sgeostat 1.0-27 3.6.0
SGSeq 1.20.0 3.6.3
shades 1.4.0 3.6.3
shape 1.4.4 3.6.0
SharedObject 1.0.0 3.6.3
shiny 1.4.0.2 3.6.3
shinyAce 0.4.1 3.6.3
shinyalert 1.0 3.6.3
shinyBS 0.61 3.6.3
shinycssloaders 0.3 3.6.3
shinydashboard 0.7.1 3.6.3
shinyFiles 0.8.0 3.6.3
shinyjs 1.1 3.6.3
shinyMethyl 1.22.0 3.6.3
shinyMethylData 1.6.0 3.6.3
shinyTANDEM 1.24.0 3.6.3
shinytest 1.3.1 3.6.3
shinythemes 1.1.2 3.6.3
shinyTree 0.2.7 3.6.3
shinyWidgets 0.5.1 3.6.3
ShortRead 1.44.3 3.6.3
showimage 1.0.0 3.6.3
showtext 0.7-1 3.6.3
showtextdb 2.0 3.6.3
SIAMCAT 1.6.0 3.6.3
SIFT.Hsapiens.dbSNP132 1.0.2 3.6.3
SIFT.Hsapiens.dbSNP137 1.0.0 3.6.3
sigaR 1.34.0 3.6.3
SigCheck 2.18.0 3.6.3
sigclust 1.1.0 3.6.0
sigFeature 1.4.0 3.6.3
SigFuge 1.24.0 3.6.3
siggenes 1.60.0 3.6.3
sights 1.12.0 3.6.3
signal 0.7-6 3.6.3
signatureSearch 1.0.4 3.6.3
signatureSearchData 1.0.0 3.6.3
signeR 1.12.0 3.6.3
signet 1.6.0 3.6.3
sigPathway 1.54.0 3.6.3
SigsPack 1.0.0 3.6.3
sigsquared 1.18.0 3.6.3
SIM 1.56.0 3.6.3
SIMAT 1.18.0 3.6.3
SimBindProfiles 1.24.0 3.6.3
SIMD 1.4.0 3.6.3
similaRpeak 1.18.0 3.6.3
SIMLR 1.12.0 3.6.3
simpIntLists 1.22.0 3.6.3
simpleaffy 2.62.0 3.6.3
simpleCache 0.4.1 3.6.2
simulatorZ 1.20.0 3.6.3
sincell 1.18.0 3.6.3
SingleCellExperiment 1.8.0 3.6.3
singleCellTK 1.6.0 3.6.3
SingleR 1.0.6 3.6.3
singscore 1.6.0 3.6.3
SISPA 1.16.0 3.6.3
sitePath 1.2.3 3.6.3
sitmo 2.0.1 3.6.3
sizepower 1.56.0 3.6.3
sjlabelled 1.1.3 3.6.3
sjmisc 2.8.4 3.6.3
sjstats 0.17.9 3.6.3
skewr 1.18.0 3.6.3
skmeans 0.2-11 3.6.3
slalom 1.8.0 3.6.3
slam 0.1-47 3.6.2
SLGI 1.46.0 3.6.3
slingshot 1.4.0 3.6.3
slinky 1.4.0 3.6.3
SLqPCR 1.52.0 3.6.3
sm 2.2-5.6 3.6.3
SMAD 1.2.0 3.6.3
SMAP 1.50.0 3.6.3
SmartSVA 0.1.3 3.6.3
smatr 3.4-8 3.6.0
SMITE 1.14.0 3.6.3
smoother 1.1 3.6.3
smoothie 1.0-1 3.6.3
smoothmest 0.1-2 3.6.3
SmoothWin 3.0.0 3.6.3
SMVar 1.3.3 3.6.0
sn 1.6-1 3.6.3
sna 2.5 3.6.3
SNAGEE 1.26.0 3.6.3
SNAGEEdata 1.22.0 3.6.3
snapCGH 1.56.0 3.6.3
SNFtool 2.3.0 3.6.3
snm 1.34.0 3.6.3
snow 0.4-3 3.6.1
SnowballC 0.7.0 3.6.3
snowfall 1.84-6.1 3.6.1
SNPchip 2.32.0 3.6.3
SNPediaR 1.12.0 3.6.3
SNPhood 1.16.0 3.6.3
SNPhoodData 1.16.0 3.6.3
SNPlocs.Hsapiens.dbSNP.20101109 0.99.7 3.6.3
SNPlocs.Hsapiens.dbSNP.20120608 0.99.11 3.6.3
SNPlocs.Hsapiens.dbSNP141.GRCh38 0.99.11 3.6.3
SNPlocs.Hsapiens.dbSNP142.GRCh37 0.99.5 3.6.3
SNPlocs.Hsapiens.dbSNP144.GRCh37 0.99.20 3.6.3
SNPlocs.Hsapiens.dbSNP144.GRCh38 0.99.20 3.6.3
SNPlocs.Hsapiens.dbSNP150.GRCh38 0.99.20 3.6.3
SNPRelate 1.20.1 3.6.3
snpStats 1.36.0 3.6.3
softImpute 1.4 3.6.3
soGGi 1.18.0 3.6.3
sojourner 1.0.2 3.6.3
som 0.3-5.1 3.6.0
SomaticCancerAlterations 1.22.0 3.6.3
SomaticSignatures 2.22.0 3.6.3
SOMbrero 1.2-5 3.6.3
sourcetools 0.1.7 3.6.3
sp 1.4-1 3.6.3
SpacePAC 1.24.0 3.6.3
spam 2.5-1 3.6.3
Spaniel 1.0.0 3.6.3
SPARQL 1.16 3.6.2
sparsebn 0.1.0 3.6.3
sparsebnUtils 0.0.7 3.6.3
SparseDC 0.1.17 3.6.3
sparseDOSSA 1.10.0 3.6.3
sparseinv 0.1.3 3.6.3
SparseM 1.78 3.6.2
sparseMVN 0.2.1.1 3.6.3
sparsenetgls 1.4.0 3.6.3
SparseSignatures 1.6.0 3.6.3
sparsesvd 0.2 3.6.3
SPAtest 3.0.2 3.6.2
spatial 7.3-11 3.6.3
SpatialCPie 1.2.0 3.6.3
spatstat 1.63-3 3.6.3
spatstat.data 1.4-3 3.6.3
spatstat.utils 1.17-0 3.6.3
specL 1.20.0 3.6.3
SpeCond 1.40.0 3.6.3
SpectralTAD 1.2.0 3.6.3
speedglm 0.3-2 3.6.3
spelling 2.1 3.6.3
SPEM 1.26.0 3.6.3
SPIA 2.38.0 3.6.3
SpidermiR 1.16.2 3.6.3
SpikeIn 1.28.0 3.6.3
SpikeInSubset 1.26.0 3.6.3
spikeLI 2.46.0 3.6.3
spkTools 1.42.0 3.6.3
splancs 2.01-40 3.6.3
splatter 1.10.1 3.6.3
splicegear 1.58.0 3.6.3
SplicingGraphs 1.26.1 3.6.3
splines 3.6.3 3.6.3
splineTimeR 1.14.0 3.6.3
SPLINTER 1.12.0 3.6.3
splitstackshape 1.4.8 3.6.3
splots 1.52.0 3.6.3
splus2R 1.2-2 3.6.0
SPONGE 1.8.0 3.6.3
spotSegmentation 1.60.0 3.6.3
SQLDataFrame 1.0.0 3.6.3
sqldf 0.4-11 3.6.3
SQN 1.0.5 3.6.3
SQUADD 1.36.0 3.6.3
SQUAREM 2020.2 3.6.2
squash 1.0.9 3.6.2
sRACIPE 1.2.0 3.6.3
SRAdb 1.48.2 3.6.3
sRAP 1.26.0 3.6.3
SRGnet 1.12.0 3.6.3
srnadiff 1.6.0 3.6.3
sROC 0.1-2 3.6.0
sscore 1.58.0 3.6.3
sscu 2.16.0 3.6.3
sSeq 1.24.0 3.6.3
ssize 1.60.0 3.6.3
SSPA 2.26.0 3.6.3
ssPATHS 1.0.0 3.6.3
ssrch 1.2.0 3.6.3
ssviz 1.20.0 3.6.3
st 1.2.5 3.6.3
stable 1.1.4 3.6.3
stabledist 0.7-1 3.6.3
stabs 0.6-3 3.6.3
stageR 1.8.0 3.6.3
STAN 2.14.0 3.6.3
StanHeaders 2.21.0-1 3.6.2
staRank 1.28.0 3.6.3
StarBioTrek 1.12.0 3.6.3
Starr 1.42.0 3.6.3
startupmsg 0.9.6 3.6.0
STATegRa 1.22.0 3.6.3
statip 0.2.3 3.6.3
statmod 1.4.34 3.6.3
statnet.common 4.3.0 3.6.3
stats 3.6.3 3.6.3
stats4 3.6.3 3.6.3
statTarget 1.16.1 3.6.3
stemHypoxia 1.22.0 3.6.3
stepNorm 1.58.0 3.6.3
stjudem 1.26.0 3.6.3
strandCheckR 1.4.0 3.6.3
Streamer 1.32.1 3.6.3
STRINGdb 1.26.0 3.6.3
stringdist 0.9.5.5 3.6.1
stringi 1.4.6 3.6.2
stringr 1.4.0 3.6.3
STROMA4 1.10.0 3.6.3
strucchange 1.5-2 3.6.3
Structstrings 1.2.0 3.6.3
StructuralVariantAnnotation 1.2.0 3.6.3
SubCellBarCode 1.2.6 3.6.3
subSeq 1.16.0 3.6.3
subspace 1.0.4 3.6.3
SummarizedBenchmark 2.4.0 3.6.3
SummarizedExperiment 1.16.1 3.6.3
superheat 0.1.0 3.6.3
SuperLearner 2.0-26 3.6.3
superpc 1.09 3.6.3
SuppDists 1.1-9.5 3.6.3
supraHex 1.24.0 3.6.3
survcomp 1.36.1 3.6.3
survey 4.0 3.6.3
survival 3.1-12 3.6.3
survivalROC 1.0.3 3.6.0
survminer 0.4.6 3.6.3
survMisc 0.5.5 3.6.3
survtype 1.2.0 3.6.3
Sushi 1.24.0 3.6.3
sva 3.34.0 3.6.3
SVAPLSseq 1.12.0 3.6.3
svd 0.5 3.6.3
svDialogs 1.0.0 3.6.3
svglite 1.2.3 3.6.3
svGUI 1.0.0 3.6.3
svMisc 1.1.0 3.6.3
SWATH2stats 1.16.0 3.6.3
SwathXtend 2.8.0 3.6.3
swfdr 1.12.0 3.6.3
swfscMisc 1.3 3.6.3
SwimR 1.24.0 3.6.3
switchBox 1.22.0 3.6.3
switchde 1.12.0 3.6.3
sybil 2.1.5 3.6.3
synapter 2.10.0 3.6.3
synapterdata 1.24.0 3.6.3
synergyfinder 2.0.12 3.6.3
synlet 1.16.0 3.6.3
SynMut 1.2.0 3.6.3
sys 3.3 3.6.3
sysfonts 0.8 3.6.3
systemfonts 0.1.1 3.6.3
systemPipeR 1.20.0 3.6.3
tagcloud 0.6 3.6.3
target 1.0.0 3.6.3
targetscan.Hs.eg.db 0.6.1 3.6.3
targetscan.Mm.eg.db 0.6.1 3.6.3
TargetScore 1.24.0 3.6.3
TargetScoreData 1.22.0 3.6.3
TargetSearch 1.42.1 3.6.3
TargetSearchData 1.24.0 3.6.3
taRifx 1.0.6.2 3.6.3
TarSeqQC 1.16.0 3.6.3
TBX20BamSubset 1.22.0 3.6.3
TCC 1.26.0 3.6.3
TCGAbiolinks 2.14.1 3.6.3
TCGAbiolinksGUI 1.12.0 3.6.3
TCGAbiolinksGUI.data 1.6.0 3.6.3
TCGAMethylation450k 1.22.0 3.6.3
TCGAutils 1.6.2 3.6.3
tcltk 3.6.3 3.6.3
tcltk2 1.2-11 3.6.0
tcR 2.2.4.1 3.6.3
TCseq 1.10.0 3.6.3
TDARACNE 1.36.0 3.6.3
TeachingDemos 2.12 3.6.3
tensor 1.5 3.6.0
tensorA 0.36.1 3.6.0
tensorflow 2.0.0 3.6.3
TENxBrainData 1.6.0 3.6.3
TENxBUSData 1.0.0 3.6.3
TENxPBMCData 1.4.0 3.6.3
tenXplore 1.8.0 3.6.3
TEQC 4.8.0 3.6.3
ternarynet 1.30.0 3.6.3
test3cdf 2.18.0 3.6.3
tester 0.1.7 3.6.3
testextra 0.1.0.1 3.6.3
testit 0.11 3.6.3
testthat 2.3.2 3.6.3
TFARM 1.8.0 3.6.3
TFBSTools 1.24.0 3.6.3
TFEA.ChIP 1.6.0 3.6.3
TFHAZ 1.8.0 3.6.3
TFisher 0.2.0 3.6.3
TFMPvalue 0.0.8 3.6.3
tfruns 1.4 3.6.3
TFutils 1.6.0 3.6.3
TH.data 1.0-10 3.6.3
threejs 0.3.3 3.6.3
tibble 3.0.0 3.6.3
tictoc 1.0 3.6.0
tidygraph 1.1.2 3.6.3
tidyr 1.0.2 3.6.3
tidyselect 1.0.0 3.6.3
tidytree 0.3.3 3.6.3
tidyverse 1.3.0 3.6.3
tiff 0.1-5 3.6.0
tightClust 1.1 3.6.0
tigre 1.40.0 3.6.3
tilingArray 1.64.0 3.6.3
timecourse 1.58.0 3.6.3
timeDate 3043.102 3.6.2
timescape 1.10.0 3.6.3
timeSeries 3062.100 3.6.3
TimeSeriesExperiment 1.4.0 3.6.3
timsac 1.3.6 3.6.0
TIN 1.18.0 3.6.3
tinytex 0.21 3.6.3
TissueEnrich 1.6.0 3.6.3
tissueTreg 1.6.0 3.6.3
TitanCNA 1.24.0 3.6.3
tkrgl 0.8 3.6.3
tkrplot 0.0-24 3.6.0
tkWidgets 1.64.0 3.6.3
tm 0.7-7 3.6.3
TMB 1.7.16 3.6.3
TMixClust 1.8.0 3.6.3
tmle 1.4.0.1 3.6.3
tmvtnorm 1.4-10 3.6.3
TNBC.CMS 1.2.0 3.6.3
TnT 1.8.1 3.6.3
TOAST 1.0.0 3.6.3
tofsims 1.14.0 3.6.3
tofsimsData 1.14.0 3.6.3
tools 3.6.3 3.6.3
ToPASeq 1.20.0 3.6.3
topconfects 1.2.0 3.6.3
topdownr 1.8.0 3.6.3
topdownrdata 1.8.0 3.6.3
topGO 2.38.1 3.6.3
topicmodels 0.2-9 3.6.3
topologyGSA 1.4.6 3.6.3
TPP 3.14.1 3.6.3
TPP2D 1.2.3 3.6.3
tracktables 1.20.0 3.6.3
trackViewer 1.22.1 3.6.3
tractor.base 3.3.2 3.6.3
tradeSeq 1.0.1 3.6.3
transcriptogramer 1.8.0 3.6.3
transcriptR 1.14.0 3.6.3
transite 1.4.0 3.6.3
translations 3.6.3 3.6.3
tRanslatome 1.24.0 3.6.3
transport 0.12-2 3.6.3
TransView 1.30.0 3.6.3
traseR 1.16.0 3.6.3
tree 1.0-40 3.6.3
treeio 1.10.0 3.6.3
TreeSummarizedExperiment 1.2.0 3.6.3
trena 1.8.0 3.6.3
Trendy 1.8.2 3.6.3
triebeard 0.3.0 3.6.3
triform 1.28.0 3.6.3
trigger 1.32.0 3.6.3
trio 3.24.3 3.6.3
triplex 1.26.0 3.6.3
tRNA 1.4.0 3.6.3
tRNAdbImport 1.4.0 3.6.3
tRNAscanImport 1.6.0 3.6.3
TRONCO 2.18.0 3.6.3
truncdist 1.0-2 3.6.3
truncnorm 1.0-8 3.6.3
trust 0.1-8 3.6.2
TSCAN 1.24.0 3.6.3
TSclust 1.2.4 3.6.3
TSdist 3.6 3.6.3
tseries 0.10-47 3.6.3
tsne 0.1-3 3.6.0
TSP 1.1-9 3.6.3
tspair 1.44.0 3.6.3
TSRchitect 1.12.4 3.6.3
TTMap 1.8.0 3.6.3
TTR 0.23-6 3.6.3
TurboNorm 1.34.0 3.6.3
turner 0.1.7 3.6.3
tweeDEseq 1.32.0 3.6.3
tweeDEseqCountData 1.24.0 3.6.3
tweedie 2.3.2 3.6.3
tweenr 1.0.1 3.6.3
twilight 1.62.0 3.6.3
twoddpcr 1.10.0 3.6.3
TxDb.Athaliana.BioMart.plantsmart22 3.0.1 3.6.3
TxDb.Celegans.UCSC.ce6.ensGene 3.2.2 3.6.3
TxDb.Dmelanogaster.UCSC.dm3.ensGene 3.2.2 3.6.3
TxDb.Dmelanogaster.UCSC.dm6.ensGene 3.4.6 3.6.3
TxDb.Drerio.UCSC.danRer10.refGene 3.4.6 3.6.3
TxDb.Ggallus.UCSC.galGal5.refGene 3.10.0 3.6.3
TxDb.Hsapiens.UCSC.hg18.knownGene 3.2.2 3.6.3
TxDb.Hsapiens.UCSC.hg19.knownGene 3.2.2 3.6.3
TxDb.Hsapiens.UCSC.hg19.lincRNAsTranscripts 3.2.2 3.6.3
TxDb.Hsapiens.UCSC.hg38.knownGene 3.10.0 3.6.3
TxDb.Mmusculus.UCSC.mm10.ensGene 3.4.0 3.6.3
TxDb.Mmusculus.UCSC.mm10.knownGene 3.10.0 3.6.3
TxDb.Mmusculus.UCSC.mm9.knownGene 3.2.2 3.6.3
TxDb.Rnorvegicus.UCSC.rn4.ensGene 3.2.2 3.6.3
TxDb.Rnorvegicus.UCSC.rn5.refGene 3.10.0 3.6.3
TxDb.Rnorvegicus.UCSC.rn6.refGene 3.4.6 3.6.3
tximeta 1.4.5 3.6.3
tximport 1.14.2 3.6.3
tximportData 1.14.0 3.6.3
TxRegInfra 1.6.0 3.6.3
TypeInfo 1.52.0 3.6.3
Ularcirc 1.4.0 3.6.3
umap 0.2.5.0 3.6.3
UNDO 1.28.0 3.6.3
unifiedWMWqPCR 1.22.0 3.6.3
UniProt.ws 2.26.0 3.6.3
uniqtag 1.0 3.6.3
Uniquorn 2.6.0 3.6.3
universalmotif 1.4.10 3.6.3
UpSetR 1.4.0 3.6.3
urca 1.3-0 3.6.3
urltools 1.7.3 3.6.3
usethis 1.6.0 3.6.3
uSORT 1.12.0 3.6.3
utf8 1.1.4 3.6.3
utils 3.6.3 3.6.3
uuid 0.1-4 3.6.3
uwot 0.1.8 3.6.3
V8 3.0.2 3.6.3
VanillaICE 1.48.0 3.6.3
varhandle 2.0.5 3.6.2
variancePartition 1.16.1 3.6.3
VariantAnnotation 1.32.0 3.6.3
VariantExperiment 1.0.0 3.6.3
VariantFiltering 1.22.0 3.6.3
VariantTools 1.28.1 3.6.3
varSelRF 0.7-8 3.6.3
vbmp 1.54.0 3.6.3
vbsr 0.0.5 3.6.0
vcd 1.4-7 3.6.3
VCFArray 1.2.0 3.6.3
vcfR 1.10.0 3.6.3
vctrs 0.2.4 3.6.3
vdiffr 0.3.1 3.6.3
Vega 1.34.0 3.6.3
VegaMC 3.24.0 3.6.3
vegan 2.5-6 3.6.3
venn 1.9 3.6.3
VennDetail 1.2.0 3.6.3
VennDiagram 1.6.20 3.6.3
VGAM 1.1-2 3.6.3
vidger 1.6.0 3.6.3
VIM 5.1.1 3.6.3
vioplot 0.3.4 3.6.3
viper 1.20.0 3.6.3
vipor 0.4.5 3.6.3
viridis 0.5.1 3.6.3
viridisLite 0.3.0 3.6.3
ViSEAGO 1.0.0 3.6.3
visNetwork 2.0.9 3.6.3
vroom 1.2.0 3.6.3
vsn 3.54.0 3.6.3
vtpnet 0.26.0 3.6.3
vulcan 1.8.0 3.6.3
vulcandata 1.8.0 3.6.3
waddR 1.0.1 3.6.3
waffle 0.7.0 3.6.3
wateRmelon 1.30.0 3.6.3
wavClusteR 2.20.0 3.6.3
waveslim 1.8.2 3.6.3
wavethresh 4.6.8 3.6.3
waveTiling 1.28.0 3.6.3
waveTilingData 1.22.0 3.6.3
weaver 1.52.0 3.6.3
webbioc 1.58.0 3.6.3
webdriver 1.0.5 3.6.3
webshot 0.5.2 3.6.3
webutils 1.0 3.6.3
WES.1KG.WUGSC 1.18.0 3.6.3
wesanderson 0.3.6 3.6.3
WGCNA 1.69 3.6.3
wheatmap 0.1.0 3.6.3
whisker 0.4 3.6.3
widgetTools 1.64.0 3.6.3
wiggleplotr 1.10.1 3.6.3
withr 2.1.2 3.6.3
wmtsa 2.0-3 3.6.3
wordcloud 2.6 3.6.3
Wrench 1.4.0 3.6.3
writexl 1.2 3.6.3
WriteXLS 5.0.0 3.6.0
XBSeq 1.18.0 3.6.3
XCIR 1.0.0 3.6.3
xcms 3.8.2 3.6.3
XDE 2.32.0 3.6.3
Xeva 1.2.0 3.6.3
xfun 0.13 3.6.3
xgboost 1.0.0.2 3.6.3
XGR 1.1.7 3.6.3
XINA 1.4.0 3.6.3
xlsx 0.6.3 3.6.3
xlsxjars 0.6.1 3.6.0
xmapbridge 1.44.0 3.6.3
XML 3.99-0.3 3.6.2
xml2 1.3.1 3.6.3
xmlparsedata 1.0.3 3.6.3
xopen 1.0.0 3.6.3
xptr 1.1.3 3.6.3
xtable 1.8-4 3.6.3
XtraSNPlocs.Hsapiens.dbSNP144.GRCh37 0.99.12 3.6.3
XtraSNPlocs.Hsapiens.dbSNP144.GRCh38 0.99.12 3.6.3
xts 0.12-0 3.6.3
XVector 0.26.0 3.6.3
yaml 2.2.1 3.6.2
yamss 1.12.1 3.6.3
YAPSA 1.12.0 3.6.3
yaqcaffy 1.46.0 3.6.3
yarn 1.12.0 3.6.3
yeast2.db 3.2.3 3.6.3
yeastCC 1.26.0 3.6.3
yeastExpData 0.32.0 3.6.3
yeastNagalakshmi 1.22.0 3.6.3
yeastRNASeq 0.24.0 3.6.3
zCompositions 1.3.4 3.6.3
zeallot 0.1.0 3.6.3
zebrafishRNASeq 1.6.0 3.6.3
zFPKM 1.8.0 3.6.3
zinbwave 1.8.0 3.6.3
zip 2.0.4 3.6.3
zlibbioc 1.32.0 3.6.3
zoo 1.8-7 3.6.3