This page was generated on 2020-04-15 12:00:50 -0400 (Wed, 15 Apr 2020).
ensemblVEP 1.28.0 Bioconductor Package Maintainer
 
| Snapshot Date: 2020-04-14 16:46:13 -0400 (Tue, 14 Apr 2020) |  
| URL: https://git.bioconductor.org/packages/ensemblVEP |  
| Branch: RELEASE_3_10 |  
| Last Commit: 0cb3d0e |  
| Last Changed Date: 2019-10-29 13:08:36 -0400 (Tue, 29 Oct 2019) |  
 
 | malbec1  | Linux (Ubuntu 18.04.4 LTS) / x86_64  |  OK  |  TIMEOUT  |  skipped  |  |  | 
| tokay1  | Windows Server 2012 R2 Standard / x64  | ...NOT SUPPORTED... | 
| merida1  | OS X 10.11.6 El Capitan / x86_64  |  OK  |  OK  |  TIMEOUT  |  OK  |  |