This page was generated on 2020-04-15 12:01:51 -0400 (Wed, 15 Apr 2020).
MultiAssayExperiment 1.12.6 Marcel Ramos
 
| Snapshot Date: 2020-04-14 16:46:13 -0400 (Tue, 14 Apr 2020) |  
| URL: https://git.bioconductor.org/packages/MultiAssayExperiment |  
| Branch: RELEASE_3_10 |  
| Last Commit: b3daa27 |  
| Last Changed Date: 2020-03-23 11:52:26 -0400 (Mon, 23 Mar 2020) |  
 
 | malbec1  | Linux (Ubuntu 18.04.4 LTS) / x86_64  |  OK  |  OK  |  OK  |  |   | 
| tokay1  | Windows Server 2012 R2 Standard / x64  |  OK  |  OK  |  OK  |  OK  |   | 
| merida1  | OS X 10.11.6 El Capitan / x86_64  |  OK  |  OK  |  OK  |  OK  |   |