More about merida1
| Hostname: | merida1 |
| OS: | OS X 10.11.6 El Capitan |
| Arch: | x86_64 |
| Platform: | x86_64-apple-darwin15.6.0 |
| R version: | 3.6.3 (2020-02-29) -- "Holding the Windsock"
|
| R environment variables: | none |
C compiler
| R variable (VAR) | Value ('R CMD config <VAR>' output) |
| CC | clang |
| CFLAGS | -Wall -g -O2 |
| CPICFLAGS | -fPIC |
| CPP | 'config' variable 'CPP' is deprecated |
| Please refer to 'R CMD config -h' for the meaning of these variables |
Compiler version ('clang --version' output):
clang version 7.0.0 (tags/RELEASE_700/final)
Target: x86_64-apple-darwin15.6.0
Thread model: posix
InstalledDir: /usr/local/clang7/bin
C++ compiler
| R variable (VAR) | Value ('R CMD config <VAR>' output) |
| CXX | clang++ -std=gnu++11 |
| CXXFLAGS | -Wall -g -O2 |
| CXXPICFLAGS | -fPIC |
| CXXCPP | 'config' variable 'CXXCPP' is deprecated |
| Please refer to 'R CMD config -h' for the meaning of these variables |
Compiler version ('clang++ -std=gnu++11 --version' output):
clang version 7.0.0 (tags/RELEASE_700/final)
Target: x86_64-apple-darwin15.6.0
Thread model: posix
InstalledDir: /usr/local/clang7/bin
C++11 compiler
| R variable (VAR) | Value ('R CMD config <VAR>' output) |
| CXX11 | clang++ |
| CXX11FLAGS | -Wall -g -O2 |
| CXX11PICFLAGS | -fPIC |
| CXX11STD | -std=gnu++11 |
| Please refer to 'R CMD config -h' for the meaning of these variables |
Compiler version ('clang++ --version' output):
clang version 7.0.0 (tags/RELEASE_700/final)
Target: x86_64-apple-darwin15.6.0
Thread model: posix
InstalledDir: /usr/local/clang7/bin
C++14 compiler
| R variable (VAR) | Value ('R CMD config <VAR>' output) |
| CXX14 | clang++ |
| CXX14FLAGS | -Wall -g -O2 |
| CXX14PICFLAGS | -fPIC |
| CXX14STD | -std=gnu++14 |
| Please refer to 'R CMD config -h' for the meaning of these variables |
Compiler version ('clang++ --version' output):
clang version 7.0.0 (tags/RELEASE_700/final)
Target: x86_64-apple-darwin15.6.0
Thread model: posix
InstalledDir: /usr/local/clang7/bin
More information might be added in the future...