Welcome to mirrors.dotsrc.org

All our mirrors of open source software are available via http, https, ftp and an onion service. More information about our mirrors including statistics and contact information is available on our mirror info pages.

For information about dotsrc.org and our other services please go to our website.

Index of /bioconductor/checkResults/2.8/bioc-LATEST/

File Name  ↓ File Size  ↓ Date  ↓ 
--
-2011-10-21 07:03:08
-2011-10-21 07:03:59
-2011-10-21 07:03:16
-2011-10-21 07:03:04
-2011-10-21 07:03:54
-2011-10-21 07:03:42
-2011-10-21 07:03:07
-2011-10-21 07:04:00
-2011-10-21 07:04:12
-2011-10-21 07:03:27
-2011-10-21 07:03:46
-2011-10-21 07:03:50
-2011-10-21 07:04:06
-2011-10-21 07:04:05
-2011-10-21 07:03:49
-2011-10-21 07:03:08
-2011-10-21 07:03:36
-2011-10-21 07:03:57
-2011-10-21 07:03:59
-2011-10-21 07:03:15
-2011-10-21 07:03:28
-2011-10-21 07:04:12
-2011-10-21 07:04:06
-2011-10-21 07:03:04
-2011-10-21 07:03:51
-2011-10-21 07:03:28
-2011-10-21 07:03:16
-2011-10-21 07:04:06
-2011-10-21 07:04:11
-2011-10-21 07:04:10
-2011-10-21 07:03:32
-2011-10-21 07:04:13
-2011-10-21 07:03:23
-2011-10-21 07:03:11
-2011-10-21 07:03:18
-2011-10-21 07:03:31
-2011-10-21 07:04:13
-2011-10-21 07:03:33
-2011-10-21 07:03:06
-2011-10-21 07:04:10
-2011-10-21 07:03:43
-2011-10-21 07:03:46
-2011-10-21 07:03:53
-2011-10-21 07:03:51
-2011-10-21 07:03:12
-2011-10-21 07:03:45
-2011-10-21 07:04:01
-2011-10-21 07:03:03
-2011-10-21 07:03:37
-2011-10-21 07:03:27
-2011-10-21 07:03:16
-2011-10-21 07:04:02
-2011-10-21 07:03:23
-2011-10-21 07:04:09
-2011-10-21 07:04:08
-2011-10-21 07:03:15
-2011-10-21 07:03:06
-2011-10-21 07:03:53
-2011-10-21 07:03:53
-2011-10-21 07:04:08
-2011-10-21 07:04:03
-2011-10-21 07:03:57
-2011-10-21 07:03:27
-2011-10-21 07:03:35
-2011-10-21 07:03:26
-2011-10-21 07:03:05
-2011-10-21 07:03:36
-2011-10-21 07:04:05
-2011-10-21 07:04:02
-2011-10-21 07:03:06
-2011-10-21 07:03:17
-2011-10-21 07:04:12
-2011-10-21 07:03:05
-2011-10-21 07:04:17
-2011-10-21 07:04:16
-2011-10-21 07:03:56
-2011-10-21 07:03:49
-2011-10-21 07:03:21
-2011-10-21 07:03:53
-2011-10-21 07:04:16
-2011-10-21 07:03:28
-2011-10-21 07:04:07
-2011-10-21 07:03:12
-2011-10-21 07:04:12
-2011-10-21 07:03:55
-2011-10-21 07:03:07
-2011-10-21 07:03:53
-2011-10-21 07:03:18
-2011-10-21 07:04:00
-2011-10-21 07:03:59
-2011-10-21 07:03:11
-2011-10-21 07:04:14
-2011-10-21 07:03:33
-2011-10-21 07:03:16
-2011-10-21 07:03:32
-2011-10-21 07:03:09
-2011-10-21 07:04:05
-2011-10-21 07:03:30
-2011-10-21 07:04:15
-2011-10-21 07:03:16
-2011-10-21 07:03:58
-2011-10-21 07:04:14
-2011-10-21 07:03:23
-2011-10-21 07:04:16
-2011-10-21 07:03:08
-2011-10-21 07:04:01
-2011-10-21 07:03:19
-2011-10-21 07:03:36
-2011-10-21 07:03:29
-2011-10-21 07:03:44
-2011-10-21 07:03:57
-2011-10-21 07:04:03
-2011-10-21 07:04:09
-2011-10-21 07:03:58
-2011-10-21 07:03:26
-2011-10-21 07:04:16
-2011-10-21 07:03:29
-2011-10-21 07:03:43
-2011-10-21 07:03:54
-2011-10-21 07:03:12
-2011-10-21 07:04:00
-2011-10-21 07:03:54
-2011-10-21 07:04:01
-2011-10-21 07:03:15
-2011-10-21 07:03:07
-2011-10-21 07:03:13
-2011-10-21 07:03:33
-2011-10-21 07:03:32
-2011-10-21 07:03:58
-2011-10-21 07:03:19
-2011-10-21 07:03:03
-2011-10-21 07:03:30
-2011-10-21 07:04:01
-2011-10-21 07:03:07
-2011-10-21 07:03:11
-2011-10-21 07:03:23
-2011-10-21 07:03:37
-2011-10-21 07:04:05
-2011-10-21 07:03:11
-2011-10-21 07:04:14
-2011-10-21 07:04:04
-2011-10-21 07:03:18
-2011-10-21 07:03:43
-2011-10-21 07:03:18
-2011-10-21 07:04:00
-2011-10-21 07:03:27
-2011-10-21 07:03:53
-2011-10-21 07:03:09
-2011-10-21 07:03:47
-2011-10-21 07:03:28
-2011-10-21 07:03:53
-2011-10-21 07:04:13
-2011-10-21 07:04:10
-2011-10-21 07:03:17
-2011-10-21 07:04:05
-2011-10-21 07:03:39
-2011-10-21 07:03:27
-2011-10-21 07:03:35
-2011-10-21 07:03:08
-2011-10-21 07:03:09
-2011-10-21 07:03:22
-2011-10-21 07:04:02
-2011-10-21 07:04:04
-2011-10-21 07:03:55
-2011-10-21 07:03:31
-2011-10-21 07:03:49
-2011-10-21 07:03:36
-2011-10-21 07:03:31
-2011-10-21 07:03:27
-2011-10-21 07:03:35
-2011-10-21 07:03:17
-2011-10-21 07:04:04
-2011-10-21 07:03:18
-2011-10-21 07:03:12
-2011-10-21 07:03:30
-2011-10-21 07:03:57
-2011-10-21 07:03:56
-2011-10-21 07:04:15
-2011-10-21 07:03:06
-2011-10-21 07:03:23
-2011-10-21 07:03:31
-2011-10-21 07:03:13
-2011-10-21 07:03:03
-2011-10-21 07:03:55
-2011-10-21 07:04:03
-2011-10-21 07:03:31
-2011-10-21 07:03:56
-2011-10-21 07:03:20
-2011-10-21 07:03:58
-2011-10-21 07:04:02
-2011-10-21 07:04:09
-2011-10-21 07:03:59
-2011-10-21 07:04:10
-2011-10-21 07:03:20
-2011-10-21 07:03:07
-2011-10-21 07:03:24
-2011-10-21 07:03:34
-2011-10-21 07:03:48
-2011-10-21 07:03:54
-2011-10-21 07:04:11
-2011-10-21 07:03:31
-2011-10-21 07:03:22
-2011-10-21 07:03:43
-2011-10-21 07:03:52
-2011-10-21 07:03:25
-2011-10-21 07:03:30
-2011-10-21 07:04:10
-2011-10-21 07:03:49
-2011-10-21 07:03:14
-2011-10-21 07:03:43
-2011-10-21 07:03:30
-2011-10-21 07:04:07
-2011-10-21 07:03:21
-2011-10-21 07:03:04
-2011-10-21 07:03:34
-2011-10-21 07:03:25
-2011-10-21 07:04:09
-2011-10-21 07:03:37
-2011-10-21 07:03:31
-2011-10-21 07:03:17
-2011-10-21 07:04:13
-2011-10-21 07:03:21
-2011-10-21 07:03:15
-2011-10-21 07:03:47
-2011-10-21 07:03:48
-2011-10-21 07:04:07
-2011-10-21 07:03:13
-2011-10-21 07:03:50
-2011-10-21 07:03:33
-2011-10-21 07:03:52
-2011-10-21 07:03:26
-2011-10-21 07:03:47
-2011-10-21 07:03:56
-2011-10-21 07:03:42
-2011-10-21 07:03:51
-2011-10-21 07:04:02
-2011-10-21 07:04:06
-2011-10-21 07:03:36
-2011-10-21 07:04:16
-2011-10-21 07:04:11
-2011-10-21 07:04:10
-2011-10-21 07:03:14
-2011-10-21 07:03:59
-2011-10-21 07:03:23
-2011-10-21 07:04:04
-2011-10-21 07:03:33
-2011-10-21 07:04:15
-2011-10-21 07:04:02
-2011-10-21 07:03:57
-2011-10-21 07:04:11
-2011-10-21 07:03:04
-2011-10-21 07:04:12
-2011-10-21 07:04:17
-2011-10-21 07:03:52
-2011-10-21 07:03:21
-2011-10-21 07:04:03
-2011-10-21 07:03:42
-2011-10-21 07:03:17
-2011-10-21 07:03:35
-2011-04-07 14:45:37
-2011-10-21 07:03:23
-2011-10-21 07:03:32
-2011-10-21 07:03:20
-2011-10-21 07:03:52
-2011-10-21 07:03:20
-2011-10-21 07:03:34
-2011-10-21 07:03:29
-2011-10-21 07:03:10
-2011-10-21 07:04:03
-2011-10-21 07:04:08
-2011-10-21 07:03:58
-2011-10-21 07:04:05
-2011-10-21 07:03:37
-2011-10-21 07:04:00
-2011-10-21 07:03:32
-2011-10-21 07:03:21
-2011-10-21 07:03:13
-2011-10-21 07:03:35
-2011-10-21 07:03:17
-2011-10-21 07:03:08
-2011-10-21 07:03:46
-2011-10-21 07:03:50
-2011-10-21 07:03:26
-2011-10-21 07:03:52
-2011-10-21 07:03:51
-2011-10-21 07:04:04
-2011-10-21 07:03:42
-2011-10-21 07:03:57
-2011-10-21 07:03:37
-2011-10-21 07:03:57
-2011-10-21 07:03:59
-2011-10-21 07:03:16
-2011-10-21 07:03:14
-2011-10-21 07:03:11
-2011-10-21 07:03:35
-2011-10-21 07:03:51
-2011-10-21 07:03:46
-2011-10-21 07:03:32
-2011-10-21 07:03:04
-2011-10-21 07:03:18
-2011-10-21 07:03:16
-2011-10-21 07:04:14
-2011-10-21 07:03:20
-2011-10-21 07:04:00
-2011-10-21 07:03:56
-2011-10-21 07:03:46
-2011-10-21 07:03:24
-2011-10-21 07:03:51
-2011-10-21 07:04:01
-2011-10-21 07:04:12
-2011-10-21 07:04:16
-2011-10-21 07:03:44
-2011-10-21 07:03:34
-2011-10-21 07:03:51
-2011-10-21 07:03:42
-2011-10-21 07:03:43
-2011-10-21 07:03:23
-2011-10-21 07:03:21
-2011-10-21 07:03:57
-2011-10-21 07:03:48
-2011-10-21 07:04:02
-2011-10-21 07:03:13
-2011-10-21 07:03:29
-2011-10-21 07:04:08
-2011-10-21 07:03:29
-2011-10-21 07:03:44
-2011-10-21 07:04:14
-2011-10-21 07:03:36
-2011-10-21 07:03:55
-2011-10-21 07:03:16
-2011-10-21 07:03:11
-2011-10-21 07:03:08
-2011-10-21 07:04:06
-2011-10-21 07:03:19
-2011-10-21 07:03:08
-2011-10-21 07:03:20
-2011-10-21 07:04:10
-2011-10-21 07:03:14
-2011-10-21 07:04:07
-2011-10-21 07:03:26
-2011-03-18 08:05:56
-2011-10-21 07:03:42
-2011-10-21 07:03:43
-2011-10-21 07:04:08
-2011-10-21 07:03:29
-2011-10-21 07:03:54
-2011-10-21 07:03:17
-2011-10-21 07:04:03
-2011-10-21 07:04:03
-2011-10-21 07:03:19
-2011-10-21 07:03:54
-2011-10-21 07:03:52
-2011-10-21 07:03:49
-2011-10-21 07:03:54
-2011-10-21 07:04:02
-2011-10-21 07:03:09
-2011-10-21 07:03:51
-2011-10-21 07:03:19
-2011-10-21 07:04:02
-2011-10-21 07:04:09
-2011-10-21 07:03:54
-2011-10-21 07:03:19
-2011-10-21 07:03:04
-2011-10-21 07:03:55
-2011-10-21 07:04:11
-2011-10-21 07:03:13
-2011-10-21 07:03:26
-2011-10-21 07:04:00
-2011-10-21 07:03:46
-2011-10-21 07:03:52
-2011-10-21 07:04:05
-2011-10-21 07:03:19
-2011-10-21 07:03:04
-2011-10-21 07:03:48
-2011-10-21 07:03:05
-2011-10-21 07:03:21
-2011-10-21 07:04:09
-2011-10-21 07:03:48
-2011-10-21 07:03:58
-2011-10-21 07:03:35
-2011-10-21 07:03:26
-2011-10-21 07:04:09
-2011-10-21 07:04:01
-2011-10-21 07:03:55
-2011-10-21 07:03:52
-2011-10-21 07:03:47
-2011-10-21 07:03:28
-2011-10-21 07:03:13
-2011-10-21 07:04:02
-2011-10-21 07:04:08
-2011-10-21 07:03:22
-2011-10-21 07:03:35
-2011-10-21 07:04:15
-2011-10-21 07:03:32
-2011-10-21 07:03:56
-2011-10-21 07:03:25
-2011-10-21 07:03:15
-2011-10-21 07:03:37
-2011-10-21 07:04:13
-2011-10-21 07:03:30
-2011-10-21 07:04:08
-2011-10-21 07:04:04
-2011-10-21 07:04:14
-2011-10-21 07:04:11
-2011-10-21 07:03:18
-2011-10-21 07:03:28
-2011-10-21 07:04:01
-2011-10-21 07:03:55
-2011-10-21 07:03:28
-2011-10-21 07:04:07
-2011-10-21 07:03:27
-2011-10-21 07:03:08
-2011-10-21 07:03:25
-2011-10-21 07:03:29
-2011-10-21 07:04:00
-2011-10-21 07:03:30
-2011-03-15 08:06:26
-2011-03-10 22:52:04
-2011-03-10 22:52:04
-2011-10-21 07:04:13
-2011-10-21 07:03:42
-2011-10-21 07:04:20
-2011-10-21 07:04:17
-2011-10-21 07:04:18
-2011-10-21 07:04:18
-2011-10-21 07:04:19
-2011-10-21 07:03:59
-2011-10-21 07:03:45
-2011-10-21 07:04:19
-2011-10-21 07:03:55
-2011-10-21 07:04:17
-2011-10-21 07:04:18
-2011-10-21 07:03:46
-2011-10-21 07:03:07
-2011-10-21 07:04:20
-2011-10-21 07:04:15
-2011-10-21 07:04:17
-2011-10-21 07:04:03
-2011-10-21 07:04:19
-2011-10-21 07:04:19
-2011-10-21 07:04:18
-2011-10-21 07:04:19
-2011-10-21 07:04:17
-2011-10-21 07:04:20
-2011-10-21 07:04:17
-2011-10-21 07:04:19
-2011-10-21 07:04:19
-2011-10-21 07:04:19
-2011-10-21 07:04:18
-2011-10-21 07:04:18
-2011-10-21 07:04:18
-2011-10-21 07:04:19
-2011-03-10 22:52:04
-2011-10-21 07:03:01
-2011-10-21 07:03:44
-2011-10-21 07:03:22
-2011-10-21 07:04:08
-2011-10-21 07:03:28
-2011-10-21 07:01:51
-2011-10-21 07:03:21
-2011-10-21 07:04:13
-2011-10-21 07:03:09
-2011-10-21 07:01:11
-2011-10-21 07:01:48
-2011-04-04 14:23:23
-2011-10-21 07:01:33
-2011-10-21 07:01:50
-2011-04-04 14:23:23
-2011-10-21 07:04:20
-2011-10-21 07:00:48
-2011-10-21 07:00:16
-2011-10-21 07:00:24
-2011-10-21 07:00:06
-2011-10-21 07:00:42
-2011-10-21 07:00:35
3.2 MiB2011-10-21 07:04:46
1.5 MiB2011-10-21 07:04:45
337.9 KiB2011-10-21 07:04:27
333.3 KiB2011-10-21 07:04:30
331.2 KiB2011-10-21 07:04:34
318.1 KiB2011-03-18 08:06:37
289.2 KiB2011-10-21 07:04:23
274.7 KiB2011-02-25 08:10:19
145.9 KiB2011-10-21 07:00:03
90.7 KiB2011-10-21 06:59:45
55.8 KiB2011-10-21 07:04:34
55.4 KiB2011-10-21 07:04:34
55.4 KiB2011-10-21 07:04:34
53.5 KiB2011-03-18 08:06:39
53.0 KiB2011-10-21 07:04:34
47.0 KiB2011-02-25 08:10:34
6.1 KiB2011-10-21 07:00:03
5.0 KiB2011-03-18 08:06:39
4.9 KiB2011-10-21 07:04:34
4.9 KiB2011-10-21 07:04:34
4.8 KiB2011-02-25 08:10:34
4.8 KiB2011-10-21 07:04:34
4.6 KiB2011-10-21 07:04:34
3.9 KiB2011-10-21 07:00:03