Welcome to mirrors.dotsrc.org

All our mirrors of open source software are available via http, https, ftp and an onion service. More information about our mirrors including statistics and contact information is available on our mirror info pages.

For information about dotsrc.org and our other services please go to our website.

Index of /bioconductor/checkResults/2.7/bioc-20110331/bioc-LATEST/

File Name  ↓ File Size  ↓ Date  ↓ 
--
-2011-04-07 20:45:36
-2011-04-07 20:45:42
-2011-04-07 20:45:36
-2011-04-07 20:45:43
-2011-04-07 20:45:42
-2011-04-07 20:45:38
-2011-04-07 20:45:36
-2011-04-07 20:45:40
-2011-04-07 20:45:40
-2011-04-07 20:45:40
-2011-04-07 20:45:39
-2011-04-07 20:45:37
-2011-04-07 20:45:38
-2011-04-07 20:45:39
-2011-04-07 20:45:38
-2011-04-07 20:45:43
-2011-04-07 20:45:36
-2011-04-07 20:45:40
-2011-04-07 20:45:43
-2011-04-07 20:45:36
-2011-04-07 20:45:44
-2011-04-07 20:45:36
-2011-04-07 20:45:36
-2011-04-07 20:45:36
-2011-04-07 20:45:44
-2011-04-07 20:45:43
-2011-04-07 20:45:41
-2011-04-07 20:45:38
-2011-04-07 20:45:38
-2011-04-07 20:45:40
-2011-04-07 20:45:38
-2011-04-07 20:45:40
-2011-04-07 20:45:43
-2011-04-07 20:45:43
-2011-04-07 20:45:39
-2011-04-07 20:45:38
-2011-04-07 20:45:39
-2011-04-07 20:45:36
-2011-04-07 20:45:41
-2011-04-07 20:45:41
-2011-04-07 20:45:37
-2011-04-07 20:45:42
-2011-04-07 20:45:37
-2011-04-07 20:45:40
-2011-04-07 20:45:38
-2011-04-07 20:45:40
-2011-04-07 20:45:39
-2011-04-07 20:45:38
-2011-04-07 20:45:37
-2011-04-07 20:45:43
-2011-04-07 20:45:40
-2011-04-07 20:45:39
-2011-04-07 20:45:38
-2011-04-07 20:45:37
-2011-04-07 20:45:36
-2011-04-07 20:45:42
-2011-04-07 20:45:40
-2011-04-07 20:45:41
-2011-04-07 20:45:43
-2011-04-07 20:45:36
-2011-04-07 20:45:38
-2011-04-07 20:45:41
-2011-04-07 20:45:36
-2011-04-07 20:45:42
-2011-04-07 20:45:37
-2011-04-07 20:45:42
-2011-04-07 20:45:41
-2011-04-07 20:45:43
-2011-04-07 20:45:41
-2011-04-07 20:45:44
-2011-04-07 20:45:36
-2011-04-07 20:45:43
-2011-04-07 20:45:39
-2011-04-07 20:45:39
-2011-04-07 20:45:41
-2011-04-07 20:45:43
-2011-04-07 20:45:40
-2011-04-07 20:45:38
-2011-04-07 20:45:38
-2011-04-07 20:45:40
-2011-04-07 20:45:41
-2011-04-07 20:45:39
-2011-04-07 20:45:41
-2011-04-07 20:45:42
-2011-04-07 20:45:38
-2011-04-07 20:45:36
-2011-04-07 20:45:39
-2011-04-07 20:45:43
-2011-04-07 20:45:36
-2011-04-07 20:45:43
-2011-04-07 20:45:43
-2011-04-07 20:45:44
-2011-04-07 20:45:37
-2011-04-07 20:45:42
-2011-04-07 20:45:36
-2011-04-07 20:45:41
-2011-04-07 20:45:39
-2011-04-07 20:45:41
-2011-04-07 20:45:39
-2011-04-07 20:45:39
-2011-04-07 20:45:37
-2011-04-07 20:45:37
-2011-04-07 20:45:43
-2011-04-07 20:45:39
-2011-04-07 20:45:42
-2011-04-07 20:45:42
-2011-04-07 20:45:40
-2011-04-07 20:45:38
-2011-04-07 20:45:36
-2011-04-07 20:45:37
-2011-04-07 20:45:39
-2011-04-07 20:45:42
-2011-04-07 20:45:38
-2011-04-07 20:45:36
-2011-04-07 20:45:40
-2011-04-07 20:45:37
-2011-04-07 20:45:38
-2011-04-07 20:45:43
-2011-04-07 20:45:40
-2011-04-07 20:45:38
-2011-04-07 20:45:38
-2011-04-07 20:45:37
-2011-04-07 20:45:40
-2011-04-07 20:45:43
-2011-04-07 20:45:39
-2011-04-07 20:45:40
-2011-04-07 20:45:38
-2011-04-07 20:45:36
-2011-04-07 20:45:36
-2011-04-07 20:45:40
-2011-04-07 20:45:37
-2011-04-07 20:45:43
-2011-04-07 20:45:40
-2011-04-07 20:45:42
-2011-04-07 20:45:37
-2011-04-07 20:45:38
-2011-04-07 20:45:37
-2011-04-07 20:45:43
-2011-04-07 20:45:41
-2011-04-07 20:45:40
-2011-04-07 20:45:39
-2011-04-07 20:45:37
-2011-04-07 20:45:42
-2011-04-07 20:45:38
-2011-04-07 20:45:37
-2011-04-07 20:45:39
-2011-04-07 20:45:40
-2011-04-07 20:45:42
-2011-04-07 20:45:39
-2011-04-07 20:45:39
-2011-04-07 20:45:43
-2011-04-07 20:45:36
-2011-04-07 20:45:39
-2011-04-07 20:45:43
-2011-04-07 20:45:44
-2011-04-07 20:45:40
-2011-04-07 20:45:41
-2011-04-07 20:45:43
-2011-04-07 20:45:41
-2011-04-07 20:45:38
-2011-04-07 20:45:41
-2011-04-07 20:45:42
-2011-04-07 20:45:39
-2011-04-07 20:45:39
-2011-04-07 20:45:38
-2011-04-07 20:45:40
-2011-04-07 20:45:43
-2011-04-07 20:45:38
-2011-04-07 20:45:39
-2011-04-07 20:45:37
-2011-04-07 20:45:40
-2011-04-07 20:45:38
-2011-04-07 20:45:36
-2011-04-07 20:45:36
-2011-04-07 20:45:44
-2011-04-07 20:45:39
-2011-04-07 20:45:40
-2011-04-07 20:45:42
-2011-04-07 20:45:41
-2011-04-07 20:45:41
-2011-04-07 20:45:41
-2011-04-07 20:45:43
-2011-04-07 20:45:42
-2011-04-07 20:45:37
-2011-04-07 20:45:44
-2011-04-07 20:45:37
-2011-04-07 20:45:41
-2011-04-07 20:45:40
-2011-04-07 20:45:38
-2011-04-07 20:45:41
-2011-04-07 20:45:40
-2011-04-07 20:45:36
-2011-04-07 20:45:37
-2011-04-07 20:45:41
-2011-04-07 20:45:39
-2011-04-07 20:45:39
-2011-04-07 20:45:36
-2011-04-07 20:45:39
-2011-04-07 20:45:36
-2011-04-07 20:45:40
-2011-04-07 20:45:41
-2011-04-07 20:45:43
-2011-04-07 20:45:38
-2011-04-07 20:45:37
-2011-04-07 20:45:38
-2011-04-07 20:45:38
-2011-04-07 20:45:38
-2011-04-07 20:45:39
-2011-04-07 20:45:37
-2011-04-07 20:45:41
-2011-04-07 20:45:41
-2011-04-07 20:45:42
-2011-04-07 20:45:42
-2011-04-07 20:45:43
-2011-04-07 20:45:39
-2011-04-07 20:45:37
-2011-04-07 20:45:37
-2011-04-07 20:45:36
-2011-04-07 20:45:41
-2011-04-07 20:45:41
-2011-04-07 20:45:42
-2011-04-07 20:45:41
-2011-04-07 20:45:37
-2011-04-07 20:45:43
-2011-04-07 20:45:40
-2011-04-07 20:45:41
-2011-04-07 20:45:36
-2011-04-07 20:45:43
-2011-04-07 20:45:39
-2011-04-07 20:45:38
-2011-04-07 20:45:42
-2011-04-07 20:45:41
-2011-04-07 20:45:42
-2011-04-07 20:45:37
-2011-04-07 20:45:39
-2011-04-07 20:45:41
-2011-04-07 20:45:38
-2011-04-07 20:45:41
-2011-04-07 20:45:39
-2011-04-07 20:45:38
-2011-04-07 20:45:39
-2011-04-07 20:45:41
-2011-04-07 20:45:38
-2011-04-07 20:45:38
-2011-04-07 20:45:36
-2011-04-07 20:45:42
-2011-04-07 20:45:42
-2011-04-07 20:45:39
-2011-04-07 20:45:43
-2011-04-07 20:45:39
-2011-04-07 20:45:40
-2011-04-07 20:45:43
-2011-04-07 20:45:39
-2011-04-07 20:45:38
-2011-04-07 20:45:36
-2011-04-07 20:45:42
-2011-04-07 20:45:37
-2011-04-07 20:45:38
-2011-04-07 20:45:36
-2011-04-07 20:45:40
-2011-04-07 20:45:40
-2011-04-07 20:45:37
4.9 KiB2011-04-07 20:45:43
48.4 KiB2011-04-07 20:45:43
299.2 KiB2011-04-07 20:45:42
264.9 KiB2011-04-07 20:45:44
4.6 KiB2011-04-07 20:45:39
46.8 KiB2011-04-07 20:45:36
309.3 KiB2011-04-07 20:45:37
4.9 KiB2011-04-07 20:45:36
3.9 KiB2011-04-07 20:45:43
2.6 MiB2011-04-07 20:45:36