Welcome to mirrors.dotsrc.org

All our mirrors of open source software are available via http, https, ftp and an onion service. More information about our mirrors including statistics and contact information is available on our mirror info pages.

For information about dotsrc.org and our other services please go to our website.

Index of /bioconductor/checkResults/2.5/bioc-20091214/

File Name  ↓ File Size  ↓ Date  ↓ 
--
-2009-12-15 02:48:22
-2009-12-15 02:48:23
-2009-12-15 02:48:36
-2009-12-15 02:48:38
-2009-12-15 02:48:20
-2009-12-15 02:48:18
-2009-12-15 02:48:18
-2009-12-15 02:48:32
-2009-12-15 02:48:32
-2009-12-15 02:48:41
-2009-12-15 02:48:38
-2009-12-15 02:48:42
-2009-12-15 02:48:41
-2009-12-15 02:48:33
-2009-12-15 02:48:39
-2009-12-15 02:48:28
-2009-12-15 02:48:29
-2009-12-15 02:48:38
-2009-12-15 02:48:40
-2009-12-15 02:48:24
-2009-12-15 02:48:36
-2009-12-15 02:48:24
-2009-12-15 02:48:38
-2009-12-15 02:48:24
-2009-12-15 02:48:33
-2009-12-15 02:48:38
-2009-12-15 02:48:28
-2009-12-15 02:48:41
-2009-12-15 02:48:39
-2009-12-15 02:48:19
-2009-12-15 02:48:27
-2009-12-15 02:48:28
-2009-12-15 02:48:35
-2009-12-15 02:48:38
-2009-12-15 02:48:29
-2009-12-15 02:48:41
-2009-12-15 02:48:37
-2009-12-15 02:48:36
-2009-12-15 02:48:35
-2009-12-15 02:48:40
-2009-12-15 02:48:36
-2009-12-15 02:48:17
-2009-12-15 02:48:35
-2009-12-15 02:48:34
-2009-12-15 02:48:36
-2009-12-15 02:48:20
-2009-12-15 02:48:28
-2009-12-15 02:48:28
-2009-12-15 02:48:40
-2009-12-15 02:48:22
-2009-12-15 02:48:30
-2009-12-15 02:48:24
-2009-12-15 02:48:28
-2009-12-15 02:48:18
-2009-12-15 02:48:28
-2009-12-15 02:48:38
-2009-12-15 02:48:24
-2009-12-15 02:48:32
-2009-12-15 02:48:38
-2009-12-15 02:48:22
-2009-12-15 02:48:39
-2009-12-15 02:48:40
-2009-12-15 02:48:36
-2009-12-15 02:48:30
-2009-12-15 02:48:29
-2009-12-15 02:48:17
-2009-12-15 02:48:19
-2009-12-15 02:48:18
-2009-12-15 02:48:24
-2009-12-15 02:48:37
-2009-12-15 02:48:29
-2009-12-15 02:48:23
-2009-12-15 02:48:22
-2009-12-15 02:48:18
-2009-12-15 02:48:17
-2009-12-15 02:48:24
-2009-12-15 02:48:35
-2009-12-15 02:48:33
-2009-12-15 02:48:19
-2009-12-15 02:48:34
-2009-12-15 02:48:38
-2009-12-15 02:48:21
-2009-12-15 02:48:35
-2009-12-15 02:48:26
-2009-12-15 02:48:39
-2009-12-15 02:48:41
-2009-12-15 02:48:19
-2009-12-15 02:48:29
-2009-12-15 02:48:18
-2009-12-15 02:48:41
-2009-12-15 02:48:26
-2009-12-15 02:48:22
-2009-12-15 02:48:24
-2009-12-15 02:48:32
-2009-12-15 02:48:35
-2009-12-15 02:48:35
-2009-12-15 02:48:37
-2009-12-15 02:48:20
-2009-12-15 02:48:22
-2009-12-15 02:48:21
-2009-12-15 02:48:19
-2009-12-15 02:48:30
-2009-12-15 02:48:36
-2009-12-15 02:48:35
-2009-12-15 02:48:33
-2009-12-15 02:48:33
-2009-12-15 02:48:27
-2009-12-15 02:48:23
-2009-12-15 02:48:34
-2009-12-15 02:48:22
-2009-12-15 02:48:21
-2009-12-15 02:48:21
-2009-12-15 02:48:26
-2009-12-15 02:48:22
-2009-12-15 02:48:22
-2009-12-15 02:48:38
-2009-12-15 02:48:34
-2009-12-15 02:48:38
-2009-12-15 02:48:20
-2009-12-15 02:48:37
-2009-12-15 02:48:20
-2009-12-15 02:48:39
-2009-12-15 02:48:36
-2009-12-15 02:48:36
-2009-12-15 02:48:26
-2009-12-15 02:48:35
-2009-12-15 02:48:37
-2009-12-15 02:48:33
-2009-12-15 02:48:23
-2009-12-15 02:48:38
-2009-12-15 02:48:36
-2009-12-15 02:48:32
-2009-12-15 02:48:27
-2009-12-15 02:48:37
-2009-12-15 02:48:21
-2009-12-15 02:48:21
-2009-12-15 02:48:28
-2009-12-15 02:48:19
-2009-12-15 02:48:32
-2009-12-15 02:48:34
-2009-12-15 02:48:29
-2009-12-15 02:48:18
-2009-12-15 02:48:37
-2009-12-15 02:48:28
-2009-12-15 02:48:39
-2009-12-15 02:48:18
-2009-12-15 02:48:22
-2009-12-15 02:48:22
-2009-12-15 02:48:21
-2009-12-15 02:48:19
-2009-12-15 02:48:25
-2009-12-15 02:48:20
-2009-12-15 02:48:28
-2009-12-15 02:48:40
-2009-12-15 02:48:17
-2009-12-15 02:48:22
-2009-12-15 02:48:38
-2009-12-15 02:48:32
-2009-12-15 02:48:21
-2009-12-15 02:48:37
-2009-12-15 02:48:24
-2009-12-15 02:48:21
-2009-12-15 02:48:41
-2009-12-15 02:48:30
-2009-12-15 02:48:32
-2009-12-15 02:48:28
-2009-12-15 02:48:40
-2009-12-15 02:48:38
-2009-12-15 02:48:33
-2009-12-15 02:48:37
-2009-12-15 02:48:32
-2009-12-15 02:48:22
-2009-12-15 02:48:32
-2009-12-15 02:48:30
-2009-12-15 02:48:41
-2009-12-15 02:48:41
-2009-12-15 02:48:35
-2009-12-15 02:48:32
-2009-12-15 02:48:30
-2009-12-15 02:48:28
-2009-12-15 02:48:26
-2009-12-15 02:48:42
-2009-12-15 02:48:26
-2009-12-15 02:48:24
-2009-12-15 02:48:18
-2009-12-15 02:48:39
-2009-12-15 02:48:39
-2009-12-15 02:48:22
-2009-12-15 02:48:34
-2009-12-15 02:48:27
-2009-12-15 02:48:39
-2009-12-15 02:48:18
-2009-12-15 02:48:26
-2009-12-15 02:48:30
-2009-12-15 02:48:17
-2009-12-15 02:48:17
-2009-12-15 02:48:32
-2009-12-15 02:48:36
-2009-12-15 02:48:32
-2009-12-15 02:48:33
-2009-12-15 02:48:42
-2009-12-15 02:48:27
-2009-12-15 02:48:40
-2009-12-15 02:48:24
-2009-12-15 02:48:24
-2009-12-15 02:48:24
-2009-12-15 02:48:30
-2009-12-15 02:48:36
-2009-12-15 02:48:22
-2009-12-15 02:48:40
-2009-12-15 02:48:19
-2009-12-15 02:48:32
-2009-12-15 02:48:37
-2009-12-15 02:48:21
-2009-12-15 02:48:30
-2009-12-15 02:48:18
-2009-12-15 02:48:41
-2009-12-15 02:48:21
-2009-12-15 02:48:34
-2009-12-15 02:48:27
-2009-12-15 02:48:20
-2009-12-15 02:48:32
-2009-12-15 02:48:28
-2009-12-15 02:48:40
-2009-12-15 02:48:22
-2009-12-15 02:48:17
-2009-12-15 02:48:40
-2009-12-15 02:48:24
-2009-12-15 02:48:29
-2009-12-15 02:48:19
-2009-12-15 02:48:30
-2009-12-15 02:48:27
-2009-12-15 02:48:24
-2009-12-15 02:48:29
-2009-12-15 02:48:27
-2009-12-15 02:48:40
-2009-12-15 02:48:39
-2009-12-15 02:48:41
-2009-12-15 02:48:41
-2009-12-15 02:48:32
-2009-12-15 02:48:28
-2009-12-15 02:48:29
-2009-12-15 02:48:40
-2009-12-15 02:48:19
-2009-12-15 02:48:38
-2009-12-15 02:48:36
-2009-12-15 02:48:18
-2009-12-15 02:48:30
-2009-12-15 02:48:28
-2009-12-15 02:48:27
-2009-12-15 02:48:23
-2009-12-15 02:48:39
-2009-12-15 02:48:33
-2009-12-15 02:48:21
-2009-12-15 02:48:20
-2009-12-15 02:48:18
-2009-12-15 02:48:36
-2009-12-15 02:48:17
-2009-12-15 02:48:38
-2009-12-15 02:48:21
-2009-12-15 02:48:32
-2009-12-15 02:48:38
-2009-12-15 02:48:40
-2009-12-15 02:48:34
-2009-12-15 02:48:29
-2009-12-15 02:48:17
-2009-12-15 02:48:41
-2009-12-15 02:48:26
-2009-12-15 02:48:41
-2009-12-15 02:48:18
-2009-12-15 02:48:23
-2009-12-15 02:48:24
-2009-12-15 02:48:27
-2009-12-15 02:48:28
-2009-12-15 02:48:32
-2009-12-15 02:48:19
-2009-12-15 02:48:41
-2009-12-15 02:48:29
-2009-12-15 02:48:21
-2009-12-15 02:48:30
-2009-12-15 02:48:26
-2009-12-15 02:48:36
-2009-12-15 02:48:19
-2009-12-15 02:48:23
-2009-12-15 02:48:33
-2009-12-15 02:48:35
-2009-12-15 02:48:20
-2009-12-15 02:48:28
-2009-12-15 02:48:33
-2009-12-15 02:48:21
-2009-12-15 02:48:35
-2009-12-15 02:48:41
-2009-12-15 02:48:41
-2009-12-15 02:48:26
-2009-12-15 02:48:20
-2009-12-15 02:48:28
-2009-12-15 02:48:24
-2009-12-15 02:48:38
-2009-12-15 02:48:22
-2009-12-15 02:48:26
-2009-12-15 02:48:29
-2009-12-15 02:48:30
-2009-12-15 02:48:36
-2009-12-15 02:48:32
-2009-12-15 02:48:39
-2009-12-15 02:48:40
-2009-12-15 02:48:37
-2009-12-15 02:48:29
-2009-12-15 02:48:34
-2009-12-15 02:48:23
-2009-12-15 02:48:22
-2009-12-15 02:48:21
-2009-12-15 02:48:40
-2009-12-15 02:48:27
-2009-12-15 02:48:32
-2009-12-15 02:48:27
-2009-12-15 02:48:20
-2009-12-15 02:48:30
-2009-12-15 02:48:26
-2009-12-15 02:48:35
-2009-12-15 02:48:38
-2009-12-15 02:48:42
-2009-12-15 02:48:35
-2009-12-15 02:48:24
-2009-12-15 02:48:27
-2009-12-15 02:48:29
-2009-12-15 02:48:35
-2009-12-15 02:48:38
-2009-12-15 02:48:35
-2009-12-15 02:48:28
-2009-12-15 02:48:28
-2009-12-15 02:48:39
-2009-12-15 02:48:40
-2009-12-15 02:48:27
-2009-12-15 02:48:39
-2009-12-15 02:48:39
-2009-12-15 02:48:41
-2009-12-15 02:48:40
-2009-12-15 02:48:30
-2009-12-15 02:48:23
-2009-12-15 02:48:32
-2009-12-15 02:48:19
-2009-12-15 02:48:21
-2009-12-15 02:48:39
-2009-12-15 02:48:28
-2009-12-15 02:48:23
-2009-12-15 02:48:27
-2009-12-15 02:48:35
-2009-12-15 02:48:24
-2009-12-15 02:48:28
-2009-12-15 02:48:32
-2009-12-15 02:48:29
-2009-12-15 02:48:22
2.0 MiB2009-12-15 02:48:29
1.1 MiB2009-12-15 02:48:30
261.7 KiB2009-12-15 02:48:34
256.1 KiB2009-12-15 02:48:30
252.0 KiB2009-12-15 02:48:35
227.0 KiB2009-12-15 02:48:39
110.2 KiB2009-12-15 02:48:28
58.5 KiB2009-12-15 02:48:30
39.0 KiB2009-12-15 02:48:36
38.9 KiB2009-12-15 02:48:30
38.5 KiB2009-12-15 02:48:24
37.8 KiB2009-12-15 02:48:36
5.8 KiB2009-12-15 02:48:29
4.0 KiB2009-12-15 02:48:36
3.9 KiB2009-12-15 02:48:38
3.9 KiB2009-12-15 02:48:29
3.9 KiB2009-12-15 02:48:23
3.8 KiB2009-12-15 02:48:41