All our mirrors of open source software are available via http, https, ftp and an onion service. More information about our mirrors including statistics and contact information is available on our mirror info pages.
For information about dotsrc.org and our other services please go to our website.
| File Name ↓ | File Size ↓ | Date ↓ | 
|---|---|---|
| Parent directory/ | - | - | 
| ABarray/ | - | 2008-04-10 16:48:16 | 
| ACME/ | - | 2008-04-10 16:48:05 | 
| AffyExpress/ | - | 2008-04-10 16:48:16 | 
| AnnBuilder/ | - | 2008-04-10 16:48:11 | 
| AnnotationDbi/ | - | 2008-04-10 16:48:20 | 
| BAC/ | - | 2008-04-10 16:48:04 | 
| BCRANK/ | - | 2008-04-10 16:48:22 | 
| BGmix/ | - | 2008-04-10 16:48:08 | 
| BSgenome/ | - | 2008-04-10 16:48:15 | 
| BeadExplorer/ | - | 2008-04-10 16:48:18 | 
| BioMVCClass/ | - | 2008-04-10 16:48:12 | 
| Biobase/ | - | 2008-04-10 16:48:11 | 
| BiocCaseStudies/ | - | 2008-04-10 16:48:13 | 
| Biostrings/ | - | 2008-04-10 16:48:13 | 
| BiostringsCinterfaceDemo/ | - | 2008-04-10 16:48:15 | 
| BufferedMatrix/ | - | 2008-04-10 16:48:20 | 
| BufferedMatrixMethods/ | - | 2008-04-10 16:48:17 | 
| CALIB/ | - | 2008-04-10 16:48:08 | 
| CGHcall/ | - | 2008-04-10 16:48:19 | 
| CORREP/ | - | 2008-04-10 16:48:22 | 
| Category/ | - | 2008-04-10 16:48:12 | 
| CoCiteStats/ | - | 2008-04-10 16:48:08 | 
| DEDS/ | - | 2008-04-10 16:48:05 | 
| DNAcopy/ | - | 2008-04-10 16:48:08 | 
| DynDoc/ | - | 2008-04-10 16:48:08 | 
| EBImage/ | - | 2008-04-10 16:48:08 | 
| EBarrays/ | - | 2008-04-10 16:48:18 | 
| GEOmetadb/ | - | 2008-04-10 16:48:15 | 
| GEOquery/ | - | 2008-04-10 16:48:08 | 
| GGtools/ | - | 2008-04-10 16:48:15 | 
| GLAD/ | - | 2008-04-10 16:48:05 | 
| GOstats/ | - | 2008-04-10 16:48:17 | 
| GSEABase/ | - | 2008-04-10 16:48:21 | 
| GSEAlm/ | - | 2008-04-10 16:48:08 | 
| GeneMeta/ | - | 2008-04-10 16:48:09 | 
| GeneR/ | - | 2008-04-10 16:48:09 | 
| GeneRfold/ | - | 2008-04-10 16:48:09 | 
| GeneSelector/ | - | 2008-04-10 16:48:18 | 
| GeneSpring/ | - | 2008-04-10 16:48:11 | 
| GeneTraffic/ | - | 2008-04-10 16:48:12 | 
| GeneticsBase/ | - | 2008-04-10 16:48:07 | 
| GeneticsDesign/ | - | 2008-04-10 16:48:13 | 
| GeneticsPed/ | - | 2008-04-10 16:48:19 | 
| GenomeGraphs/ | - | 2008-04-10 16:48:16 | 
| GlobalAncova/ | - | 2008-04-10 16:48:12 | 
| GraphAT/ | - | 2008-04-10 16:48:22 | 
| GraphAlignment/ | - | 2008-04-10 16:48:14 | 
| HEM/ | - | 2008-04-10 16:48:04 | 
| Harshlight/ | - | 2008-04-10 16:48:22 | 
| Heatplus/ | - | 2008-04-10 16:48:17 | 
| Icens/ | - | 2008-04-10 16:48:09 | 
| KEGGSOAP/ | - | 2008-04-10 16:48:13 | 
| LBE/ | - | 2008-04-10 16:48:04 | 
| LMGene/ | - | 2008-04-10 16:48:09 | 
| LPE/ | - | 2008-04-10 16:48:05 | 
| MANOR/ | - | 2008-04-10 16:48:09 | 
| MCRestimate/ | - | 2008-04-10 16:48:17 | 
| MLInterfaces/ | - | 2008-04-10 16:48:21 | 
| MVCClass/ | - | 2008-04-10 16:48:21 | 
| MantelCorr/ | - | 2008-04-10 16:48:20 | 
| MassSpecWavelet/ | - | 2008-04-10 16:48:20 | 
| MeasurementError.cor/ | - | 2008-04-10 16:48:15 | 
| MergeMaid/ | - | 2008-04-10 16:48:11 | 
| Mfuzz/ | - | 2008-04-10 16:48:09 | 
| MiPP/ | - | 2008-04-10 16:48:06 | 
| OCplus/ | - | 2008-04-10 16:48:10 | 
| OLIN/ | - | 2008-04-10 16:48:06 | 
| OLINgui/ | - | 2008-04-10 16:48:17 | 
| OrderedList/ | - | 2008-04-10 16:48:05 | 
| OutlierD/ | - | 2008-04-10 16:48:13 | 
| PCpheno/ | - | 2008-04-10 16:48:18 | 
| PGSEA/ | - | 2008-04-10 16:48:09 | 
| PROcess/ | - | 2008-04-10 16:48:20 | 
| RBGL/ | - | 2008-04-10 16:48:06 | 
| RBioinf/ | - | 2008-04-10 16:48:22 | 
| RLMM/ | - | 2008-04-10 16:48:06 | 
| RMAGEML/ | - | 2008-04-10 16:48:08 | 
| ROC/ | - | 2008-04-10 16:48:05 | 
| RSNPper/ | - | 2008-04-10 16:48:11 | 
| RWebServices/ | - | 2008-04-10 16:48:13 | 
| RankProd/ | - | 2008-04-10 16:48:11 | 
| RbcBook1/ | - | 2008-04-10 16:48:10 | 
| Rdbi/ | - | 2008-04-10 16:48:06 | 
| RdbiPgSQL/ | - | 2008-04-10 16:48:11 | 
| Rdisop/ | - | 2008-04-10 16:48:12 | 
| RefPlus/ | - | 2008-04-10 16:48:15 | 
| Resourcerer/ | - | 2008-04-10 16:48:22 | 
| Rgraphviz/ | - | 2008-04-10 16:48:12 | 
| Ringo/ | - | 2008-04-10 16:48:09 | 
| Rintact/ | - | 2008-04-10 16:48:16 | 
| Rredland/ | - | 2008-04-10 16:48:17 | 
| Rtreemix/ | - | 2008-04-10 16:48:06 | 
| Ruuid/ | - | 2008-04-10 16:48:09 | 
| SAGElyzer/ | - | 2008-04-10 16:48:12 | 
| SAGx/ | - | 2008-04-10 16:48:06 | 
| SBMLR/ | - | 2008-04-10 16:48:09 | 
| SLGI/ | - | 2008-04-10 16:48:06 | 
| SLqPCR/ | - | 2008-04-10 16:48:12 | 
| SMAP/ | - | 2008-04-10 16:48:06 | 
| SNPchip/ | - | 2008-04-10 16:48:12 | 
| ScISI/ | - | 2008-04-10 16:48:09 | 
| SemSim/ | - | 2008-04-10 16:48:12 | 
| TypeInfo/ | - | 2008-04-10 16:48:21 | 
| VanillaICE/ | - | 2008-04-10 16:48:18 | 
| XDE/ | - | 2008-04-10 16:48:05 | 
| aCGH/ | - | 2008-04-10 16:48:06 | 
| adSplit/ | - | 2008-04-10 16:48:17 | 
| affxparser/ | - | 2008-04-10 16:48:19 | 
| affy/ | - | 2008-04-10 16:48:06 | 
| affyPLM/ | - | 2008-04-10 16:48:17 | 
| affyPara/ | - | 2008-04-10 16:48:21 | 
| affyQCReport/ | - | 2008-04-10 16:48:11 | 
| affycomp/ | - | 2008-04-10 16:48:21 | 
| affycoretools/ | - | 2008-04-10 16:48:17 | 
| affyio/ | - | 2008-04-10 16:48:15 | 
| affylmGUI/ | - | 2008-04-10 16:48:19 | 
| affypdnn/ | - | 2008-04-10 16:48:21 | 
| altcdfenvs/ | - | 2008-04-10 16:48:14 | 
| annaffy/ | - | 2008-04-10 16:48:18 | 
| annotate/ | - | 2008-04-10 16:48:10 | 
| annotationTools/ | - | 2008-04-10 16:48:12 | 
| apComplex/ | - | 2008-04-10 16:48:18 | 
| aroma.light/ | - | 2008-04-10 16:48:20 | 
| arrayMagic/ | - | 2008-04-10 16:48:18 | 
| arrayQuality/ | - | 2008-04-10 16:48:20 | 
| arrayQualityMetrics/ | - | 2008-04-10 16:48:19 | 
| beadarray/ | - | 2008-04-10 16:48:19 | 
| beadarraySNP/ | - | 2008-04-10 16:48:12 | 
| bgafun/ | - | 2008-04-10 16:48:15 | 
| bgx/ | - | 2008-04-10 16:48:05 | 
| bioDist/ | - | 2008-04-10 16:48:19 | 
| biocGraph/ | - | 2008-04-10 16:48:09 | 
| biocViews/ | - | 2008-04-10 16:48:11 | 
| biomaRt/ | - | 2008-04-10 16:48:19 | 
| bridge/ | - | 2008-04-10 16:48:16 | 
| cellHTS/ | - | 2008-04-10 16:48:21 | 
| cellHTS2/ | - | 2008-04-10 16:48:22 | 
| cghMCR/ | - | 2008-04-10 16:48:16 | 
| clusterStab/ | - | 2008-04-10 16:48:15 | 
| codelink/ | - | 2008-04-10 16:48:13 | 
| convert/ | - | 2008-04-10 16:48:08 | 
| copa/ | - | 2008-04-10 16:48:06 | 
| cosmo/ | - | 2008-04-10 16:48:09 | 
| cosmoGUI/ | - | 2008-04-10 16:48:17 | 
| ctc/ | - | 2008-04-10 16:48:05 | 
| daMA/ | - | 2008-04-10 16:48:06 | 
| diffGeneAnalysis/ | - | 2008-04-10 16:48:11 | 
| ecolitk/ | - | 2008-04-10 16:48:11 | 
| edd/ | - | 2008-04-10 16:48:05 | 
| exonmap/ | - | 2008-04-10 16:48:16 | 
| explorase/ | - | 2008-04-10 16:48:12 | 
| externalVector/ | - | 2008-04-10 16:48:13 | 
| factDesign/ | - | 2008-04-10 16:48:12 | 
| fbat/ | - | 2008-04-10 16:48:06 | 
| fdrame/ | - | 2008-04-10 16:48:16 | 
| flowClust/ | - | 2008-04-10 16:48:16 | 
| flowCore/ | - | 2008-04-10 16:48:20 | 
| flowQ/ | - | 2008-04-10 16:48:09 | 
| flowUtils/ | - | 2008-04-10 16:48:16 | 
| flowViz/ | - | 2008-04-10 16:48:15 | 
| gaga/ | - | 2008-04-10 16:48:06 | 
| gaggle/ | - | 2008-04-10 16:48:16 | 
| gcrma/ | - | 2008-04-10 16:48:10 | 
| genArise/ | - | 2008-04-10 16:48:13 | 
| geneRecommender/ | - | 2008-04-10 16:48:10 | 
| genefilter/ | - | 2008-04-10 16:48:17 | 
| geneplotter/ | - | 2008-04-10 16:48:17 | 
| globaltest/ | - | 2008-04-10 16:48:17 | 
| goTools/ | - | 2008-04-10 16:48:17 | 
| gpls/ | - | 2008-04-10 16:48:06 | 
| graph/ | - | 2008-04-10 16:48:10 | 
| hexbin/ | - | 2008-04-10 16:48:16 | 
| hopach/ | - | 2008-04-10 16:48:16 | 
| hypergraph/ | - | 2008-04-10 16:48:18 | 
| idiogram/ | - | 2008-04-10 16:48:15 | 
| impute/ | - | 2008-04-10 16:48:16 | 
| keggorth/ | - | 2008-04-10 16:48:18 | 
| lapmix/ | - | 2008-04-10 16:48:17 | 
| limma/ | - | 2008-04-10 16:48:10 | 
| limmaGUI/ | - | 2008-04-10 16:48:22 | 
| logicFS/ | - | 2008-04-10 16:48:13 | 
| lumi/ | - | 2008-04-10 16:48:07 | 
| maCorrPlot/ | - | 2008-04-10 16:48:16 | 
| maDB/ | - | 2008-04-10 16:48:06 | 
| maSigPro/ | - | 2008-04-10 16:48:08 | 
| maanova/ | - | 2008-04-10 16:48:13 | 
| macat/ | - | 2008-04-10 16:48:10 | 
| made4/ | - | 2008-04-10 16:48:10 | 
| maigesPack/ | - | 2008-04-10 16:48:08 | 
| makePlatformDesign/ | - | 2008-04-10 16:48:21 | 
| makecdfenv/ | - | 2008-04-10 16:48:22 | 
| marray/ | - | 2008-04-10 16:48:17 | 
| matchprobes/ | - | 2008-04-10 16:48:12 | 
| mdqc/ | - | 2008-04-10 16:48:07 | 
| metaArray/ | - | 2008-04-10 16:48:18 | 
| multtest/ | - | 2008-04-10 16:48:13 | 
| nem/ | - | 2008-04-10 16:48:05 | 
| nnNorm/ | - | 2008-04-10 16:48:17 | 
| nudge/ | - | 2008-04-10 16:48:10 | 
| occugene/ | - | 2008-04-10 16:48:19 | 
| oligo/ | - | 2008-04-10 16:48:10 | 
| oligoClasses/ | - | 2008-04-10 16:48:22 | 
| oneChannelGUI/ | - | 2008-04-10 16:48:17 | 
| ontoTools/ | - | 2008-04-10 16:48:15 | 
| pamr/ | - | 2008-04-10 16:48:07 | 
| panp/ | - | 2008-04-10 16:48:07 | 
| pathRender/ | - | 2008-04-10 16:48:16 | 
| pcaMethods/ | - | 2008-04-10 16:48:16 | 
| pcot2/ | - | 2008-04-10 16:48:10 | 
| pdInfoBuilder/ | - | 2008-04-10 16:48:07 | 
| pdmclass/ | - | 2008-04-10 16:48:18 | 
| pgUtils/ | - | 2008-04-10 16:48:19 | 
| pickgene/ | - | 2008-04-10 16:48:13 | 
| pkgDepTools/ | - | 2008-04-10 16:48:10 | 
| plgem/ | - | 2008-04-10 16:48:10 | 
| plier/ | - | 2008-04-10 16:48:10 | 
| plw/ | - | 2008-04-10 16:48:05 | 
| ppiStats/ | - | 2008-04-10 16:48:15 | 
| prada/ | - | 2008-04-10 16:48:10 | 
| preprocessCore/ | - | 2008-04-10 16:48:18 | 
| prism/ | - | 2008-04-10 16:48:10 | 
| puma/ | - | 2008-04-10 16:48:07 | 
| quantsmooth/ | - | 2008-04-10 16:48:17 | 
| qvalue/ | - | 2008-04-10 16:48:18 | 
| rHVDM/ | - | 2008-04-10 16:48:10 | 
| rama/ | - | 2008-04-10 16:48:07 | 
| rbsurv/ | - | 2008-04-10 16:48:18 | 
| reb/ | - | 2008-04-10 16:48:05 | 
| rflowcyt/ | - | 2008-04-10 16:48:12 | 
| rhdf5/ | - | 2008-04-10 16:48:11 | 
| rsbml/ | - | 2008-04-10 16:48:11 | 
| rtracklayer/ | - | 2008-04-10 16:48:16 | 
| safe/ | - | 2008-04-10 16:48:07 | 
| sagenhaft/ | - | 2008-04-10 16:48:08 | 
| seqLogo/ | - | 2008-04-10 16:48:12 | 
| sigPathway/ | - | 2008-04-10 16:48:17 | 
| siggenes/ | - | 2008-04-10 16:48:11 | 
| simpleaffy/ | - | 2008-04-10 16:48:22 | 
| simulatorAPMS/ | - | 2008-04-10 16:48:18 | 
| sizepower/ | - | 2008-04-10 16:48:17 | 
| snapCGH/ | - | 2008-04-10 16:48:13 | 
| snpMatrix/ | - | 2008-04-10 16:48:19 | 
| spikeLI/ | - | 2008-04-10 16:48:14 | 
| splicegear/ | - | 2008-04-10 16:48:13 | 
| splots/ | - | 2008-04-10 16:48:18 | 
| spotSegmentation/ | - | 2008-04-10 16:48:13 | 
| sscore/ | - | 2008-04-10 16:48:18 | 
| ssize/ | - | 2008-04-10 16:48:11 | 
| stam/ | - | 2008-04-10 16:48:07 | 
| stepNorm/ | - | 2008-04-10 16:48:19 | 
| tilingArray/ | - | 2008-04-10 16:48:21 | 
| timecourse/ | - | 2008-04-10 16:48:16 | 
| tkWidgets/ | - | 2008-04-10 16:48:13 | 
| topGO/ | - | 2008-04-10 16:48:11 | 
| twilight/ | - | 2008-04-10 16:48:20 | 
| vbmp/ | - | 2008-04-10 16:48:07 | 
| vsn/ | - | 2008-04-10 16:48:05 | 
| weaver/ | - | 2008-04-10 16:48:18 | 
| webbioc/ | - | 2008-04-10 16:48:19 | 
| widgetInvoke/ | - | 2008-04-10 16:48:17 | 
| widgetTools/ | - | 2008-04-10 16:48:12 | 
| xcms/ | - | 2008-04-10 16:48:07 | 
| xps/ | - | 2008-04-10 16:48:05 | 
| yaqcaffy/ | - | 2008-04-10 16:48:18 | 
| STATUS_DB.txt | 94.3 KiB | 2008-04-10 16:48:12 | 
| index.html | 985.5 KiB | 2008-04-10 16:48:13 | 
| lamb1-NodeInfo.html | 4.1 KiB | 2008-04-10 16:48:18 | 
| lamb1-R-instpkgs.html | 26.1 KiB | 2008-04-10 16:48:15 | 
| lamb1-index.html | 179.5 KiB | 2008-04-10 16:48:13 | 
| liverpool-NodeInfo.html | 3.9 KiB | 2008-04-10 16:48:22 | 
| liverpool-R-instpkgs.html | 27.6 KiB | 2008-04-10 16:48:17 | 
| liverpool-index.html | 206.6 KiB | 2008-04-10 16:48:16 | 
| meat-index.txt | 43.6 KiB | 2008-04-10 16:48:13 | 
| pelham-NodeInfo.html | 4.0 KiB | 2008-04-10 16:48:17 | 
| pelham-R-instpkgs.html | 25.7 KiB | 2008-04-10 16:48:14 | 
| pelham-index.html | 203.6 KiB | 2008-04-10 16:48:14 | 
| report.css | 5.6 KiB | 2008-04-10 16:48:13 | 
| report.tgz | 2.1 MiB | 2008-04-10 16:48:13 | 
| wellington-NodeInfo.html | 3.8 KiB | 2008-04-10 16:48:07 | 
| wellington-R-instpkgs.html | 26.0 KiB | 2008-04-10 16:48:07 | 
| wellington-index.html | 185.9 KiB | 2008-04-10 16:48:20 | 
| wilson2-NodeInfo.html | 3.8 KiB | 2008-04-10 16:48:09 | 
| wilson2-R-instpkgs.html | 26.1 KiB | 2008-04-10 16:48:17 | 
| wilson2-index.html | 182.1 KiB | 2008-04-10 16:48:20 |