All our mirrors of open source software are available via http, https, ftp and an onion service. More information about our mirrors including statistics and contact information is available on our mirror info pages.
For information about dotsrc.org and our other services please go to our website.
| File Name ↓ | File Size ↓ | Date ↓ | 
|---|---|---|
| Parent directory/ | - | - | 
| ABSSeq/ | - | 2014-10-08 16:07:47 | 
| ABarray/ | - | 2014-10-08 16:02:50 | 
| ACME/ | - | 2014-10-08 16:03:09 | 
| ADaCGH2/ | - | 2014-10-08 16:04:32 | 
| AGDEX/ | - | 2014-10-08 16:05:09 | 
| ARRmNormalization/ | - | 2014-10-08 16:06:12 | 
| ASEB/ | - | 2014-10-08 16:05:19 | 
| ASSET/ | - | 2014-10-08 16:06:48 | 
| ASSIGN/ | - | 2014-10-08 16:07:47 | 
| AffyCompatible/ | - | 2014-10-08 16:03:36 | 
| AffyExpress/ | - | 2014-10-08 16:03:18 | 
| AffyRNADegradation/ | - | 2014-10-08 16:05:19 | 
| AffyTiling/ | - | 2014-10-08 16:03:48 | 
| Agi4x44PreProcess/ | - | 2014-03-18 16:55:24 | 
| AgiMicroRna/ | - | 2014-10-08 16:04:03 | 
| AllelicImbalance/ | - | 2014-10-08 16:07:00 | 
| AnnotationDbi/ | - | 2014-10-08 16:02:58 | 
| AnnotationForge/ | - | 2014-10-08 16:05:38 | 
| AnnotationFuncs/ | - | 2014-10-08 16:04:45 | 
| AnnotationHub/ | - | 2014-10-08 16:06:18 | 
| ArrayExpress/ | - | 2014-10-08 16:03:45 | 
| ArrayExpressHTS/ | - | 2014-10-08 16:04:52 | 
| ArrayTV/ | - | 2014-10-08 16:06:53 | 
| ArrayTools/ | - | 2014-10-08 16:03:44 | 
| AtlasRDF/ | - | 2014-10-08 16:07:20 | 
| BAC/ | - | 2014-10-08 16:03:28 | 
| BADER/ | - | 2014-10-08 16:06:52 | 
| BAGS/ | - | 2014-10-08 16:05:22 | 
| BCRANK/ | - | 2014-10-08 16:03:30 | 
| BEAT/ | - | 2014-10-08 16:07:20 | 
| BGmix/ | - | 2014-10-08 16:03:26 | 
| BHC/ | - | 2014-10-08 16:04:21 | 
| BRAIN/ | - | 2014-10-08 16:05:26 | 
| BSgenome/ | - | 2014-10-08 16:02:48 | 
| BUS/ | - | 2014-10-08 16:04:00 | 
| BaseSpaceR/ | - | 2014-10-08 16:06:16 | 
| Basic4Cseq/ | - | 2014-10-08 16:07:39 | 
| BayesPeak/ | - | 2014-10-08 16:04:17 | 
| BeadDataPackR/ | - | 2014-10-08 16:04:14 | 
| BiGGR/ | - | 2014-10-08 16:06:50 | 
| BiRewire/ | - | 2014-10-08 16:06:54 | 
| BiSeq/ | - | 2014-10-08 16:06:23 | 
| BicARE/ | - | 2014-10-08 16:03:47 | 
| BioMVCClass/ | - | 2014-10-08 16:02:52 | 
| BioNet/ | - | 2014-10-08 16:04:23 | 
| BioSeqClass/ | - | 2014-10-08 16:04:07 | 
| Biobase/ | - | 2014-10-08 16:01:57 | 
| BiocCaseStudies/ | - | 2014-10-08 16:03:26 | 
| BiocCheck/ | - | 2014-10-08 16:07:49 | 
| BiocGenerics/ | - | 2014-10-08 16:05:18 | 
| BiocInstaller/ | - | 2014-10-08 16:04:51 | 
| BiocParallel/ | - | 2014-10-08 16:05:58 | 
| BiocStyle/ | - | 2014-10-08 16:06:33 | 
| Biostrings/ | - | 2014-10-08 16:02:12 | 
| BitSeq/ | - | 2014-10-08 16:05:31 | 
| BrainStars/ | - | 2014-10-08 16:05:28 | 
| BufferedMatrix/ | - | 2014-10-08 16:03:00 | 
| BufferedMatrixMethods/ | - | 2014-10-08 16:03:00 | 
| CAFE/ | - | 2014-10-08 16:07:40 | 
| CAGEr/ | - | 2014-10-08 16:06:10 | 
| CALIB/ | - | 2014-10-08 16:03:07 | 
| CAMERA/ | - | 2014-10-08 16:03:52 | 
| CGEN/ | - | 2014-10-08 16:04:23 | 
| CGHbase/ | - | 2014-10-08 16:03:38 | 
| CGHcall/ | - | 2014-10-08 16:03:18 | 
| CGHnormaliter/ | - | 2014-10-08 16:04:05 | 
| CGHregions/ | - | 2014-10-08 16:03:38 | 
| CMA/ | - | 2014-10-08 16:03:38 | 
| CNAnorm/ | - | 2014-10-08 16:05:09 | 
| CNEr/ | - | 2014-10-08 16:07:33 | 
| CNORdt/ | - | 2014-10-08 16:05:51 | 
| CNORfeeder/ | - | 2014-10-08 16:06:16 | 
| CNORfuzzy/ | - | 2014-10-08 16:05:45 | 
| CNORode/ | - | 2014-10-08 16:05:51 | 
| CNTools/ | - | 2014-10-08 16:03:58 | 
| CNVrd2/ | - | 2014-10-08 16:07:13 | 
| CNVtools/ | - | 2014-10-08 16:04:06 | 
| COHCAP/ | - | 2014-10-08 16:07:19 | 
| COMPASS/ | - | 2014-10-08 16:07:33 | 
| COPDSexualDimorphism/ | - | 2014-10-08 16:07:40 | 
| CORREP/ | - | 2014-10-08 16:03:10 | 
| CRISPRseek/ | - | 2014-10-08 16:07:14 | 
| CRImage/ | - | 2014-10-08 16:04:29 | 
| CSAR/ | - | 2014-10-08 16:04:08 | 
| CSSP/ | - | 2014-10-08 16:06:37 | 
| CancerMutationAnalysis/ | - | 2014-10-08 16:05:31 | 
| Category/ | - | 2014-10-08 16:02:31 | 
| CellNOptR/ | - | 2014-10-08 16:05:15 | 
| CexoR/ | - | 2014-10-08 16:07:01 | 
| ChAMP/ | - | 2014-10-08 16:07:10 | 
| ChIPQC/ | - | 2014-10-08 16:07:47 | 
| ChIPXpress/ | - | 2014-10-08 16:05:44 | 
| ChIPpeakAnno/ | - | 2014-10-08 16:04:01 | 
| ChIPseeker/ | - | 2014-10-08 16:07:55 | 
| ChIPseqR/ | - | 2014-10-08 16:04:06 | 
| ChIPsim/ | - | 2014-10-08 16:04:02 | 
| ChemmineOB/ | - | 2014-10-08 16:06:48 | 
| ChemmineR/ | - | 2014-10-08 16:03:45 | 
| ChromHeatMap/ | - | 2014-10-08 16:04:05 | 
| Clomial/ | - | 2014-10-08 16:07:38 | 
| Clonality/ | - | 2014-10-08 16:04:37 | 
| CoCiteStats/ | - | 2014-10-08 16:02:25 | 
| CoGAPS/ | - | 2014-10-08 15:48:51 | 
| CompGO/ | - | 2014-10-08 16:07:48 | 
| ConsensusClusterPlus/ | - | 2014-10-08 16:04:10 | 
| CopyNumber450k/ | - | 2014-10-08 16:07:35 | 
| CorMut/ | - | 2014-10-08 16:05:41 | 
| Cormotif/ | - | 2014-10-08 16:04:57 | 
| CoverageView/ | - | 2014-10-08 16:07:50 | 
| DART/ | - | 2014-10-08 16:05:22 | 
| DASiR/ | - | 2014-10-08 16:06:19 | 
| DAVIDQuery/ | - | 2014-10-08 16:03:51 | 
| DBChIP/ | - | 2014-10-08 16:05:40 | 
| DECIPHER/ | - | 2014-10-08 16:05:10 | 
| DEDS/ | - | 2014-10-08 16:02:22 | 
| DEGraph/ | - | 2014-10-08 16:04:32 | 
| DEGseq/ | - | 2014-10-08 16:04:07 | 
| DESeq/ | - | 2014-10-08 16:04:09 | 
| DESeq2/ | - | 2014-10-08 16:06:10 | 
| DEXSeq/ | - | 2014-10-08 16:04:55 | 
| DFP/ | - | 2014-10-08 16:03:41 | 
| DMRcate/ | - | 2014-10-08 16:07:36 | 
| DMRforPairs/ | - | 2014-10-08 16:07:51 | 
| DNAcopy/ | - | 2014-10-08 16:02:17 | 
| DNaseR/ | - | 2014-10-08 16:07:02 | 
| DOSE/ | - | 2014-10-08 16:04:55 | 
| DSS/ | - | 2014-10-08 16:05:38 | 
| DTA/ | - | 2014-10-08 16:05:08 | 
| DeconRNASeq/ | - | 2014-10-08 16:05:49 | 
| DiffBind/ | - | 2014-10-08 16:05:08 | 
| DirichletMultinomial/ | - | 2014-10-08 16:05:34 | 
| DriverNet/ | - | 2014-10-08 16:05:59 | 
| DrugVsDisease/ | - | 2014-10-08 16:06:06 | 
| DynDoc/ | - | 2014-10-08 16:01:57 | 
| EBImage/ | - | 2014-10-08 16:02:46 | 
| EBSeq/ | - | 2014-10-08 16:06:26 | 
| EBarrays/ | - | 2014-10-08 16:02:13 | 
| EBcoexpress/ | - | 2014-10-08 16:05:32 | 
| EDASeq/ | - | 2014-10-08 16:05:08 | 
| EDDA/ | - | 2014-10-08 16:07:37 | 
| ELBOW/ | - | 2014-10-08 16:07:28 | 
| ENVISIONQuery/ | - | 2014-10-08 16:04:45 | 
| EasyqpcR/ | - | 2014-10-08 16:05:45 | 
| ExiMiR/ | - | 2014-10-08 16:04:40 | 
| ExpressionView/ | - | 2014-10-08 16:04:16 | 
| FGNet/ | - | 2014-10-08 16:07:09 | 
| FRGEpistasis/ | - | 2014-10-08 16:07:48 | 
| FunciSNP/ | - | 2014-10-08 16:05:37 | 
| GENE.E/ | - | 2014-10-08 16:06:21 | 
| GEOmetadb/ | - | 2014-10-08 16:03:34 | 
| GEOquery/ | - | 2014-10-08 16:02:40 | 
| GEOsubmission/ | - | 2014-10-08 16:04:19 | 
| GEWIST/ | - | 2014-10-08 16:05:20 | 
| GGBase/ | - | 2014-10-08 16:03:36 | 
| GGtools/ | - | 2014-10-08 16:02:53 | 
| GLAD/ | - | 2014-10-08 16:02:21 | 
| GOFunction/ | - | 2014-10-08 16:04:58 | 
| GOSemSim/ | - | 2014-10-08 16:03:49 | 
| GOSim/ | - | 2014-10-08 16:06:55 | 
| GOTHiC/ | - | 2014-10-08 16:07:13 | 
| GOstats/ | - | 2014-10-08 16:02:17 | 
| GRENITS/ | - | 2014-10-08 16:04:59 | 
| GSCA/ | - | 2014-10-08 16:07:34 | 
| GSEABase/ | - | 2014-10-08 16:03:14 | 
| GSEAlm/ | - | 2014-10-08 16:03:30 | 
| GSRI/ | - | 2014-10-08 16:04:20 | 
| GSVA/ | - | 2014-10-08 16:04:51 | 
| GWASTools/ | - | 2014-10-08 16:05:10 | 
| GeneAnswers/ | - | 2014-10-08 16:04:05 | 
| GeneExpressionSignature/ | - | 2014-10-08 16:05:05 | 
| GeneGA/ | - | 2014-10-08 16:04:31 | 
| GeneMeta/ | - | 2014-10-08 16:02:32 | 
| GeneNetworkBuilder/ | - | 2014-10-08 16:05:45 | 
| GeneOverlap/ | - | 2014-10-08 16:07:20 | 
| GeneRegionScan/ | - | 2014-10-08 16:03:56 | 
| GeneSelectMMD/ | - | 2014-10-08 16:03:54 | 
| GeneSelector/ | - | 2014-10-08 16:03:34 | 
| GeneticsDesign/ | - | 2014-10-08 16:03:01 | 
| GeneticsPed/ | - | 2014-10-08 16:03:09 | 
| GenomeGraphs/ | - | 2014-10-08 16:03:34 | 
| GenomeInfoDb/ | - | 2014-10-08 16:07:30 | 
| GenomicAlignments/ | - | 2014-10-08 16:07:13 | 
| GenomicFeatures/ | - | 2014-10-08 16:04:04 | 
| GenomicFiles/ | - | 2014-10-08 16:07:54 | 
| GenomicRanges/ | - | 2014-10-08 16:04:14 | 
| Genominator/ | - | 2014-10-08 16:04:08 | 
| GlobalAncova/ | - | 2014-10-08 16:02:37 | 
| GraphAT/ | - | 2014-10-08 16:02:18 | 
| GraphAlignment/ | - | 2014-10-08 16:03:29 | 
| GraphPAC/ | - | 2014-10-08 16:06:00 | 
| Gviz/ | - | 2014-10-08 16:05:24 | 
| HCsnip/ | - | 2014-10-08 16:06:13 | 
| HELP/ | - | 2014-10-08 16:03:38 | 
| HEM/ | - | 2014-10-08 16:02:18 | 
| HMMcopy/ | - | 2014-10-08 16:05:52 | 
| HTSFilter/ | - | 2014-10-08 16:06:07 | 
| HTSanalyzeR/ | - | 2014-10-08 16:04:24 | 
| HTSeqGenie/ | - | 2014-10-08 15:49:43 | 
| HTqPCR/ | - | 2014-10-08 16:04:06 | 
| Harshlight/ | - | 2014-10-08 16:02:50 | 
| Heatplus/ | - | 2014-10-08 16:02:46 | 
| HiTC/ | - | 2014-10-08 16:05:32 | 
| HilbertVis/ | - | 2014-10-08 16:03:47 | 
| HilbertVisGUI/ | - | 2014-10-08 16:03:48 | 
| HybridMTest/ | - | 2014-10-08 16:05:27 | 
| INPower/ | - | 2014-10-08 16:07:41 | 
| IPPD/ | - | 2014-10-08 16:04:34 | 
| IRanges/ | - | 2014-10-08 16:02:11 | 
| ITALICS/ | - | 2014-10-08 16:03:41 | 
| Icens/ | - | 2014-10-08 16:02:13 | 
| IdMappingAnalysis/ | - | 2014-10-08 16:05:27 | 
| IdMappingRetrieval/ | - | 2014-10-08 16:04:58 | 
| IsoGeneGUI/ | - | 2014-10-08 16:04:23 | 
| KCsmart/ | - | 2014-10-08 16:03:45 | 
| KEGGREST/ | - | 2014-10-08 16:06:05 | 
| KEGGSOAP/ | - | 2013-10-08 17:03:34 | 
| KEGGgraph/ | - | 2014-10-08 16:03:49 | 
| KEGGprofile/ | - | 2014-10-08 16:05:39 | 
| LBE/ | - | 2014-10-08 16:03:02 | 
| LMGene/ | - | 2014-10-08 16:02:34 | 
| LPE/ | - | 2014-10-08 16:02:10 | 
| LPEadj/ | - | 2014-10-08 16:03:37 | 
| LVSmiRNA/ | - | 2014-10-08 16:04:29 | 
| LiquidAssociation/ | - | 2014-10-08 16:04:06 | 
| MANOR/ | - | 2014-10-08 16:02:39 | 
| MBCB/ | - | 2014-10-08 16:04:22 | 
| MCRestimate/ | - | 2014-10-08 16:03:48 | 
| MEDIPS/ | - | 2014-10-08 16:04:32 | 
| MEDME/ | - | 2014-10-08 16:03:43 | 
| MIMOSA/ | - | 2014-10-08 16:07:32 | 
| MLInterfaces/ | - | 2014-10-08 16:02:19 | 
| MLP/ | - | 2014-10-08 16:04:33 | 
| MLSeq/ | - | 2014-10-08 16:07:43 | 
| MMDiff/ | - | 2014-10-08 16:06:21 | 
| MSnbase/ | - | 2014-10-08 16:04:44 | 
| MSstats/ | - | 2014-10-08 16:07:05 | 
| MVCClass/ | - | 2014-10-08 16:02:23 | 
| MantelCorr/ | - | 2014-10-08 16:02:39 | 
| MassArray/ | - | 2014-10-08 16:04:12 | 
| MassSpecWavelet/ | - | 2014-10-08 16:03:09 | 
| MeSHDbi/ | - | 2014-10-08 16:07:54 | 
| MeasurementError.cor/ | - | 2014-10-08 16:02:07 | 
| MergeMaid/ | - | 2014-10-08 16:02:18 | 
| MethylSeekR/ | - | 2014-10-08 16:06:07 | 
| Mfuzz/ | - | 2014-10-08 16:02:43 | 
| MiChip/ | - | 2014-10-08 16:04:03 | 
| MiPP/ | - | 2014-10-08 16:02:29 | 
| MiRaGE/ | - | 2014-10-08 16:05:36 | 
| MineICA/ | - | 2014-10-08 16:06:09 | 
| MinimumDistance/ | - | 2014-10-08 16:05:33 | 
| Mirsynergy/ | - | 2014-10-08 16:07:31 | 
| MmPalateMiRNA/ | - | 2014-10-08 16:05:14 | 
| MotIV/ | - | 2014-10-08 16:04:15 | 
| MotifDb/ | - | 2014-10-08 16:05:44 | 
| Mulcom/ | - | 2014-10-08 16:04:26 | 
| NCIgraph/ | - | 2014-10-08 16:04:49 | 
| NOISeq/ | - | 2014-10-08 16:05:53 | 
| NTW/ | - | 2014-10-08 16:04:22 | 
| NarrowPeaks/ | - | 2014-10-08 16:05:25 | 
| NetPathMiner/ | - | 2014-10-08 16:07:55 | 
| NetSAM/ | - | 2014-10-08 16:06:30 | 
| NormqPCR/ | - | 2014-10-08 16:05:01 | 
| NuPoP/ | - | 2014-10-08 16:04:25 | 
| OCplus/ | - | 2014-10-08 16:02:46 | 
| OLIN/ | - | 2014-10-08 16:02:19 | 
| OLINgui/ | - | 2014-10-08 16:02:22 | 
| OSAT/ | - | 2014-10-08 16:05:39 | 
| OTUbase/ | - | 2014-10-08 16:04:28 | 
| OmicCircos/ | - | 2014-10-08 16:06:34 | 
| OrderedList/ | - | 2014-10-08 16:02:48 | 
| OrganismDbi/ | - | 2014-10-08 16:05:47 | 
| OutlierD/ | - | 2014-10-08 16:03:20 | 
| PADOG/ | - | 2014-10-08 16:05:43 | 
| PANR/ | - | 2014-10-08 16:05:07 | 
| PAPi/ | - | 2014-10-08 16:06:20 | 
| PAnnBuilder/ | - | 2014-10-08 16:03:53 | 
| PCpheno/ | - | 2014-10-08 16:03:28 | 
| PECA/ | - | 2014-10-08 16:07:15 | 
| PGSEA/ | - | 2014-10-08 16:03:08 | 
| PICS/ | - | 2014-10-08 16:04:18 | 
| PING/ | - | 2014-10-08 16:05:26 | 
| PLPE/ | - | 2014-10-08 16:03:43 | 
| PREDA/ | - | 2014-10-08 16:05:03 | 
| PROMISE/ | - | 2014-10-08 16:04:19 | 
| PROcess/ | - | 2014-10-08 16:02:14 | 
| PSICQUIC/ | - | 2014-10-08 16:07:12 | 
| PWMEnrich/ | - | 2014-10-08 16:05:38 | 
| PathNet/ | - | 2014-10-08 16:06:06 | 
| PhenStat/ | - | 2014-10-08 16:07:17 | 
| ProCoNA/ | - | 2014-10-08 16:06:57 | 
| QDNAseq/ | - | 2014-10-08 16:07:44 | 
| QUALIFIER/ | - | 2014-10-08 16:05:25 | 
| QuasR/ | - | 2014-10-08 16:06:05 | 
| R453Plus1Toolbox/ | - | 2014-10-08 16:04:32 | 
| RBGL/ | - | 2014-10-08 16:02:08 | 
| RBioinf/ | - | 2014-10-08 16:03:35 | 
| RCASPAR/ | - | 2014-10-08 16:04:54 | 
| RCytoscape/ | - | 2014-10-08 16:04:25 | 
| RDAVIDWebService/ | - | 2014-10-08 16:06:32 | 
| RDRToolbox/ | - | 2014-10-08 16:04:25 | 
| REDseq/ | - | 2014-10-08 16:04:53 | 
| RGalaxy/ | - | 2014-10-08 16:05:39 | 
| RIPSeeker/ | - | 2014-10-08 16:05:55 | 
| RLMM/ | - | 2014-10-08 16:02:38 | 
| RMAPPER/ | - | 2014-10-08 16:04:31 | 
| RMassBank/ | - | 2014-10-08 16:05:44 | 
| RNASeqPower/ | - | 2014-10-08 16:06:14 | 
| RNAinteract/ | - | 2014-10-08 16:04:42 | 
| RNAither/ | - | 2014-10-08 16:03:44 | 
| ROC/ | - | 2014-10-08 16:01:59 | 
| ROntoTools/ | - | 2014-10-08 16:06:18 | 
| RPA/ | - | 2014-10-08 16:04:01 | 
| RRHO/ | - | 2014-10-08 16:06:39 | 
| RSVSim/ | - | 2014-10-08 16:06:01 | 
| RTCA/ | - | 2014-10-08 16:04:04 | 
| RTN/ | - | 2014-10-08 16:06:43 | 
| RTopper/ | - | 2014-10-08 16:05:07 | 
| RWebServices/ | - | 2014-10-08 15:48:09 | 
| RamiGO/ | - | 2014-10-08 16:05:00 | 
| RankProd/ | - | 2014-10-08 16:02:28 | 
| Rariant/ | - | 2014-10-08 16:07:49 | 
| RbcBook1/ | - | 2014-10-08 16:02:56 | 
| Rbowtie/ | - | 2014-10-08 16:06:04 | 
| Rcade/ | - | 2014-10-08 16:05:52 | 
| Rchemcpp/ | - | 2014-10-08 16:06:42 | 
| RchyOptimyx/ | - | 2014-10-08 16:05:30 | 
| Rcpi/ | - | 2014-10-08 16:07:44 | 
| Rdisop/ | - | 2014-10-08 16:03:23 | 
| ReQON/ | - | 2014-10-08 16:05:15 | 
| ReactomePA/ | - | 2014-10-08 16:05:28 | 
| ReadqPCR/ | - | 2014-10-08 16:04:57 | 
| RedeR/ | - | 2014-10-08 16:05:00 | 
| RefNet/ | - | 2014-10-08 16:07:53 | 
| RefPlus/ | - | 2014-10-08 16:02:58 | 
| Repitools/ | - | 2014-10-08 16:04:56 | 
| ReportingTools/ | - | 2014-10-08 16:05:50 | 
| Resourcerer/ | - | 2014-10-08 16:02:16 | 
| Rgraphviz/ | - | 2014-10-08 16:02:04 | 
| Ringo/ | - | 2014-10-08 16:03:08 | 
| Risa/ | - | 2014-10-08 16:05:48 | 
| Rmagpie/ | - | 2014-10-08 16:03:57 | 
| RmiR/ | - | 2014-10-08 16:03:59 | 
| Roleswitch/ | - | 2014-10-08 16:06:51 | 
| Rolexa/ | - | 2014-10-08 16:04:00 | 
| RpsiXML/ | - | 2014-10-08 16:03:42 | 
| Rsamtools/ | - | 2014-10-08 16:04:16 | 
| Rsubread/ | - | 2014-10-08 16:04:47 | 
| Rtreemix/ | - | 2014-10-08 16:03:25 | 
| SAGx/ | - | 2014-10-08 16:02:54 | 
| SANTA/ | - | 2014-10-08 16:06:11 | 
| SBMLR/ | - | 2014-10-08 16:02:24 | 
| SCAN.UPC/ | - | 2014-10-08 16:05:50 | 
| SIM/ | - | 2014-10-08 16:03:39 | 
| SJava/ | - | 2014-10-08 15:48:37 | 
| SLGI/ | - | 2014-10-08 16:03:27 | 
| SLqPCR/ | - | 2014-10-08 16:03:03 | 
| SMAP/ | - | 2014-10-08 16:03:16 | 
| SNAGEE/ | - | 2014-10-08 16:05:56 | 
| SNPchip/ | - | 2014-10-08 16:02:45 | 
| SPEM/ | - | 2014-10-08 16:06:16 | 
| SPIA/ | - | 2014-10-08 16:03:51 | 
| SQUADD/ | - | 2014-10-08 16:04:27 | 
| SRAdb/ | - | 2014-10-08 16:04:18 | 
| SSPA/ | - | 2014-10-08 16:03:55 | 
| STRINGdb/ | - | 2014-10-08 16:07:00 | 
| SamSPECTRAL/ | - | 2014-10-08 16:04:13 | 
| ScISI/ | - | 2014-10-08 16:02:43 | 
| SeqArray/ | - | 2014-10-08 16:06:15 | 
| SeqGSEA/ | - | 2014-10-08 16:06:19 | 
| SeqVarTools/ | - | 2014-10-08 16:06:44 | 
| Seqnames/ | - | 2014-02-12 18:15:10 | 
| ShortRead/ | - | 2014-10-08 16:03:37 | 
| SigFuge/ | - | 2014-10-08 16:06:35 | 
| SimBindProfiles/ | - | 2014-10-08 16:06:59 | 
| SomatiCA/ | - | 2014-10-08 16:06:08 | 
| SomaticSignatures/ | - | 2014-10-08 16:07:31 | 
| SpacePAC/ | - | 2014-10-08 16:06:45 | 
| SpeCond/ | - | 2014-10-08 16:04:07 | 
| SplicingGraphs/ | - | 2014-10-08 16:06:24 | 
| Starr/ | - | 2014-10-08 16:04:02 | 
| Streamer/ | - | 2014-10-08 16:05:01 | 
| Sushi/ | - | 2014-10-08 16:07:51 | 
| SwimR/ | - | 2014-10-08 16:06:47 | 
| TCC/ | - | 2014-10-08 16:06:50 | 
| TDARACNE/ | - | 2014-10-08 16:04:39 | 
| TEQC/ | - | 2014-10-08 16:04:35 | 
| TFBSTools/ | - | 2014-10-08 16:07:08 | 
| TSSi/ | - | 2014-10-08 16:05:03 | 
| TargetScore/ | - | 2014-10-08 16:06:35 | 
| TargetSearch/ | - | 2014-10-08 16:03:57 | 
| TitanCNA/ | - | 2014-10-08 16:07:52 | 
| TransView/ | - | 2014-10-08 16:05:53 | 
| TurboNorm/ | - | 2014-10-08 16:04:36 | 
| TypeInfo/ | - | 2014-10-08 16:02:49 | 
| UNDO/ | - | 2014-10-08 16:07:45 | 
| UniProt.ws/ | - | 2014-10-08 16:05:57 | 
| VanillaICE/ | - | 2014-10-08 16:03:19 | 
| VariantAnnotation/ | - | 2014-10-08 16:05:02 | 
| VariantFiltering/ | - | 2014-10-08 16:07:50 | 
| VariantTools/ | - | 2014-10-08 15:49:44 | 
| Vega/ | - | 2014-10-08 16:04:37 | 
| VegaMC/ | - | 2014-10-08 16:05:30 | 
| XDE/ | - | 2014-10-08 16:03:29 | 
| XVector/ | - | 2014-10-08 16:06:25 | 
| a4/ | - | 2014-10-08 16:04:50 | 
| a4Base/ | - | 2014-10-08 16:04:50 | 
| a4Classif/ | - | 2014-10-08 16:04:50 | 
| a4Core/ | - | 2014-10-08 16:04:50 | 
| a4Preproc/ | - | 2014-10-08 16:04:50 | 
| a4Reporting/ | - | 2014-10-08 16:04:50 | 
| aCGH/ | - | 2014-10-08 16:02:17 | 
| adSplit/ | - | 2014-10-08 16:02:44 | 
| affxparser/ | - | 2014-10-08 16:02:36 | 
| affy/ | - | 2014-10-08 16:02:01 | 
| affyContam/ | - | 2014-10-08 16:03:47 | 
| affyILM/ | - | 2014-10-08 16:04:20 | 
| affyPLM/ | - | 2014-10-08 16:02:08 | 
| affyPara/ | - | 2014-10-08 16:03:31 | 
| affyQCReport/ | - | 2014-10-08 16:02:33 | 
| affycomp/ | - | 2014-10-08 16:02:05 | 
| affycoretools/ | - | 2014-10-08 16:02:38 | 
| affyio/ | - | 2014-10-08 16:02:00 | 
| affylmGUI/ | - | 2014-10-08 16:02:15 | 
| affypdnn/ | - | 2014-10-08 16:02:10 | 
| agilp/ | - | 2014-10-08 16:05:51 | 
| alsace/ | - | 2014-10-08 16:07:39 | 
| altcdfenvs/ | - | 2014-10-08 16:02:14 | 
| ampliQueso/ | - | 2014-10-08 16:07:00 | 
| annaffy/ | - | 2014-10-08 16:02:06 | 
| annmap/ | - | 2014-10-08 16:05:37 | 
| annotate/ | - | 2014-10-08 16:01:57 | 
| annotationTools/ | - | 2014-10-08 16:03:02 | 
| anota/ | - | 2014-10-08 16:04:50 | 
| antiProfiles/ | - | 2014-10-08 16:06:20 | 
| apComplex/ | - | 2014-10-08 16:02:25 | 
| aroma.light/ | - | 2014-10-08 16:02:51 | 
| arrayMvout/ | - | 2014-10-08 16:03:47 | 
| arrayQuality/ | - | 2014-10-08 16:02:14 | 
| arrayQualityMetrics/ | - | 2014-10-08 16:03:17 | 
| asmn/ | - | 2014-10-08 16:07:19 | 
| attract/ | - | 2014-10-08 16:04:21 | 
| baySeq/ | - | 2014-10-08 16:04:05 | 
| beadarray/ | - | 2014-10-08 16:02:43 | 
| beadarraySNP/ | - | 2014-10-08 16:02:53 | 
| betr/ | - | 2014-10-08 16:03:54 | 
| bgafun/ | - | 2014-10-08 16:03:20 | 
| bgx/ | - | 2014-10-08 16:03:12 | 
| bigmemoryExtras/ | - | 2014-10-08 16:05:51 | 
| bioDist/ | - | 2014-10-08 16:02:24 | 
| bioassayR/ | - | 2014-10-08 16:07:01 | 
| biocGraph/ | - | 2014-10-08 16:03:14 | 
| biocViews/ | - | 2014-10-08 16:02:37 | 
| biomaRt/ | - | 2014-10-08 16:02:25 | 
| biomvRCNS/ | - | 2014-10-08 16:06:09 | 
| biosvd/ | - | 2014-10-08 16:07:28 | 
| biovizBase/ | - | 2014-10-08 16:05:09 | 
| birta/ | - | 2014-10-08 16:05:28 | 
| bridge/ | - | 2014-10-08 16:02:31 | 
| bsseq/ | - | 2014-10-08 16:05:40 | 
| bumphunter/ | - | 2014-10-08 16:05:59 | 
| cancerclass/ | - | 2014-10-08 16:05:34 | 
| casper/ | - | 2014-10-08 16:06:05 | 
| categoryCompare/ | - | 2014-10-08 16:05:34 | 
| ccrepe/ | - | 2014-10-08 16:07:16 | 
| cellGrowth/ | - | 2014-10-08 16:05:29 | 
| cellHTS/ | - | 2014-10-08 16:02:45 | 
| cellHTS2/ | - | 2014-10-08 16:03:14 | 
| cghMCR/ | - | 2014-10-08 16:02:47 | 
| charm/ | - | 2014-10-08 16:04:12 | 
| chimera/ | - | 2014-10-08 16:06:10 | 
| chipenrich/ | - | 2014-10-08 16:06:51 | 
| chipseq/ | - | 2014-10-08 16:03:59 | 
| chopsticks/ | - | 2014-10-08 16:04:41 | 
| chroGPS/ | - | 2014-10-08 16:05:54 | 
| cisPath/ | - | 2014-10-08 16:06:09 | 
| cleanUpdTSeq/ | - | 2014-10-08 16:06:33 | 
| cleaver/ | - | 2014-10-08 16:06:29 | 
| clippda/ | - | 2014-10-08 16:04:03 | 
| clipper/ | - | 2014-10-08 16:06:06 | 
| clonotypeR/ | - | 2014-10-08 16:06:25 | 
| clst/ | - | 2014-10-08 16:04:43 | 
| clstutils/ | - | 2014-10-08 16:04:43 | 
| clusterProfiler/ | - | 2014-10-08 16:04:44 | 
| clusterStab/ | - | 2014-10-08 16:02:32 | 
| cn.farms/ | - | 2014-10-08 16:04:46 | 
| cn.mops/ | - | 2014-10-08 16:05:17 | 
| cnvGSA/ | - | 2014-10-08 16:05:32 | 
| coGPS/ | - | 2014-10-08 16:05:27 | 
| coRNAi/ | - | 2014-10-08 16:04:22 | 
| cobindR/ | - | 2014-10-08 16:06:37 | 
| codelink/ | - | 2014-10-08 16:02:40 | 
| compcodeR/ | - | 2014-10-08 16:07:52 | 
| convert/ | - | 2014-10-08 16:02:16 | 
| copa/ | - | 2014-10-08 16:02:44 | 
| copynumber/ | - | 2014-10-08 16:06:20 | 
| cqn/ | - | 2014-10-08 16:04:56 | 
| crlmm/ | - | 2014-10-08 16:03:54 | 
| ctc/ | - | 2014-10-08 16:01:59 | 
| cummeRbund/ | - | 2014-10-08 16:05:09 | 
| customProDB/ | - | 2014-10-08 16:06:29 | 
| cycle/ | - | 2014-10-08 16:04:05 | 
| daMA/ | - | 2014-10-08 16:02:06 | 
| dagLogo/ | - | 2014-10-08 16:07:02 | 
| ddCt/ | - | 2014-10-08 16:04:01 | 
| ddgraph/ | - | 2014-10-08 16:05:34 | 
| deepSNV/ | - | 2014-10-08 16:05:23 | 
| deltaGseg/ | - | 2014-10-08 16:06:12 | 
| dexus/ | - | 2014-10-08 16:06:12 | 
| diffGeneAnalysis/ | - | 2014-10-08 16:02:34 | 
| dks/ | - | 2014-10-08 16:05:08 | 
| domainsignatures/ | - | 2014-10-08 16:03:42 | 
| dualKS/ | - | 2014-10-08 16:07:38 | 
| dyebias/ | - | 2014-10-08 16:03:54 | 
| easyRNASeq/ | - | 2014-10-08 16:05:20 | 
| ecolitk/ | - | 2014-10-08 16:02:09 | 
| edgeR/ | - | 2014-10-08 16:03:43 | 
| eiR/ | - | 2014-10-08 16:06:17 | 
| eisa/ | - | 2014-10-08 16:04:08 | 
| ensemblVEP/ | - | 2014-10-08 16:06:00 | 
| epigenomix/ | - | 2014-10-08 16:06:13 | 
| epivizr/ | - | 2014-10-08 16:07:03 | 
| exomeCopy/ | - | 2014-10-08 16:05:15 | 
| exomePeak/ | - | 2014-10-08 16:07:03 | 
| explorase/ | - | 2014-10-08 15:52:12 | 
| externalVector/ | - | 2013-10-08 17:03:32 | 
| fabia/ | - | 2014-10-08 16:04:21 | 
| factDesign/ | - | 2014-10-08 16:02:07 | 
| farms/ | - | 2014-10-08 16:04:26 | 
| fastLiquidAssociation/ | - | 2014-10-08 16:07:55 | 
| fastseg/ | - | 2014-10-08 16:05:17 | 
| fdrame/ | - | 2014-10-08 16:02:33 | 
| ffpe/ | - | 2014-10-08 16:05:27 | 
| flagme/ | - | 2014-10-08 16:03:48 | 
| flipflop/ | - | 2014-10-08 16:07:09 | 
| flowBeads/ | - | 2014-10-08 16:06:28 | 
| flowBin/ | - | 2014-10-08 16:07:18 | 
| flowCL/ | - | 2014-10-08 16:07:49 | 
| flowClust/ | - | 2014-10-08 16:03:33 | 
| flowCore/ | - | 2014-10-08 16:02:57 | 
| flowCyBar/ | - | 2014-10-08 16:07:48 | 
| flowFP/ | - | 2014-10-08 16:04:00 | 
| flowFit/ | - | 2014-10-08 16:06:25 | 
| flowFlowJo/ | - | 2014-10-08 16:03:53 | 
| flowMap/ | - | 2014-10-08 16:07:04 | 
| flowMatch/ | - | 2014-10-08 16:07:16 | 
| flowMeans/ | - | 2014-10-08 16:04:19 | 
| flowMerge/ | - | 2014-10-08 16:03:59 | 
| flowPeaks/ | - | 2014-10-08 16:05:37 | 
| flowPhyto/ | - | 2014-10-08 16:04:36 | 
| flowPlots/ | - | 2014-10-08 16:04:45 | 
| flowQ/ | - | 2014-10-08 16:02:57 | 
| flowQB/ | - | 2014-10-08 16:05:37 | 
| flowStats/ | - | 2014-10-08 16:03:56 | 
| flowTrans/ | - | 2014-10-08 16:04:20 | 
| flowType/ | - | 2014-10-08 16:04:57 | 
| flowUtils/ | - | 2014-10-08 16:02:57 | 
| flowViz/ | - | 2014-10-08 16:02:58 | 
| flowWorkspace/ | - | 2014-10-08 16:04:52 | 
| fmcsR/ | - | 2014-10-08 16:05:46 | 
| frma/ | - | 2014-10-08 16:04:09 | 
| frmaTools/ | - | 2014-10-08 16:04:09 | 
| gCMAP/ | - | 2014-10-08 16:05:49 | 
| gCMAPWeb/ | - | 2014-10-08 16:06:12 | 
| gaga/ | - | 2014-10-08 16:03:27 | 
| gage/ | - | 2014-10-08 16:04:29 | 
| gaggle/ | - | 2014-10-08 16:02:49 | 
| gaia/ | - | 2014-10-08 16:04:34 | 
| gaucho/ | - | 2014-10-08 16:07:53 | 
| gcrma/ | - | 2014-10-08 16:02:06 | 
| geNetClassifier/ | - | 2014-10-08 16:06:20 | 
| genArise/ | - | 2014-10-08 16:02:20 | 
| geneRecommender/ | - | 2014-10-08 16:02:30 | 
| geneRxCluster/ | - | 2014-10-08 16:07:18 | 
| genefilter/ | - | 2014-10-08 16:01:57 | 
| genefu/ | - | 2014-10-08 16:04:47 | 
| geneplotter/ | - | 2014-10-08 16:01:58 | 
| genoCN/ | - | 2014-10-08 16:04:14 | 
| genomeIntervals/ | - | 2014-10-08 16:03:53 | 
| genomes/ | - | 2014-10-08 16:04:20 | 
| genoset/ | - | 2014-10-08 16:04:48 | 
| ggbio/ | - | 2014-10-08 16:05:14 | 
| girafe/ | - | 2014-10-08 16:04:15 | 
| globaltest/ | - | 2014-10-08 16:02:18 | 
| gmapR/ | - | 2014-10-08 15:49:36 | 
| goProfiles/ | - | 2014-10-08 16:03:36 | 
| goTools/ | - | 2014-10-08 16:02:15 | 
| goseq/ | - | 2014-10-08 16:04:17 | 
| gpls/ | - | 2014-10-08 16:02:07 | 
| gprege/ | - | 2014-10-08 16:05:29 | 
| graph/ | - | 2014-10-08 16:02:02 | 
| graphite/ | - | 2014-10-08 16:05:06 | 
| gwascat/ | - | 2014-10-08 16:05:25 | 
| h5vc/ | - | 2014-10-08 16:07:11 | 
| hapFabia/ | - | 2014-10-08 16:05:48 | 
| hopach/ | - | 2014-10-08 16:02:22 | 
| hpar/ | - | 2014-10-08 16:05:48 | 
| htSeqTools/ | - | 2014-10-08 16:04:59 | 
| hyperdraw/ | - | 2014-10-08 16:04:10 | 
| hypergraph/ | - | 2014-10-08 16:02:31 | 
| iASeq/ | - | 2014-10-08 16:05:33 | 
| iBBiG/ | - | 2014-10-08 16:05:32 | 
| iBMQ/ | - | 2014-10-08 16:06:01 | 
| iChip/ | - | 2014-10-08 16:04:10 | 
| iClusterPlus/ | - | 2014-10-08 16:07:24 | 
| iFlow/ | - | 2013-10-08 17:03:57 | 
| iPAC/ | - | 2014-10-08 16:05:41 | 
| iSeq/ | - | 2014-10-08 16:04:29 | 
| ibh/ | - | 2014-10-08 16:04:44 | 
| idiogram/ | - | 2014-10-08 16:02:30 | 
| illuminaio/ | - | 2014-10-08 16:05:56 | 
| imageHTS/ | - | 2014-10-08 16:04:24 | 
| impute/ | - | 2014-10-08 16:02:12 | 
| inSilicoDb/ | - | 2014-10-08 16:04:56 | 
| inSilicoMerging/ | - | 2014-10-08 16:05:31 | 
| intansv/ | - | 2014-10-08 16:06:38 | 
| interactiveDisplay/ | - | 2014-10-08 16:07:10 | 
| inveRsion/ | - | 2014-10-08 16:04:43 | 
| iontree/ | - | 2014-10-08 16:05:03 | 
| isobar/ | - | 2014-10-08 16:05:14 | 
| iterativeBMA/ | - | 2014-10-08 16:03:41 | 
| iterativeBMAsurv/ | - | 2014-10-08 16:03:41 | 
| jmosaics/ | - | 2014-10-08 16:06:13 | 
| joda/ | - | 2014-10-08 16:04:42 | 
| keggorthology/ | - | 2014-10-08 16:03:15 | 
| lapmix/ | - | 2014-10-08 16:02:52 | 
| les/ | - | 2014-10-08 16:04:27 | 
| limma/ | - | 2014-10-08 16:02:05 | 
| limmaGUI/ | - | 2014-10-08 16:02:15 | 
| lmdme/ | - | 2014-10-08 16:05:46 | 
| logicFS/ | - | 2014-10-08 16:02:48 | 
| logitT/ | - | 2014-10-08 16:03:42 | 
| lol/ | - | 2014-10-08 16:04:49 | 
| lpNet/ | - | 2014-10-08 16:06:08 | 
| lumi/ | - | 2014-10-08 16:02:59 | 
| mBPCR/ | - | 2014-10-08 16:04:02 | 
| maCorrPlot/ | - | 2014-10-08 16:02:47 | 
| maDB/ | - | 2014-03-18 16:54:24 | 
| maPredictDSC/ | - | 2014-10-08 16:06:33 | 
| maSigPro/ | - | 2014-10-08 16:02:37 | 
| maanova/ | - | 2014-10-08 16:02:36 | 
| macat/ | - | 2014-10-08 16:02:23 | 
| made4/ | - | 2014-10-08 16:02:26 | 
| maigesPack/ | - | 2014-10-08 16:03:22 | 
| makecdfenv/ | - | 2014-10-08 16:02:02 | 
| manta/ | - | 2014-10-08 16:05:22 | 
| marray/ | - | 2014-10-08 16:02:16 | 
| maskBAD/ | - | 2014-10-08 16:05:20 | 
| massiR/ | - | 2014-10-08 16:07:41 | 
| matchBox/ | - | 2014-10-08 16:05:55 | 
| mcaGUI/ | - | 2014-10-08 16:04:46 | 
| mdqc/ | - | 2014-10-08 16:03:29 | 
| meshr/ | - | 2014-10-08 16:07:54 | 
| messina/ | - | 2014-10-08 16:07:46 | 
| metaArray/ | - | 2014-10-08 16:02:41 | 
| metaMS/ | - | 2014-10-08 16:07:50 | 
| metaSeq/ | - | 2014-10-08 16:07:11 | 
| metagenomeSeq/ | - | 2014-10-08 16:06:19 | 
| metahdep/ | - | 2014-10-08 16:03:52 | 
| metaseqR/ | - | 2014-10-08 16:07:42 | 
| methVisual/ | - | 2014-10-08 16:04:11 | 
| methyAnalysis/ | - | 2014-10-08 16:05:46 | 
| methylMnM/ | - | 2014-10-08 16:07:04 | 
| methylumi/ | - | 2014-10-08 16:03:58 | 
| mgsa/ | - | 2014-10-08 16:04:38 | 
| miRNApath/ | - | 2014-10-08 16:03:39 | 
| microRNA/ | - | 2014-10-08 16:03:44 | 
| minet/ | - | 2014-10-08 16:03:40 | 
| minfi/ | - | 2014-10-08 16:05:11 | 
| mitoODE/ | - | 2014-10-08 16:06:30 | 
| mmnet/ | - | 2014-10-08 16:07:14 | 
| mosaics/ | - | 2014-10-08 16:04:40 | 
| motifRG/ | - | 2014-10-08 16:05:33 | 
| motifStack/ | - | 2014-10-08 16:05:49 | 
| msmsEDA/ | - | 2014-10-08 16:06:39 | 
| msmsTests/ | - | 2014-10-08 16:06:41 | 
| multiscan/ | - | 2014-10-08 16:03:40 | 
| multtest/ | - | 2014-10-08 16:01:58 | 
| mzID/ | - | 2014-10-08 16:06:53 | 
| mzR/ | - | 2014-10-08 16:05:05 | 
| ncdfFlow/ | - | 2014-10-08 16:05:16 | 
| neaGUI/ | - | 2014-10-08 16:06:55 | 
| nem/ | - | 2014-10-08 16:02:55 | 
| netresponse/ | - | 2014-10-08 16:04:28 | 
| networkBMA/ | - | 2014-10-08 16:05:42 | 
| nnNorm/ | - | 2014-10-08 16:02:20 | 
| nondetects/ | - | 2014-10-08 16:07:47 | 
| npGSEA/ | - | 2014-10-08 16:07:52 | 
| nucleR/ | - | 2014-10-08 16:05:00 | 
| nudge/ | - | 2014-10-08 16:02:47 | 
| occugene/ | - | 2014-10-08 16:02:59 | 
| oligo/ | - | 2014-10-08 16:02:32 | 
| oligoClasses/ | - | 2014-10-08 16:03:18 | 
| omicade4/ | - | 2014-10-08 16:06:56 | 
| oneChannelGUI/ | - | 2014-10-08 16:03:12 | 
| ontoCAT/ | - | 2014-10-08 16:04:30 | 
| openCyto/ | - | 2014-10-08 16:07:05 | 
| pRoloc/ | - | 2014-10-08 16:05:58 | 
| paircompviz/ | - | 2014-10-08 16:06:31 | 
| panp/ | - | 2014-10-08 16:02:39 | 
| parody/ | - | 2014-10-08 16:03:46 | 
| pathRender/ | - | 2014-10-08 16:02:40 | 
| pathifier/ | - | 2014-10-08 16:06:31 | 
| pathview/ | - | 2014-10-08 16:06:14 | 
| pcaGoPromoter/ | - | 2014-10-08 16:05:22 | 
| pcaMethods/ | - | 2014-10-08 16:02:56 | 
| pcot2/ | - | 2014-10-08 16:02:51 | 
| pdInfoBuilder/ | - | 2014-10-08 16:02:59 | 
| pdmclass/ | - | 2014-10-08 16:02:33 | 
| pgUtils/ | - | 2014-03-18 16:54:24 | 
| phenoDist/ | - | 2014-10-08 16:04:33 | 
| phenoTest/ | - | 2014-10-08 16:04:40 | 
| phyloseq/ | - | 2014-10-08 16:05:23 | 
| piano/ | - | 2014-10-08 16:06:22 | 
| pickgene/ | - | 2014-10-08 16:02:11 | 
| pint/ | - | 2014-10-08 16:04:12 | 
| pkgDepTools/ | - | 2014-10-08 16:02:53 | 
| plateCore/ | - | 2014-10-08 16:04:03 | 
| plethy/ | - | 2014-10-08 16:06:26 | 
| plgem/ | - | 2014-10-08 16:02:28 | 
| plier/ | - | 2014-10-08 16:02:25 | 
| plrs/ | - | 2014-10-08 16:05:57 | 
| plw/ | - | 2014-10-08 16:03:26 | 
| ppiStats/ | - | 2014-10-08 16:02:56 | 
| prada/ | - | 2014-10-08 16:02:17 | 
| prebs/ | - | 2014-10-08 16:06:22 | 
| predictionet/ | - | 2014-10-08 16:05:12 | 
| preprocessCore/ | - | 2014-10-08 16:02:01 | 
| procoil/ | - | 2014-10-08 16:04:42 | 
| prot2D/ | - | 2014-10-08 16:06:27 | 
| proteinProfiles/ | - | 2014-10-08 16:06:11 | 
| puma/ | - | 2014-10-08 16:03:13 | 
| pvac/ | - | 2014-10-08 16:04:41 | 
| pvca/ | - | 2014-10-08 16:05:58 | 
| pxr/ | - | 2014-03-28 17:48:09 | 
| qcmetrics/ | - | 2014-10-08 16:07:06 | 
| qpcrNorm/ | - | 2014-10-08 16:03:55 | 
| qpgraph/ | - | 2014-10-08 16:03:49 | 
| qrqc/ | - | 2014-10-08 16:04:49 | 
| quantsmooth/ | - | 2014-10-08 16:02:50 | 
| qusage/ | - | 2014-10-08 16:06:49 | 
| qvalue/ | - | 2014-10-08 16:02:12 | 
| r3Cseq/ | - | 2014-10-08 16:05:13 | 
| rBiopaxParser/ | - | 2014-10-08 16:06:07 | 
| rGADEM/ | - | 2014-10-08 16:04:11 | 
| rHVDM/ | - | 2014-10-08 16:03:07 | 
| rMAT/ | - | 2014-10-08 16:03:56 | 
| rSFFreader/ | - | 2014-10-08 16:05:54 | 
| rTANDEM/ | - | 2014-10-08 16:06:03 | 
| rTRM/ | - | 2014-10-08 16:06:32 | 
| rTRMui/ | - | 2014-10-08 16:06:58 | 
| rama/ | - | 2014-10-08 16:02:13 | 
| randPack/ | - | 2014-10-08 16:04:55 | 
| rbsurv/ | - | 2014-10-08 16:03:12 | 
| reb/ | - | 2014-10-08 16:02:35 | 
| rfPred/ | - | 2014-10-08 16:06:42 | 
| rhdf5/ | - | 2014-10-08 16:05:21 | 
| rnaSeqMap/ | - | 2014-10-08 16:04:30 | 
| roar/ | - | 2014-10-08 16:07:17 | 
| rols/ | - | 2014-10-08 16:05:36 | 
| rpx/ | - | 2014-10-08 16:07:43 | 
| rqubic/ | - | 2014-10-08 16:05:04 | 
| rsbml/ | - | 2014-10-08 16:03:21 | 
| rtracklayer/ | - | 2014-10-08 16:03:35 | 
| sRAP/ | - | 2014-10-08 16:07:08 | 
| sSeq/ | - | 2014-10-08 16:06:24 | 
| safe/ | - | 2014-10-08 16:02:27 | 
| sagenhaft/ | - | 2014-10-08 16:02:24 | 
| sangerseqR/ | - | 2014-10-08 16:07:35 | 
| sapFinder/ | - | 2014-10-08 16:07:45 | 
| savR/ | - | 2014-10-08 16:07:29 | 
| scsR/ | - | 2014-10-08 16:07:37 | 
| segmentSeq/ | - | 2014-10-08 16:04:13 | 
| seqCNA/ | - | 2014-10-08 16:06:34 | 
| seqLogo/ | - | 2014-10-08 16:03:01 | 
| seqbias/ | - | 2014-10-08 16:04:39 | 
| shinyTANDEM/ | - | 2014-10-08 16:07:07 | 
| sigPathway/ | - | 2014-10-08 16:02:49 | 
| sigaR/ | - | 2014-10-08 16:05:19 | 
| siggenes/ | - | 2014-10-08 16:02:06 | 
| simpleaffy/ | - | 2014-10-08 16:02:10 | 
| sizepower/ | - | 2014-10-08 16:02:44 | 
| snapCGH/ | - | 2014-10-08 16:02:42 | 
| snm/ | - | 2014-10-08 16:04:35 | 
| snpStats/ | - | 2014-10-08 16:03:30 | 
| spade/ | - | 2014-10-08 16:05:18 | 
| spikeLI/ | - | 2014-10-08 16:02:52 | 
| spkTools/ | - | 2014-10-08 16:03:50 | 
| spliceR/ | - | 2014-10-08 16:06:29 | 
| spliceSites/ | - | 2014-10-08 16:07:07 | 
| splicegear/ | - | 2014-10-08 16:02:05 | 
| splots/ | - | 2014-10-08 16:02:54 | 
| spotSegmentation/ | - | 2014-10-08 16:02:26 | 
| sscore/ | - | 2014-10-08 16:02:42 | 
| ssize/ | - | 2014-10-08 16:02:30 | 
| staRank/ | - | 2014-10-08 16:05:35 | 
| stepNorm/ | - | 2014-10-08 16:02:23 | 
| stepwiseCM/ | - | 2014-10-08 16:05:12 | 
| supraHex/ | - | 2014-10-08 16:06:47 | 
| survcomp/ | - | 2014-10-08 16:04:48 | 
| sva/ | - | 2014-10-08 16:05:13 | 
| synapter/ | - | 2014-10-08 16:05:40 | 
| tRanslatome/ | - | 2014-10-08 16:06:27 | 
| ternarynet/ | - | 2014-10-08 16:05:24 | 
| tigre/ | - | 2014-10-08 16:04:17 | 
| tilingArray/ | - | 2014-10-08 16:02:27 | 
| timecourse/ | - | 2014-10-08 16:02:35 | 
| tkWidgets/ | - | 2014-10-08 16:02:00 | 
| topGO/ | - | 2014-10-08 16:03:02 | 
| trackViewer/ | - | 2014-10-08 16:07:29 | 
| triform/ | - | 2014-10-08 16:05:43 | 
| trigger/ | - | 2014-10-08 16:05:18 | 
| trio/ | - | 2014-10-08 16:06:45 | 
| triplex/ | - | 2014-10-08 16:06:23 | 
| tspair/ | - | 2014-10-08 16:03:50 | 
| tweeDEseq/ | - | 2014-10-08 16:05:16 | 
| twilight/ | - | 2014-10-08 16:02:21 | 
| unifiedWMWqPCR/ | - | 2014-10-08 16:07:36 | 
| vbmp/ | - | 2014-10-08 16:03:17 | 
| viper/ | - | 2014-10-08 16:07:46 | 
| virtualArray/ | - | 2014-10-08 16:05:19 | 
| vsn/ | - | 2014-10-08 16:02:02 | 
| vtpnet/ | - | 2014-10-08 16:06:28 | 
| wateRmelon/ | - | 2014-10-08 16:06:00 | 
| waveTiling/ | - | 2014-10-08 16:05:42 | 
| weaver/ | - | 2014-10-08 16:05:06 | 
| webbioc/ | - | 2014-10-08 16:02:09 | 
| widgetTools/ | - | 2014-10-08 16:02:03 | 
| xcms/ | - | 2014-10-08 16:02:29 | 
| xmapbridge/ | - | 2014-10-08 16:03:46 | 
| xmapcore/ | - | 2013-10-08 17:04:00 | 
| xps/ | - | 2014-10-08 16:03:24 | 
| yaqcaffy/ | - | 2014-10-08 16:03:22 | 
| zlibbioc/ | - | 2014-10-08 16:04:54 | 
| STATUS_DB.txt | 358.9 KiB | 2014-10-08 15:46:39 | 
| index.html | 3.1 MiB | 2014-10-08 16:09:43 | 
| meat-index.txt | 161.0 KiB | 2014-10-08 15:46:09 | 
| morelia-NodeInfo.html | 4.6 KiB | 2014-10-08 16:08:55 | 
| morelia-R-instpkgs.html | 65.0 KiB | 2014-10-08 16:08:55 | 
| morelia-index.html | 674.7 KiB | 2014-10-08 16:08:55 | 
| moscato2-NodeInfo.html | 4.9 KiB | 2014-10-08 16:08:55 | 
| moscato2-R-instpkgs.html | 68.5 KiB | 2014-10-08 16:08:55 | 
| moscato2-index.html | 676.5 KiB | 2014-10-08 16:08:24 | 
| petty-NodeInfo.html | 5.2 KiB | 2014-10-08 16:08:55 | 
| petty-R-instpkgs.html | 67.9 KiB | 2014-10-08 16:08:55 | 
| petty-index.html | 661.9 KiB | 2014-10-08 16:08:39 | 
| report.css | 7.6 KiB | 2014-10-08 15:46:39 | 
| report.js | 3.9 KiB | 2014-10-08 15:46:39 | 
| report.tgz | 10.0 MiB | 2014-10-08 16:10:04 | 
| zin2-NodeInfo.html | 4.8 KiB | 2014-10-08 16:08:55 | 
| zin2-R-instpkgs.html | 68.5 KiB | 2014-10-08 16:08:55 | 
| zin2-index.html | 585.4 KiB | 2014-10-08 16:08:08 |