Back to the "Multiple platform build/check report" A  B  C  D [E] F  G  H  I  J  K  L  M  N  O  P  Q  R  S  T  U  V  W  X  Y  Z 

BioC 2.12: BUILD/CHECK reports for easyRNASeq

This page was generated on 2013-10-09 09:36:57 -0700 (Wed, 09 Oct 2013).

Package 196/671HostnameOS / ArchBUILDCHECKBUILD BIN
easyRNASeq 1.6.4
Nicolas Delhomme
Snapshot Date: 2013-10-08 17:00:48 -0700 (Tue, 08 Oct 2013)
URL: https://hedgehog.fhcrc.org/bioconductor/branches/RELEASE_2_12/madman/Rpacks/easyRNASeq
Last Changed Rev: 80992 / Revision: 81334
Last Changed Date: 2013-09-30 19:16:03 -0700 (Mon, 30 Sep 2013)
george2 Linux (Ubuntu 12.04.1 LTS) / x86_64  OK  OK 
moscato2 Windows Server 2008 R2 Enterprise SP1 (64-bit) / x64  OK  OK  OK 
petty Mac OS X Snow Leopard (10.6.8) / x86_64  OK  OK  OK