Back to the "Multiple platform build/check report"
Version Built
ABarray 1.6.0 2.6.0
acepack 1.3-2.2 2.6.0
aCGH 1.12.0 2.6.0
ACME 1.4.0 2.6.0
ada 2.0-1 2.6.0
ade4 1.4-4 2.6.0
ade4TkGUI 0.2-2 2.6.0
adSplit 1.8.0 2.6.0
affxparser 1.10.0 2.6.0
affy 1.16.0 2.6.0
affycomp 1.14.0 2.6.0
affycoretools 1.10.0 2.6.0
affydata 1.11.3 2.6.0
AffyExpress 1.2.0 2.6.0
affyio 1.6.0 2.6.0
affylmGUI 1.12.0 2.6.0
AffymetrixDataTestFiles 0.1.0 2.6.0
affypdnn 1.12.0 2.6.0
affyPLM 1.14.0 2.6.0
affyQCReport 1.16.0 2.6.0
akima 0.5-1 2.6.0
ALL 1.4.3 2.6.0
altcdfenvs 1.12.0 2.6.0
amap 0.8-2 2.6.0
annaffy 1.10.0 2.6.0
AnnBuilder 1.16.0 2.6.0
annotate 1.16.0 2.6.0
AnnotationDbi 1.0.4 2.6.0
annotationTools 1.8.0 2.6.0
apComplex 2.4.0 2.6.0
ape 2.0-1 2.6.0
aroma.light 1.6.0 2.6.0
arrayMagic 1.16.0 2.6.0
arrayQuality 1.14.0 2.6.0
arrayQualityMetrics 1.2.0 2.6.0
aws 1.3-3.1 2.6.0
base 2.6.0 2.6.0
beadarray 1.6.0 2.6.0
beadarraySNP 1.4.0 2.6.0
BeadExplorer 1.4.0 2.6.0
bgafun 1.0.0 2.6.0
bgx 1.2.0 2.6.0
Biobase 1.16.0 2.6.0
biocGraph 1.0.0 2.6.0
biocViews 1.6.0 2.6.0
bioDist 1.10.0 2.6.0
biomaRt 1.12.0 2.6.0
BioMVCClass 1.6.0 2.6.0
Biostrings 2.6.0 2.6.0
boot 1.2-30 2.6.0
bridge 1.10.0 2.6.0
BSgenome 1.6.0 2.6.0
BSgenome.Celegans.UCSC.ce2 1.3.1 2.6.0
BSgenome.Dmelanogaster.FlyBase.r51 1.3.1 2.6.0
BufferedMatrix 1.2.0 2.6.0
BufferedMatrixMethods 1.2.0 2.6.0
butler 0.3 2.6.0
cairoDevice 2.5 2.6.0
CALIB 1.4.0 2.6.0
car 1.2-2 2.6.0
Category 2.4.0 2.6.0
CCl4 1.0.6 2.6.0
cellHTS 1.8.0 2.6.0
cellHTS2 2.2.0 2.6.0
CGHcall 1.0.0 2.6.0
cghMCR 1.8.0 2.6.0
ChromoViz 1.10.0 2.6.0
chron 2.3-15 2.6.0
class 7.2-37 2.6.0
cluster 1.11.9 2.6.0
clusterStab 1.10.0 2.6.0
cMAP 1.15.1 2.6.0
CoCiteStats 1.10.0 2.6.0
coda 0.12-1 2.6.0
codelink 1.6.0 2.6.0
codetools 0.1-3 2.6.0
colonCA 1.4.2 2.6.0
combinat 0.0-6 2.6.0
convert 1.14.0 2.6.0
copa 1.6.0 2.6.0
corpcor 1.4.5 2.6.0
CORREP 1.4.0 2.6.0
cosmo 1.4.0 2.6.0
cosmoGUI 1.4.0 2.6.0
ctc 1.12.0 2.6.0
DAAG 0.95 2.6.0
daMA 1.10.0 2.6.0
datasets 2.6.0 2.6.0
DBI 0.2-3 2.6.0
DEDS 1.12.0 2.6.0
deldir 0.0-6 2.6.0
Design 2.1-1 2.6.0
diffGeneAnalysis 1.20.0 2.6.0
digest 0.3.1 2.6.0
DNAcopy 1.12.0 2.6.0
DynDoc 1.16.0 2.6.0
dynlm 0.1-2 2.6.0
e1071 1.5-16 2.6.0
EBarrays 2.2.0 2.6.0
EBImage 2.2.0 2.6.0
Ecdat 0.1-5 2.6.0
ecolicdf 2.0.0 2.6.0
ecoliLeucine 1.2.1 2.6.0
ecolitk 1.10.0 2.6.0
edd 1.16.0 2.6.0
EMV 1.3.1 2.6.0
estrogen 1.8.2 2.6.0
exonmap 1.2.01 2.6.0
explorase 1.2.0 2.6.0
faahKO 1.2.1 2.6.0
factDesign 1.12.0 2.6.0
fBasics 260.71 2.6.0
fbat 1.2.0 2.6.0
fCalendar 251.70 2.6.0
fdrame 1.10.0 2.6.0
fdrtool 1.1.4 2.6.0
fEcofin 260.71 2.6.0
fibroEset 1.4.2 2.6.0
fields 3.5 2.6.0
fImport 260.71 2.6.0
flowCore 1.4.0 2.6.0
flowUtils 0.4.0 2.6.0
flowViz 1.2.0 2.6.0
foreign 0.8-23 2.6.0
fSeries 260.71 2.6.0
fUtilities 260.71 2.6.0
gaggle 1.6.0 2.6.0
gam 0.98 2.6.0
gbm 1.6-3 2.6.0
gcrma 2.10.0 2.6.0
gdata 2.3.1 2.6.0
gee 4.13-13 2.6.0
genArise 1.14.0 2.6.0
GeneCycle 1.0.2 2.6.0
genefilter 1.16.0 2.6.0
GeneMeta 1.10.0 2.6.0
GeneNet 1.2.0 2.6.0
geneplotter 1.16.0 2.6.0
GeneR 2.8.0 2.6.0
geneRecommender 1.10.0 2.6.0
GeneSpring 2.12.0 2.6.0
GeneticsBase 1.2.0 2.6.0
GeneticsDesign 1.4.0 2.6.0
GeneTraffic 1.10.0 2.6.0
GeneTS 2.16.0 2.6.0
GEOquery 2.2.0 2.6.0
GGtools 1.6.0 2.6.0
GLAD 1.12.0 2.6.0
GlobalAncova 3.4.0 2.6.0
globaltest 4.8.0 2.6.0
gmodels 2.14.0 2.6.0
GO 2.0.0 2.6.0
GO.db 2.0.0 2.6.0
golubEsets 1.4.4 2.6.0
GOstats 2.4.0 2.6.0
goTools 1.10.0 2.6.0
gpclib 1.4-1 2.6.0
gplots 2.3.2 2.6.0
gpls 1.10.0 2.6.0
graph 1.16.1 2.6.0
GraphAT 1.10.0 2.6.0
graphics 2.6.0 2.6.0
grDevices 2.6.0 2.6.0
grid 2.6.0 2.6.0
gridBase 0.4-3 2.6.0
GSEABase 1.0.1 2.6.0
gtkDevice 1.9-4 2.6.0
gtools 2.4.0 2.6.0
haplo.stats 1.3.1 2.6.0
hapmap100kxba 1.3 2.6.0
Harshlight 1.8.0 2.6.0
Heatplus 1.8.0 2.6.0
HEEBOdata 1.0.0 2.6.0
HEM 1.10.0 2.6.0
hexbin 1.12.0 2.6.0
hgfocus 2.0.0 2.6.0
hgfocuscdf 2.0.0 2.6.0
hgu133a 2.0.0 2.6.0
hgu133acdf 2.0.0 2.6.0
hgu133aprobe 2.0.0 2.6.0
hgu133plus2 2.0.0 2.6.0
hgu95acdf 2.0.0 2.6.0
hgu95av2 2.0.0 2.6.0
hgu95av2cdf 2.0.0 2.6.0
hgu95av2.db 2.0.0 2.6.0
hgu95av2probe 2.0.0 2.6.0
Hmisc 3.4-2 2.6.0
hopach 1.12.0 2.6.0
hsahomology 2.0.0 2.6.0
hu6800 2.0.0 2.6.0
hu6800cdf 2.0.0 2.6.0
hu6800probe 2.0.0 2.6.0
humanLLMappings 2.0.0 2.6.0
hypergraph 1.10.0 2.6.0
Icens 1.10.0 2.6.0
idiogram 1.12.0 2.6.0
impute 1.10.0 2.6.0
ipred 0.8-3 2.6.0
iSNetwork 1.8.0 2.6.0
iSPlot 1.12.0 2.6.0
its 1.1.5 2.6.0
Iyer517 1.4.2 2.6.0
KEGG 2.0.0 2.6.0
KEGG.db 2.0.0 2.6.0
keggorth 1.0.0 2.6.0
KEGGSOAP 1.12.0 2.6.0
KernSmooth 2.22-21 2.6.0
lapmix 1.4.0 2.6.0
lattice 0.16-5 2.6.0
latticeExtra 0.2-2 2.6.0
LBE 1.6.0 2.6.0
leaps 2.7 2.6.0
limma 2.12.0 2.6.0
limmaGUI 1.14.1 2.6.0
lme4 0.99875-8 2.6.0
LMGene 1.8.0 2.6.0
lmtest 0.9-21 2.6.0
locfdr 1.1-5 2.6.0
locfit 1.5-3 2.6.0
lodplot 1.1 2.6.0
logicFS 1.8.0 2.6.0
LogicReg 1.4.6 2.6.0
longitudinal 1.1.3 2.6.0
LPE 1.12.0 2.6.0
lumi 1.4.0 2.6.0
lumiBarnes 1.3.3 2.6.0
lumiHumanV1 1.3.1 2.6.0
maanova 1.8.0 2.6.0
macat 1.12.0 2.6.0
maCorrPlot 1.8.0 2.6.0
maDB 1.10.0 2.6.0
made4 1.12.1 2.6.0
maigesPack 1.2.0 2.6.0
makecdfenv 1.16.0 2.6.0
makePlatformDesign 1.2.0 2.6.0
MANOR 1.10.0 2.6.0
MantelCorr 1.8.0 2.6.0
mapproj 1.1-7.1 2.6.0
maps 2.0-38 2.6.0
maptools 0.6-16 2.6.0
marray 1.16.0 2.6.0
maSigPro 1.10.0 2.6.0
MASS 7.2-37 2.6.0
MassSpecWavelet 1.4.0 2.6.0
matchprobes 1.10.0 2.6.0
Matrix 0.999375-3 2.6.0
mclust 3.1-1 2.6.0
MCMCpack 0.9-2 2.6.0
MCRestimate 1.10.0 2.6.0
mda 0.3-2 2.6.0
MeasurementError.cor 1.10.0 2.6.0
MEEBOdata 1.0.0 2.6.0
MergeMaid 2.10.0 2.6.0
metaArray 1.12.0 2.6.0
methods 2.6.0 2.6.0
Mfuzz 1.8.0 2.6.0
mgcv 1.3-27 2.6.0
mgu74av2 2.0.0 2.6.0
minpack.lm 1.0-5 2.6.0
MiPP 1.10.0 2.6.0
misc3d 0.4-0 2.6.0
mlbench 1.1-3 2.6.0
MLInterfaces 1.12.0 2.6.0
mlmRev 0.995-1 2.6.0
mouseLLMappings 2.0.0 2.6.0
multtest 1.18.0 2.6.0
MVCClass 1.12.0 2.6.0
mvtnorm 0.8-1 2.6.0
nem 2.2.1 2.6.0
nlme 3.1-86 2.6.0
nnet 7.2-37 2.6.0
nnNorm 2.2.0 2.6.0
nudge 1.5.1 2.6.0
OCplus 1.12.0 2.6.0
odesolve 0.5-17 2.6.0
oligo 1.2.1 2.6.0
oligoClasses 1.0.1 2.6.0
OLIN 1.14.0 2.6.0
OLINgui 1.12.0 2.6.0
oneChannelGUI 1.4.0 2.6.0
ontoTools 1.14.0 2.6.0
OrderedList 1.10.0 2.6.0
OutlierD 1.2.0 2.6.0
oz 1.0-16 2.6.0
pamr 1.36.0 2.6.0
panp 1.8.0 2.6.0
pathRender 1.6.0 2.6.0
PBSmapping 2.54 2.6.0
pcaMethods 1.14.0 2.6.0
pcot2 1.6.0 2.6.0
pdInfoBuilder 1.2.0 2.6.0
pd.mapping50k.xba240 0.3.2 2.6.0
pdmclass 1.10.0 2.6.0
PGSEA 1.6.0 2.6.0
pgUtils 1.10.0 2.6.0
pickgene 1.10.0 2.6.0
pixmap 0.4-7 2.6.0
pkgDepTools 1.4.0 2.6.0
plasmodiumanophelescdf 2.0.0 2.6.0
plgem 1.10.0 2.6.0
plier 1.8.0 2.6.0
plotrix 2.2-7 2.6.0
pls 2.0-1 2.6.0
ppiData 0.1.9 2.6.0
ppiStats 1.4.0 2.6.0
prada 1.14.0 2.6.0
preprocessCore 1.0.0 2.6.0
PROcess 1.14.0 2.6.0
puma 1.4.0 2.6.0
pumadata 1.0.0 2.6.0
quadprog 1.4-11 2.6.0
quantreg 4.10 2.6.0
quantsmooth 1.4.0 2.6.0
qvalue 1.12.0 2.6.0
R2HTML 1.58 2.6.0
rae230a 2.0.0 2.6.0
rae230aprobe 2.0.0 2.6.0
rama 1.10.0 2.6.0
randomForest 4.5-18 2.6.0
RankProd 2.10.0 2.6.0
RArcInfo 0.4-7 2.6.0
ratLLMappings 2.0.0 2.6.0
RbcBook1 1.6.0 2.6.0
RBGL 1.14.0 2.6.0
rbsurv 1.4.0 2.6.0
RColorBrewer 1.0-1 2.6.0
rcompgen 0.1-15 2.6.0
RCurl 0.8-1 2.6.0
rda 1.0 2.6.0
Rdbi 1.12.0 2.6.0
RdbiPgSQL 1.12.0 2.6.0
reb 1.12.0 2.6.0
RefPlus 1.8.1 2.6.0
reshape 0.8.0 2.6.0
Resourcerer 1.12.0 2.6.0
rfcdmin 1.6.5 2.6.0
rflowcyt 1.10.0 2.6.0
rggobi 2.1.7 2.6.0
rgl 0.74 2.6.0
Rgraphviz 1.16.0 2.6.0
RGtk 0.8-0 2.6.0
RGtk2 2.12.1 2.6.0
rHVDM 1.4.0 2.6.0
Ringo 1.2.0 2.6.0
Rintact 1.0.0 2.6.0
rJava 0.5-0 2.6.0
rlecuyer 0.1 2.6.0
RLMM 1.0.0 2.6.0
RMAGEML 2.12.0 2.6.0
RMAPPER 1.8.0 2.6.0
Rmpi 0.5-4 2.6.0
RMySQL 0.6-0 2.6.0
robustbase 0.2-8 2.6.0
ROC 1.12.0 2.6.0
ROCR 1.0-2 2.6.0
R.oo 1.3.0 2.6.0
rpanel 1.0-4 2.6.0
rpart 3.1-38 2.6.0
rrcov 0.4-01 2.6.0
rsbml 1.4.0 2.6.0
RSNPper 1.12.0 2.6.0
RSQLite 0.6-3 2.6.0
RSvgDevice 0.6.3 2.6.0
RUnit 0.4.17 2.6.0
R.utils 0.9.7 2.6.0
Ruuid 1.16.1 2.6.0
RWebServices 1.2.0 2.6.0
safe 1.10.0 2.6.0
SAGElyzer 1.16.0 2.6.0
sagenhaft 1.8.0 2.6.0
SAGx 1.12.0 2.6.0
sandwich 2.0-2 2.6.0
SBMLR 1.32.0 2.6.0
scatterplot3d 0.3-25 2.6.0
ScISI 1.10.0 2.6.0
segmented 0.2-0 2.6.0
sem 0.9-10 2.6.0
SemSim 1.4.0 2.6.0
seqinr 1.1-2 2.6.0
seqLogo 1.4.0 2.6.0
sgeostat 1.0-21 2.6.0
siggenes 1.12.0 2.6.0
sigPathway 1.6.0 2.6.0
simpleaffy 2.14.01 2.6.0
simulatorAPMS 1.10.0 2.6.0
sizepower 1.8.0 2.6.0
SJava 0.69-5 2.6.0
SLqPCR 1.4.0 2.6.0
sm 2.2-1 2.6.0
sma 0.5.15 2.6.0
SMAP 1.2.0 2.6.0
snapCGH 1.6.0 2.6.0
snow 0.2-9 2.6.0
SNPchip 1.2.1 2.6.0
som 0.3-4 2.6.0
sp 0.9-14 2.6.0
SparseM 0.73 2.6.0
spatial 7.2-37 2.6.0
spatstat 1.12-1 2.6.0
spdep 0.4-6 2.6.0
spikeLI 1.6.0 2.6.0
splancs 2.01-23 2.6.0
splicegear 1.10.0 2.6.0
splines 2.6.0 2.6.0
splots 1.4.0 2.6.0
spotSegmentation 1.12.0 2.6.0
sscore 1.10.0 2.6.0
ssize 1.10.0 2.6.0
SSOAP 0.4-4 2.6.0
statmod 1.3.1 2.6.0
stats 2.6.0 2.6.0
stats4 2.6.0 2.6.0
stepNorm 1.10.0 2.6.0
stjudem 1.2.0 2.6.0
strucchange 1.3-2 2.6.0
survival 2.32 2.6.0
systemfit 0.8-3 2.6.0
tcltk 2.6.0 2.6.0
TeachingDemos 1.5 2.6.0
test3cdf 2.0.0 2.6.0
tilingArray 1.16.0 2.6.0
time 1.0 2.6.0
timecourse 1.10.0 2.6.0
tkrplot 0.0-16 2.6.0
tkWidgets 1.16.0 2.6.0
tools 2.6.0 2.6.0
topGO 1.4.0 2.6.0
tripack 1.2-10 2.6.0
tseries 0.10-11 2.6.0
tweedie 1.5.2 2.6.0
twilight 1.14.1 2.6.0
TypeInfo 1.4.0 2.6.0
utils 2.6.0 2.6.0
VanillaICE 1.0.0 2.6.0
vbmp 1.6.0 2.6.0
vsn 3.2.1 2.6.0
waveslim 1.6 2.6.0
weaver 1.4.0 2.6.0
webbioc 1.10.0 2.6.0
widgetInvoke 1.10.0 2.6.0
widgetTools 1.14.0 2.6.0
xcms 1.10.0 2.6.0
xgobi 1.2-13 2.6.0
xlahomology 2.0.0 2.6.0
XML 1.93-2 2.6.0
xtable 1.5-1 2.6.0
YEAST 2.0.0 2.6.0
yeastExpData 0.9.9 2.6.0
zoo 1.3-2 2.6.0