Welcome to mirrors.dotsrc.org

All our mirrors of open source software are available via http, https, ftp and an onion service. More information about our mirrors including statistics and contact information is available on our mirror info pages.

For information about dotsrc.org and our other services please go to our website.

Index of /bioconductor/checkResults/2.1/bioc-20070826/

File Name  ↓ File Size  ↓ Date  ↓ 
--
-2007-08-27 21:19:08
-2007-08-27 21:19:08
-2007-08-27 21:19:08
-2007-08-27 21:19:08
-2007-08-27 21:19:08
-2007-08-27 21:19:08
-2007-08-27 21:19:08
-2007-08-27 21:19:07
-2007-08-27 21:19:07
-2007-08-27 21:19:07
-2007-08-27 21:19:07
-2007-08-27 21:19:07
-2007-08-27 21:19:07
-2007-08-27 21:19:07
-2007-08-27 21:19:07
-2007-08-27 21:19:07
-2007-08-27 21:19:07
-2007-08-27 21:19:07
-2007-08-27 21:19:07
-2007-08-27 21:19:07
-2007-08-27 21:19:07
-2007-08-27 21:19:07
-2007-08-27 21:19:07
-2007-08-27 21:19:07
-2007-08-27 21:19:07
-2007-08-27 21:19:07
-2007-08-27 21:19:07
-2007-08-27 21:19:07
-2007-08-27 21:19:07
-2007-08-27 21:19:07
-2007-08-27 21:19:07
-2007-08-27 21:19:07
-2007-08-27 21:19:07
-2007-08-27 21:19:07
-2007-08-27 21:19:06
-2007-08-27 21:19:06
-2007-08-27 21:19:06
-2007-08-27 21:19:06
-2007-08-27 21:19:06
-2007-08-27 21:19:06
-2007-08-27 21:19:06
-2007-08-27 21:19:06
-2007-08-27 21:19:06
-2007-08-27 21:19:06
-2007-08-27 21:19:06
-2007-08-27 21:19:06
-2007-08-27 21:19:06
-2007-08-27 21:19:06
-2007-08-27 21:19:06
-2007-08-27 21:19:06
-2007-08-27 21:19:06
-2007-08-27 21:19:06
-2007-08-27 21:19:06
-2007-08-27 21:19:06
-2007-08-27 21:19:06
-2007-08-27 21:19:06
-2007-08-27 21:19:06
-2007-08-27 21:19:06
-2007-08-27 21:19:06
-2007-08-27 21:19:06
-2007-08-27 21:19:06
-2007-08-27 21:19:06
-2007-08-27 21:19:06
-2007-08-27 21:19:06
-2007-08-27 21:19:06
-2007-08-27 21:19:05
-2007-08-27 21:19:05
-2007-08-27 21:19:05
-2007-08-27 21:19:05
-2007-08-27 21:19:05
-2007-08-27 21:19:05
-2007-08-27 21:19:05
-2007-08-27 21:19:03
-2007-08-27 21:19:03
-2007-08-27 21:19:03
-2007-08-27 21:19:03
-2007-08-27 21:19:03
-2007-08-27 21:19:03
-2007-08-27 21:19:03
-2007-08-27 21:19:03
-2007-08-27 21:19:03
-2007-08-27 21:19:03
-2007-08-27 21:19:03
-2007-08-27 21:19:03
-2007-08-27 21:19:03
-2007-08-27 21:19:03
-2007-08-27 21:19:03
-2007-08-27 21:19:03
-2007-08-27 21:19:03
-2007-08-27 21:19:03
-2007-08-27 21:19:03
-2007-08-27 21:19:03
-2007-08-27 21:19:03
-2007-08-27 21:19:03
-2007-08-27 21:19:03
-2007-08-27 21:19:03
-2007-08-27 21:19:03
-2007-08-27 21:19:02
-2007-08-27 21:19:02
-2007-08-27 21:19:02
-2007-08-27 21:19:02
-2007-08-27 21:19:02
-2007-08-27 21:19:02
-2007-08-27 21:19:02
-2007-08-27 21:19:02
-2007-08-27 21:19:02
-2007-08-27 21:19:02
-2007-08-27 21:19:02
-2007-08-27 21:19:02
-2007-08-27 21:19:02
-2007-08-27 21:19:02
-2007-08-27 21:19:02
-2007-08-27 21:19:02
-2007-08-27 21:19:02
-2007-08-27 21:19:02
-2007-08-27 21:19:02
-2007-08-27 21:19:02
-2007-08-27 21:19:02
-2007-08-27 21:19:02
-2007-08-27 21:19:02
-2007-08-27 21:19:02
-2007-08-27 21:19:02
-2007-08-27 21:19:02
-2007-08-27 21:19:02
-2007-08-27 21:19:02
-2007-08-27 21:19:02
-2007-08-27 21:19:01
-2007-08-27 21:19:01
-2007-08-27 21:19:01
-2007-08-27 21:19:01
-2007-08-27 21:19:01
-2007-08-27 21:19:01
-2007-08-27 21:19:01
-2007-08-27 21:19:01
-2007-08-27 21:19:01
-2007-08-27 21:19:01
-2007-08-27 21:19:01
-2007-08-27 21:19:01
-2007-08-27 21:19:01
-2007-08-27 21:19:01
-2007-08-27 21:19:01
-2007-08-27 21:19:01
-2007-08-27 21:19:01
-2007-08-27 21:19:01
-2007-08-27 21:19:01
-2007-08-27 21:19:01
-2007-08-27 21:19:01
-2007-08-27 21:19:01
-2007-08-27 21:19:01
-2007-08-27 21:19:01
-2007-08-27 21:19:01
-2007-08-27 21:19:00
-2007-08-27 21:19:00
-2007-08-27 21:19:00
-2007-08-27 21:19:00
-2007-08-27 21:19:00
-2007-08-27 21:19:00
-2007-08-27 21:19:00
-2007-08-27 21:19:00
-2007-08-27 21:19:00
-2007-08-27 21:19:00
-2007-08-27 21:19:00
-2007-08-27 21:19:00
-2007-08-27 21:19:00
-2007-08-27 21:19:00
-2007-08-27 21:19:00
-2007-08-27 21:19:00
-2007-08-27 21:18:59
-2007-08-27 21:18:59
-2007-08-27 21:18:59
-2007-08-27 21:18:59
-2007-08-27 21:18:59
-2007-08-27 21:18:59
-2007-08-27 21:18:59
-2007-08-27 21:18:59
-2007-08-27 21:18:59
-2007-08-27 21:18:59
-2007-08-27 21:18:59
-2007-08-27 21:18:59
-2007-08-27 21:18:59
-2007-08-27 21:18:59
-2007-08-27 21:18:58
-2007-08-27 21:18:58
-2007-08-27 21:18:58
-2007-08-27 21:18:58
-2007-08-27 21:18:58
-2007-08-27 21:18:58
-2007-08-27 21:18:58
-2007-08-27 21:18:57
-2007-08-27 21:18:57
-2007-08-27 21:18:57
-2007-08-27 21:18:57
-2007-08-27 21:18:57
-2007-08-27 21:18:57
-2007-08-27 21:18:57
-2007-08-27 21:18:57
-2007-08-27 21:18:57
-2007-08-27 21:18:57
-2007-08-27 21:18:57
-2007-08-27 21:18:57
-2007-08-27 21:18:57
-2007-08-27 21:18:57
-2007-08-27 21:18:57
-2007-08-27 21:18:57
-2007-08-27 21:18:57
-2007-08-27 21:18:57
-2007-08-27 21:18:57
-2007-08-27 21:18:57
-2007-08-27 21:18:57
-2007-08-27 21:18:57
-2007-08-27 21:18:57
-2007-08-27 21:18:57
-2007-08-27 21:18:57
-2007-08-27 21:18:56
-2007-08-27 21:18:56
-2007-08-27 21:18:56
-2007-08-27 21:18:56
-2007-08-27 21:18:56
-2007-08-27 21:18:56
-2007-08-27 21:18:56
-2007-08-27 21:18:56
-2007-08-27 21:18:56
-2007-08-27 21:18:56
-2007-08-27 21:18:55
-2007-08-27 21:18:55
-2007-08-27 21:18:55
-2007-08-27 21:18:55
-2007-08-27 21:18:55
-2007-08-27 21:18:55
-2007-08-27 21:18:55
-2007-08-27 21:18:55
-2007-08-27 21:18:55
-2007-08-27 21:18:55
-2007-08-27 21:18:55
-2007-08-27 21:18:55
-2007-08-27 21:18:55
-2007-08-27 21:18:55
-2007-08-27 21:18:55
-2007-08-27 21:18:55
-2007-08-27 21:18:55
-2007-08-27 21:18:55
-2007-08-27 21:18:55
-2007-08-27 21:18:54
-2007-08-27 21:18:54
-2007-08-27 21:18:54
-2007-08-27 21:18:54
-2007-08-27 21:18:54
4.8 KiB2007-08-27 21:19:07
143.8 KiB2007-08-27 21:19:07
4.1 KiB2007-08-27 21:19:06
4.0 KiB2007-08-27 21:19:06
22.4 KiB2007-08-27 21:19:05
161.9 KiB2007-08-27 21:19:03
156.7 KiB2007-08-27 21:19:03
24.7 KiB2007-08-27 21:19:02
740.8 KiB2007-08-27 21:19:02
138.1 KiB2007-08-27 21:19:02
4.8 KiB2007-08-27 21:19:01
1.5 MiB2007-08-27 21:19:01
24.0 KiB2007-08-27 21:18:59
3.8 KiB2007-08-27 21:18:57
22.5 KiB2007-08-27 21:18:57