Welcome to mirrors.dotsrc.org

All our mirrors of open source software are available via http, https, ftp and an onion service. More information about our mirrors including statistics and contact information is available on our mirror info pages.

For information about dotsrc.org and our other services please go to our website.

Index of /bioconductor/checkResults/2.1/bioc-20070610/

File Name  ↓ File Size  ↓ Date  ↓ 
--
-2007-06-11 08:43:40
-2007-06-11 08:43:40
-2007-06-11 08:43:40
-2007-06-11 08:43:40
-2007-06-11 08:43:40
-2007-06-11 08:43:40
-2007-06-11 08:43:40
-2007-06-11 08:43:40
-2007-06-11 08:43:40
-2007-06-11 08:43:40
-2007-06-11 08:43:40
-2007-06-11 08:43:40
-2007-06-11 08:43:40
-2007-06-11 08:43:40
-2007-06-11 08:43:40
-2007-06-11 08:43:40
-2007-06-11 08:43:40
-2007-06-11 08:43:40
-2007-06-11 08:43:40
-2007-06-11 08:43:40
-2007-06-11 08:43:40
-2007-06-11 08:43:40
-2007-06-11 08:43:40
-2007-06-11 08:43:40
-2007-06-11 08:43:40
-2007-06-11 08:43:40
-2007-06-11 08:43:40
-2007-06-11 08:43:40
-2007-06-11 08:43:40
-2007-06-11 08:43:40
-2007-06-11 08:43:40
-2007-06-11 08:43:40
-2007-06-11 08:43:40
-2007-06-11 08:43:40
-2007-06-11 08:43:40
-2007-06-11 08:43:40
-2007-06-11 08:43:40
-2007-06-11 08:43:40
-2007-06-11 08:43:40
-2007-06-11 08:43:40
-2007-06-11 08:43:40
-2007-06-11 08:43:40
-2007-06-11 08:43:40
-2007-06-11 08:43:40
-2007-06-11 08:43:40
-2007-06-11 08:43:40
-2007-06-11 08:43:40
-2007-06-11 08:43:40
-2007-06-11 08:43:40
-2007-06-11 08:43:40
-2007-06-11 08:43:40
-2007-06-11 08:43:40
-2007-06-11 08:43:40
-2007-06-11 08:43:40
-2007-06-11 08:43:40
-2007-06-11 08:43:40
-2007-06-11 08:43:40
-2007-06-11 08:43:40
-2007-06-11 08:43:40
-2007-06-11 08:43:40
-2007-06-11 08:43:40
-2007-06-11 08:43:40
-2007-06-11 08:43:40
-2007-06-11 08:43:40
-2007-06-11 08:43:40
-2007-06-11 08:43:40
-2007-06-11 08:43:40
-2007-06-11 08:43:40
-2007-06-11 08:43:40
-2007-06-11 08:43:40
-2007-06-11 08:43:40
-2007-06-11 08:43:40
-2007-06-11 08:43:40
-2007-06-11 08:43:40
-2007-06-11 08:43:40
-2007-06-11 08:43:40
-2007-06-11 08:43:40
-2007-06-11 08:43:40
-2007-06-11 08:43:40
-2007-06-11 08:43:40
-2007-06-11 08:43:40
-2007-06-11 08:43:40
-2007-06-11 08:43:40
-2007-06-11 08:43:40
-2007-06-11 08:43:40
-2007-06-11 08:43:40
-2007-06-11 08:43:40
-2007-06-11 08:43:40
-2007-06-11 08:43:40
-2007-06-11 08:43:40
-2007-06-11 08:43:40
-2007-06-11 08:43:40
-2007-06-11 08:43:40
-2007-06-11 08:43:40
-2007-06-11 08:43:40
-2007-06-11 08:43:40
-2007-06-11 08:43:40
-2007-06-11 08:43:40
-2007-06-11 08:43:40
-2007-06-11 08:43:40
-2007-06-11 08:43:40
-2007-06-11 08:43:40
-2007-06-11 08:43:40
-2007-06-11 08:43:40
-2007-06-11 08:43:40
-2007-06-11 08:43:40
-2007-06-11 08:43:40
-2007-06-11 08:43:40
-2007-06-11 08:43:40
-2007-06-11 08:43:40
-2007-06-11 08:43:40
-2007-06-11 08:43:40
-2007-06-11 08:43:40
-2007-06-11 08:43:40
-2007-06-11 08:43:40
-2007-06-11 08:43:40
-2007-06-11 08:43:40
-2007-06-11 08:43:40
-2007-06-11 08:43:40
-2007-06-11 08:43:40
-2007-06-11 08:43:40
-2007-06-11 08:43:40
-2007-06-11 08:43:40
-2007-06-11 08:43:40
-2007-06-11 08:43:40
-2007-06-11 08:43:40
-2007-06-11 08:43:40
-2007-06-11 08:43:40
-2007-06-11 08:43:40
-2007-06-11 08:43:40
-2007-06-11 08:43:40
-2007-06-11 08:43:40
-2007-06-11 08:43:40
-2007-06-11 08:43:40
-2007-06-11 08:43:40
-2007-06-11 08:43:40
-2007-06-11 08:43:40
-2007-06-11 08:43:40
-2007-06-11 08:43:40
-2007-06-11 08:43:40
-2007-06-11 08:43:40
-2007-06-11 08:43:40
-2007-06-11 08:43:40
-2007-06-11 08:43:40
-2007-06-11 08:43:40
-2007-06-11 08:43:40
-2007-06-11 08:43:40
-2007-06-11 08:43:40
-2007-06-11 08:43:40
-2007-06-11 08:43:40
-2007-06-11 08:43:40
-2007-06-11 08:43:40
-2007-06-11 08:43:40
-2007-06-11 08:43:40
-2007-06-11 08:43:40
-2007-06-11 08:43:40
-2007-06-11 08:43:40
-2007-06-11 08:43:40
-2007-06-11 08:43:40
-2007-06-11 08:43:40
-2007-06-11 08:43:40
-2007-06-11 08:43:40
-2007-06-11 08:43:40
-2007-06-11 08:43:40
-2007-06-11 08:43:40
-2007-06-11 08:43:40
-2007-06-11 08:43:40
-2007-06-11 08:43:39
-2007-06-11 08:43:39
-2007-06-11 08:43:39
-2007-06-11 08:43:39
-2007-06-11 08:43:39
-2007-06-11 08:43:39
-2007-06-11 08:43:39
-2007-06-11 08:43:39
-2007-06-11 08:43:39
-2007-06-11 08:43:39
-2007-06-11 08:43:39
-2007-06-11 08:43:39
-2007-06-11 08:43:39
-2007-06-11 08:43:39
-2007-06-11 08:43:39
-2007-06-11 08:43:39
-2007-06-11 08:43:39
-2007-06-11 08:43:39
-2007-06-11 08:43:39
-2007-06-11 08:43:39
-2007-06-11 08:43:39
-2007-06-11 08:43:39
-2007-06-11 08:43:39
-2007-06-11 08:43:39
-2007-06-11 08:43:39
-2007-06-11 08:43:39
-2007-06-11 08:43:39
-2007-06-11 08:43:39
-2007-06-11 08:43:39
-2007-06-11 08:43:39
-2007-06-11 08:43:39
-2007-06-11 08:43:39
-2007-06-11 08:43:39
-2007-06-11 08:43:39
-2007-06-11 08:43:39
-2007-06-11 08:43:39
-2007-06-11 08:43:39
-2007-06-11 08:43:39
-2007-06-11 08:43:39
-2007-06-11 08:43:39
-2007-06-11 08:43:39
-2007-06-11 08:43:39
-2007-06-11 08:43:39
-2007-06-11 08:43:39
-2007-06-11 08:43:39
-2007-06-11 08:43:39
-2007-06-11 08:43:39
-2007-06-11 08:43:39
-2007-06-11 08:43:39
-2007-06-11 08:43:39
-2007-06-11 08:43:39
-2007-06-11 08:43:39
-2007-06-11 08:43:39
-2007-06-11 08:43:39
-2007-06-11 08:43:39
-2007-06-11 08:43:39
-2007-06-11 08:43:39
-2007-06-11 08:43:39
-2007-06-11 08:43:39
-2007-06-11 08:43:39
-2007-06-11 08:43:39
-2007-06-11 08:43:39
-2007-06-11 08:43:39
-2007-06-11 08:43:39
-2007-06-11 08:43:39
-2007-06-11 08:43:39
-2007-06-11 08:43:39
-2007-06-11 08:43:39
-2007-06-11 08:43:39
-2007-06-11 08:43:39
-2007-06-11 08:43:39
4.8 KiB2007-06-11 08:43:40
138.0 KiB2007-06-11 08:43:40
4.1 KiB2007-06-11 08:43:40
4.0 KiB2007-06-11 08:43:40
135.7 KiB2007-06-11 08:43:40
674.4 KiB2007-06-11 08:43:40
21.3 KiB2007-06-11 08:43:40
132.3 KiB2007-06-11 08:43:40
1.2 MiB2007-06-11 08:43:40
135.6 KiB2007-06-11 08:43:40
4.8 KiB2007-06-11 08:43:40
21.7 KiB2007-06-11 08:43:40
3.8 KiB2007-06-11 08:43:39
20.6 KiB2007-06-11 08:43:39
21.4 KiB2007-06-11 08:43:39