Welcome to mirrors.dotsrc.org

All our mirrors of open source software are available via http, https, ftp and an onion service. More information about our mirrors including statistics and contact information is available on our mirror info pages.

For information about dotsrc.org and our other services please go to our website.

Index of /bioconductor/checkResults/2.1/bioc-20070521/

File Name  ↓ File Size  ↓ Date  ↓ 
--
-2007-05-22 18:57:13
-2007-05-22 18:57:16
-2007-05-22 18:57:20
-2007-05-22 18:57:21
-2007-05-22 18:57:21
-2007-05-22 18:57:11
-2007-05-22 18:57:21
-2007-05-22 18:57:15
-2007-05-22 18:57:17
-2007-05-22 18:57:19
-2007-05-22 18:57:22
-2007-05-22 18:57:21
-2007-05-22 18:57:13
-2007-05-22 18:57:15
-2007-05-22 18:57:21
-2007-05-22 18:57:17
-2007-05-22 18:57:21
-2007-05-22 18:57:17
-2007-05-22 18:57:18
-2007-05-22 18:57:17
-2007-05-22 18:57:20
-2007-05-22 18:57:21
-2007-05-22 18:57:23
-2007-05-22 18:57:16
-2007-05-22 18:57:20
-2007-05-22 18:57:16
-2007-05-22 18:57:13
-2007-05-22 18:57:13
-2007-05-22 18:57:15
-2007-05-22 18:57:16
-2007-05-22 18:57:11
-2007-05-22 18:57:20
-2007-05-22 18:57:13
-2007-05-22 18:57:15
-2007-05-22 18:57:21
-2007-05-22 18:57:20
-2007-05-22 18:57:13
-2007-05-22 18:57:15
-2007-05-22 18:57:15
-2007-05-22 18:57:18
-2007-05-22 18:57:15
-2007-05-22 18:57:15
-2007-05-22 18:57:15
-2007-05-22 18:57:17
-2007-05-22 18:57:21
-2007-05-22 18:57:21
-2007-05-22 18:57:13
-2007-05-22 18:57:15
-2007-05-22 18:57:19
-2007-05-22 18:57:19
-2007-05-22 18:57:13
-2007-05-22 18:57:13
-2007-05-22 18:57:21
-2007-05-22 18:57:18
-2007-05-22 18:57:20
-2007-05-22 18:57:15
-2007-05-22 18:57:21
-2007-05-22 18:57:15
-2007-05-22 18:57:20
-2007-05-22 18:57:11
-2007-05-22 18:57:17
-2007-05-22 18:57:20
-2007-05-22 18:57:21
-2007-05-22 18:57:16
-2007-05-22 18:57:20
-2007-05-22 18:57:22
-2007-05-22 18:57:22
-2007-05-22 18:57:15
-2007-05-22 18:57:15
-2007-05-22 18:57:17
-2007-05-22 18:57:13
-2007-05-22 18:57:12
-2007-05-22 18:57:19
-2007-05-22 18:57:13
-2007-05-22 18:57:17
-2007-05-22 18:57:23
-2007-05-22 18:57:15
-2007-05-22 18:57:20
-2007-05-22 18:57:20
-2007-05-22 18:57:18
-2007-05-22 18:57:19
-2007-05-22 18:57:15
-2007-05-22 18:57:21
-2007-05-22 18:57:20
-2007-05-22 18:57:19
-2007-05-22 18:57:17
-2007-05-22 18:57:15
-2007-05-22 18:57:12
-2007-05-22 18:57:20
-2007-05-22 18:57:20
-2007-05-22 18:57:19
-2007-05-22 18:57:20
-2007-05-22 18:57:20
-2007-05-22 18:57:15
-2007-05-22 18:57:17
-2007-05-22 18:57:14
-2007-05-22 18:57:19
-2007-05-22 18:57:19
-2007-05-22 18:57:19
-2007-05-22 18:57:14
-2007-05-22 18:57:22
-2007-05-22 18:57:19
-2007-05-22 18:57:12
-2007-05-22 18:57:16
-2007-05-22 18:57:17
-2007-05-22 18:57:19
-2007-05-22 18:57:11
-2007-05-22 18:57:16
-2007-05-22 18:57:16
-2007-05-22 18:57:12
-2007-05-22 18:57:11
-2007-05-22 18:57:20
-2007-05-22 18:57:14
-2007-05-22 18:57:12
-2007-05-22 18:57:13
-2007-05-22 18:57:17
-2007-05-22 18:57:18
-2007-05-22 18:57:19
-2007-05-22 18:57:22
-2007-05-22 18:57:19
-2007-05-22 18:57:21
-2007-05-22 18:57:15
-2007-05-22 18:57:21
-2007-05-22 18:57:11
-2007-05-22 18:57:11
-2007-05-22 18:57:16
-2007-05-22 18:57:21
-2007-05-22 18:57:21
-2007-05-22 18:57:18
-2007-05-22 18:57:21
-2007-05-22 18:57:21
-2007-05-22 18:57:12
-2007-05-22 18:57:20
-2007-05-22 18:57:16
-2007-05-22 18:57:15
-2007-05-22 18:57:21
-2007-05-22 18:57:18
-2007-05-22 18:57:22
-2007-05-22 18:57:21
-2007-05-22 18:57:18
-2007-05-22 18:57:20
-2007-05-22 18:57:22
-2007-05-22 18:57:16
-2007-05-22 18:57:20
-2007-05-22 18:57:12
-2007-05-22 18:57:21
-2007-05-22 18:57:20
-2007-05-22 18:57:12
-2007-05-22 18:57:22
-2007-05-22 18:57:16
-2007-05-22 18:57:14
-2007-05-22 18:57:16
-2007-05-22 18:57:16
-2007-05-22 18:57:14
-2007-05-22 18:57:12
-2007-05-22 18:57:16
-2007-05-22 18:57:14
-2007-05-22 18:57:20
-2007-05-22 18:57:14
-2007-05-22 18:57:16
-2007-05-22 18:57:23
-2007-05-22 18:57:18
-2007-05-22 18:57:16
-2007-05-22 18:57:12
-2007-05-22 18:57:15
-2007-05-22 18:57:16
-2007-05-22 18:57:17
-2007-05-22 18:57:15
-2007-05-22 18:57:19
-2007-05-22 18:57:10
-2007-05-22 18:57:13
-2007-05-22 18:57:13
-2007-05-22 18:57:12
-2007-05-22 18:57:12
-2007-05-22 18:57:21
-2007-05-22 18:57:14
-2007-05-22 18:57:12
-2007-05-22 18:57:20
-2007-05-22 18:57:12
-2007-05-22 18:57:15
-2007-05-22 18:57:12
-2007-05-22 18:57:14
-2007-05-22 18:57:15
-2007-05-22 18:57:18
-2007-05-22 18:57:21
-2007-05-22 18:57:21
-2007-05-22 18:57:22
-2007-05-22 18:57:22
-2007-05-22 18:57:20
-2007-05-22 18:57:14
-2007-05-22 18:57:10
-2007-05-22 18:57:14
-2007-05-22 18:57:10
-2007-05-22 18:57:17
-2007-05-22 18:57:14
-2007-05-22 18:57:20
-2007-05-22 18:57:23
-2007-05-22 18:57:10
-2007-05-22 18:57:23
-2007-05-22 18:57:17
-2007-05-22 18:57:21
-2007-05-22 18:57:17
-2007-05-22 18:57:13
-2007-05-22 18:57:17
-2007-05-22 18:57:13
-2007-05-22 18:57:16
-2007-05-22 18:57:14
-2007-05-22 18:57:14
-2007-05-22 18:57:14
-2007-05-22 18:57:20
-2007-05-22 18:57:12
-2007-05-22 18:57:19
-2007-05-22 18:57:13
-2007-05-22 18:57:21
-2007-05-22 18:57:13
-2007-05-22 18:57:13
-2007-05-22 18:57:13
-2007-05-22 18:57:12
-2007-05-22 18:57:13
-2007-05-22 18:57:18
-2007-05-22 18:57:16
-2007-05-22 18:57:23
-2007-05-22 18:57:14
-2007-05-22 18:57:20
-2007-05-22 18:57:22
-2007-05-22 18:57:17
-2007-05-22 18:57:16
-2007-05-22 18:57:16
-2007-05-22 18:57:20
-2007-05-22 18:57:18
-2007-05-22 18:57:21
-2007-05-22 18:57:15
-2007-05-22 18:57:12
-2007-05-22 18:57:19
135.6 KiB2007-05-22 18:57:17
20.9 KiB2007-05-22 18:57:13
3.8 KiB2007-05-22 18:57:13
4.6 KiB2007-05-22 18:57:17
150.3 KiB2007-05-22 18:57:13
21.0 KiB2007-05-22 18:57:21
4.8 KiB2007-05-22 18:57:17
130.6 KiB2007-05-22 18:57:13
22.1 KiB2007-05-22 18:57:18
4.0 KiB2007-05-22 18:57:21
681.0 KiB2007-05-22 18:57:17
133.2 KiB2007-05-22 18:57:16
19.9 KiB2007-05-22 18:57:13
4.1 KiB2007-05-22 18:57:23