Welcome to mirrors.dotsrc.org

All our mirrors of open source software are available via http, https, ftp and an onion service. More information about our mirrors including statistics and contact information is available on our mirror info pages.

For information about dotsrc.org and our other services please go to our website.

Index of /bioconductor/checkResults/2.1/bioc-20070503/

File Name  ↓ File Size  ↓ Date  ↓ 
--
-2007-05-04 19:53:27
-2007-05-04 19:53:32
-2007-05-04 19:53:34
-2007-05-04 19:53:37
-2007-05-04 19:53:35
-2007-05-04 19:53:25
-2007-05-04 19:53:37
-2007-05-04 19:53:29
-2007-05-04 19:53:32
-2007-05-04 19:53:33
-2007-05-04 19:53:37
-2007-05-04 19:53:35
-2007-05-04 19:53:27
-2007-05-04 19:53:29
-2007-05-04 19:53:35
-2007-05-04 19:53:32
-2007-05-04 19:53:35
-2007-05-04 19:53:32
-2007-05-04 19:53:33
-2007-05-04 19:53:32
-2007-05-04 19:53:34
-2007-05-04 19:53:35
-2007-05-04 19:53:38
-2007-05-04 19:53:31
-2007-05-04 19:53:34
-2007-05-04 19:53:31
-2007-05-04 19:53:27
-2007-05-04 19:53:27
-2007-05-04 19:53:29
-2007-05-04 19:53:31
-2007-05-04 19:53:25
-2007-05-04 19:53:35
-2007-05-04 19:53:27
-2007-05-04 19:53:29
-2007-05-04 19:53:35
-2007-05-04 19:53:34
-2007-05-04 19:53:27
-2007-05-04 19:53:29
-2007-05-04 19:53:29
-2007-05-04 19:53:33
-2007-05-04 19:53:29
-2007-05-04 19:53:29
-2007-05-04 19:53:29
-2007-05-04 19:53:32
-2007-05-04 19:53:37
-2007-05-04 19:53:35
-2007-05-04 19:53:27
-2007-05-04 19:53:29
-2007-05-04 19:53:33
-2007-05-04 19:53:33
-2007-05-04 19:53:26
-2007-05-04 19:53:26
-2007-05-04 19:53:35
-2007-05-04 19:53:33
-2007-05-04 19:53:34
-2007-05-04 19:53:29
-2007-05-04 19:53:37
-2007-05-04 19:53:29
-2007-05-04 19:53:34
-2007-05-04 19:53:25
-2007-05-04 19:53:32
-2007-05-04 19:53:34
-2007-05-04 19:53:35
-2007-05-04 19:53:31
-2007-05-04 19:53:34
-2007-05-04 19:53:38
-2007-05-04 19:53:37
-2007-05-04 19:53:29
-2007-05-04 19:53:29
-2007-05-04 19:53:32
-2007-05-04 19:53:27
-2007-05-04 19:53:26
-2007-05-04 19:53:33
-2007-05-04 19:53:26
-2007-05-04 19:53:32
-2007-05-04 19:53:38
-2007-05-04 19:53:29
-2007-05-04 19:53:34
-2007-05-04 19:53:33
-2007-05-04 19:53:33
-2007-05-04 19:53:33
-2007-05-04 19:53:29
-2007-05-04 19:53:35
-2007-05-04 19:53:33
-2007-05-04 19:53:33
-2007-05-04 19:53:32
-2007-05-04 19:53:28
-2007-05-04 19:53:26
-2007-05-04 19:53:34
-2007-05-04 19:53:35
-2007-05-04 19:53:33
-2007-05-04 19:53:34
-2007-05-04 19:53:34
-2007-05-04 19:53:29
-2007-05-04 19:53:32
-2007-05-04 19:53:28
-2007-05-04 19:53:33
-2007-05-04 19:53:33
-2007-05-04 19:53:33
-2007-05-04 19:53:28
-2007-05-04 19:53:37
-2007-05-04 19:53:33
-2007-05-04 19:53:26
-2007-05-04 19:53:31
-2007-05-04 19:53:32
-2007-05-04 19:53:33
-2007-05-04 19:53:25
-2007-05-04 19:53:31
-2007-05-04 19:53:31
-2007-05-04 19:53:26
-2007-05-04 19:53:25
-2007-05-04 19:53:34
-2007-05-04 19:53:28
-2007-05-04 19:53:26
-2007-05-04 19:53:27
-2007-05-04 19:53:32
-2007-05-04 19:53:33
-2007-05-04 19:53:33
-2007-05-04 19:53:38
-2007-05-04 19:53:33
-2007-05-04 19:53:37
-2007-05-04 19:53:29
-2007-05-04 19:53:37
-2007-05-04 19:53:25
-2007-05-04 19:53:25
-2007-05-04 19:53:31
-2007-05-04 19:53:37
-2007-05-04 19:53:37
-2007-05-04 19:53:32
-2007-05-04 19:53:35
-2007-05-04 19:53:37
-2007-05-04 19:53:26
-2007-05-04 19:53:35
-2007-05-04 19:53:31
-2007-05-04 19:53:29
-2007-05-04 19:53:35
-2007-05-04 19:53:33
-2007-05-04 19:53:38
-2007-05-04 19:53:37
-2007-05-04 19:53:33
-2007-05-04 19:53:34
-2007-05-04 19:53:38
-2007-05-04 19:53:31
-2007-05-04 19:53:34
-2007-05-04 19:53:26
-2007-05-04 19:53:35
-2007-05-04 19:53:34
-2007-05-04 19:53:26
-2007-05-04 19:53:38
-2007-05-04 19:53:31
-2007-05-04 19:53:28
-2007-05-04 19:53:31
-2007-05-04 19:53:31
-2007-05-04 19:53:28
-2007-05-04 19:53:26
-2007-05-04 19:53:32
-2007-05-04 19:53:28
-2007-05-04 19:53:34
-2007-05-04 19:53:28
-2007-05-04 19:53:31
-2007-05-04 19:53:38
-2007-05-04 19:53:33
-2007-05-04 19:53:31
-2007-05-04 19:53:26
-2007-05-04 19:53:29
-2007-05-04 19:53:31
-2007-05-04 19:53:32
-2007-05-04 19:53:30
-2007-05-04 19:53:33
-2007-05-04 19:53:25
-2007-05-04 19:53:27
-2007-05-04 19:53:27
-2007-05-04 19:53:26
-2007-05-04 19:53:26
-2007-05-04 19:53:37
-2007-05-04 19:53:28
-2007-05-04 19:53:26
-2007-05-04 19:53:34
-2007-05-04 19:53:26
-2007-05-04 19:53:29
-2007-05-04 19:53:26
-2007-05-04 19:53:28
-2007-05-04 19:53:29
-2007-05-04 19:53:33
-2007-05-04 19:53:37
-2007-05-04 19:53:37
-2007-05-04 19:53:37
-2007-05-04 19:53:38
-2007-05-04 19:53:35
-2007-05-04 19:53:28
-2007-05-04 19:53:25
-2007-05-04 19:53:28
-2007-05-04 19:53:25
-2007-05-04 19:53:32
-2007-05-04 19:53:28
-2007-05-04 19:53:33
-2007-05-04 19:53:38
-2007-05-04 19:53:25
-2007-05-04 19:53:38
-2007-05-04 19:53:32
-2007-05-04 19:53:37
-2007-05-04 19:53:32
-2007-05-04 19:53:27
-2007-05-04 19:53:32
-2007-05-04 19:53:28
-2007-05-04 19:53:31
-2007-05-04 19:53:28
-2007-05-04 19:53:28
-2007-05-04 19:53:28
-2007-05-04 19:53:33
-2007-05-04 19:53:26
-2007-05-04 19:53:33
-2007-05-04 19:53:27
-2007-05-04 19:53:35
-2007-05-04 19:53:27
-2007-05-04 19:53:28
-2007-05-04 19:53:27
-2007-05-04 19:53:26
-2007-05-04 19:53:27
-2007-05-04 19:53:33
-2007-05-04 19:53:31
-2007-05-04 19:53:38
-2007-05-04 19:53:28
-2007-05-04 19:53:34
-2007-05-04 19:53:37
-2007-05-04 19:53:32
-2007-05-04 19:53:31
-2007-05-04 19:53:32
-2007-05-04 19:53:35
-2007-05-04 19:53:33
-2007-05-04 19:53:37
-2007-05-04 19:53:29
-2007-05-04 19:53:26
-2007-05-04 19:53:33
136.1 KiB2007-05-04 19:53:32
20.9 KiB2007-05-04 19:53:27
3.8 KiB2007-05-04 19:53:27
4.6 KiB2007-05-04 19:53:32
150.4 KiB2007-05-04 19:53:28
20.8 KiB2007-05-04 19:53:37
4.8 KiB2007-05-04 19:53:32
130.3 KiB2007-05-04 19:53:27
21.4 KiB2007-05-04 19:53:33
4.0 KiB2007-05-04 19:53:35
681.9 KiB2007-05-04 19:53:32
133.7 KiB2007-05-04 19:53:32
19.8 KiB2007-05-04 19:53:27
4.1 KiB2007-05-04 19:53:38