| Parent directory/ | - | - |
| churchill-ABarray-buildsrc.html | 6.5 KiB | 2006-10-04 06:43:10 |
| churchill-ABarray-checksrc.html | 7.7 KiB | 2006-10-04 06:43:10 |
| churchill-AnnBuilder-buildsrc.html | 8.4 KiB | 2006-10-04 06:43:12 |
| churchill-AnnBuilder-checksrc.html | 9.7 KiB | 2006-10-04 06:43:13 |
| churchill-BSgenome-buildsrc.html | 3.9 KiB | 2006-10-04 06:43:16 |
| churchill-BSgenome-checksrc.html | 5.7 KiB | 2006-10-04 06:43:16 |
| churchill-BeadExplorer-buildsrc.html | 4.0 KiB | 2006-10-04 06:43:14 |
| churchill-BeadExplorer-checksrc.html | 8.4 KiB | 2006-10-04 06:43:14 |
| churchill-BioMVCClass-buildsrc.html | 4.7 KiB | 2006-10-04 06:43:15 |
| churchill-BioMVCClass-checksrc.html | 6.0 KiB | 2006-10-04 06:43:16 |
| churchill-Biobase-buildsrc.html | 9.8 KiB | 2006-10-04 06:43:15 |
| churchill-Biobase-checksrc.html | 11.1 KiB | 2006-10-04 06:43:15 |
| churchill-Biostrings-buildsrc.html | 8.0 KiB | 2006-10-04 06:43:16 |
| churchill-Biostrings-checksrc.html | 9.4 KiB | 2006-10-04 06:43:16 |
| churchill-Category-buildsrc.html | 6.0 KiB | 2006-10-04 06:43:16 |
| churchill-Category-checksrc.html | 7.7 KiB | 2006-10-04 06:43:17 |
| churchill-ChromoViz-buildsrc.html | 4.1 KiB | 2006-10-04 06:43:17 |
| churchill-ChromoViz-checksrc.html | 6.8 KiB | 2006-10-04 06:43:17 |
| churchill-CoCiteStats-buildsrc.html | 4.0 KiB | 2006-10-04 06:43:17 |
| churchill-CoCiteStats-checksrc.html | 6.0 KiB | 2006-10-04 06:43:17 |
| churchill-DEDS-buildsrc.html | 7.3 KiB | 2006-10-04 06:43:18 |
| churchill-DEDS-checksrc.html | 8.6 KiB | 2006-10-04 06:43:18 |
| churchill-DNAcopy-buildsrc.html | 6.5 KiB | 2006-10-04 06:43:19 |
| churchill-DNAcopy-checksrc.html | 7.7 KiB | 2006-10-04 06:43:19 |
| churchill-DynDoc-buildsrc.html | 3.9 KiB | 2006-10-04 06:43:19 |
| churchill-DynDoc-checksrc.html | 6.4 KiB | 2006-10-04 06:43:19 |
| churchill-EBImage-buildsrc.html | 8.6 KiB | 2006-10-04 06:43:19 |
| churchill-EBImage-checksrc.html | 10.1 KiB | 2006-10-04 06:43:19 |
| churchill-EBarrays-buildsrc.html | 5.8 KiB | 2006-10-04 06:43:19 |
| churchill-EBarrays-checksrc.html | 7.3 KiB | 2006-10-04 06:43:19 |
| churchill-GEOquery-buildsrc.html | 4.9 KiB | 2006-10-04 06:43:22 |
| churchill-GEOquery-checksrc.html | 6.2 KiB | 2006-10-04 06:43:22 |
| churchill-GGtools-buildsrc.html | 5.8 KiB | 2006-10-04 06:43:23 |
| churchill-GGtools-checksrc.html | 7.1 KiB | 2006-10-04 06:43:23 |
| churchill-GLAD-buildsrc.html | 6.6 KiB | 2006-10-04 06:43:23 |
| churchill-GLAD-checksrc.html | 7.9 KiB | 2006-10-04 06:43:23 |
| churchill-GOstats-buildsrc.html | 6.1 KiB | 2006-10-04 06:43:24 |
| churchill-GOstats-checksrc.html | 7.8 KiB | 2006-10-04 06:43:24 |
| churchill-GeneMeta-buildsrc.html | 5.0 KiB | 2006-10-04 06:43:21 |
| churchill-GeneMeta-checksrc.html | 6.4 KiB | 2006-10-04 06:43:21 |
| churchill-GeneR-buildsrc.html | 11.6 KiB | 2006-10-04 06:43:21 |
| churchill-GeneR-checksrc.html | 12.9 KiB | 2006-10-04 06:43:22 |
| churchill-GeneSpring-buildsrc.html | 5.1 KiB | 2006-10-04 06:43:22 |
| churchill-GeneSpring-checksrc.html | 6.2 KiB | 2006-10-04 06:43:22 |
| churchill-GeneTS-buildsrc.html | 3.9 KiB | 2006-10-04 06:43:22 |
| churchill-GeneTS-checksrc.html | 5.1 KiB | 2006-10-04 06:43:22 |
| churchill-GeneTraffic-buildsrc.html | 4.1 KiB | 2006-10-04 06:43:22 |
| churchill-GeneTraffic-checksrc.html | 6.5 KiB | 2006-10-04 06:43:22 |
| churchill-GlobalAncova-buildsrc.html | 5.0 KiB | 2006-10-04 06:43:23 |
| churchill-GlobalAncova-checksrc.html | 6.4 KiB | 2006-10-04 06:43:23 |
| churchill-GraphAT-buildsrc.html | 3.9 KiB | 2006-10-04 06:43:24 |
| churchill-GraphAT-checksrc.html | 6.2 KiB | 2006-10-04 06:43:24 |
| churchill-HEM-buildsrc.html | 6.5 KiB | 2006-10-04 06:43:25 |
| churchill-HEM-checksrc.html | 7.8 KiB | 2006-10-04 06:43:25 |
| churchill-Harshlight-buildsrc.html | 5.1 KiB | 2006-10-04 06:43:24 |
| churchill-Harshlight-checksrc.html | 6.5 KiB | 2006-10-04 06:43:25 |
| churchill-Heatplus-buildsrc.html | 4.6 KiB | 2006-10-04 06:43:25 |
| churchill-Heatplus-checksrc.html | 5.8 KiB | 2006-10-04 06:43:25 |
| churchill-Icens-buildsrc.html | 4.0 KiB | 2006-10-04 06:43:25 |
| churchill-Icens-checksrc.html | 7.1 KiB | 2006-10-04 06:43:26 |
| churchill-KEGGSOAP-buildsrc.html | 3.9 KiB | 2006-10-04 06:43:27 |
| churchill-KEGGSOAP-checksrc.html | 6.3 KiB | 2006-10-04 06:43:27 |
| churchill-LMGene-buildsrc.html | 6.0 KiB | 2006-10-04 06:43:27 |
| churchill-LMGene-checksrc.html | 7.2 KiB | 2006-10-04 06:43:27 |
| churchill-LPE-buildsrc.html | 5.3 KiB | 2006-10-04 06:43:28 |
| churchill-LPE-checksrc.html | 6.5 KiB | 2006-10-04 06:43:28 |
| churchill-MANOR-buildsrc.html | 8.2 KiB | 2006-10-04 06:43:29 |
| churchill-MANOR-checksrc.html | 9.5 KiB | 2006-10-04 06:43:29 |
| churchill-MCRestimate-buildsrc.html | 5.9 KiB | 2006-10-04 06:43:30 |
| churchill-MCRestimate-checksrc.html | 7.2 KiB | 2006-10-04 06:43:30 |
| churchill-MLInterfaces-buildsrc.html | 7.2 KiB | 2006-10-04 06:43:31 |
| churchill-MLInterfaces-checksrc.html | 4.2 KiB | 2006-10-04 06:43:31 |
| churchill-MVCClass-buildsrc.html | 5.8 KiB | 2006-10-04 06:43:32 |
| churchill-MVCClass-checksrc.html | 7.1 KiB | 2006-10-04 06:43:32 |
| churchill-MantelCorr-buildsrc.html | 4.7 KiB | 2006-10-04 06:43:29 |
| churchill-MantelCorr-checksrc.html | 6.0 KiB | 2006-10-04 06:43:29 |
| churchill-MeasurementError.cor-buildsrc.html | 5.0 KiB | 2006-10-04 06:43:30 |
| churchill-MeasurementError.cor-checksrc.html | 6.0 KiB | 2006-10-04 06:43:30 |
| churchill-MergeMaid-buildsrc.html | 5.3 KiB | 2006-10-04 06:43:31 |
| churchill-MergeMaid-checksrc.html | 6.5 KiB | 2006-10-04 06:43:31 |
| churchill-Mfuzz-buildsrc.html | 5.4 KiB | 2006-10-04 06:43:31 |
| churchill-Mfuzz-checksrc.html | 6.7 KiB | 2006-10-04 06:43:31 |
| churchill-NodeInfo.html | 4.1 KiB | 2006-10-04 06:45:14 |
| churchill-OCplus-buildsrc.html | 5.7 KiB | 2006-10-04 06:43:33 |
| churchill-OCplus-checksrc.html | 6.9 KiB | 2006-10-04 06:43:33 |
| churchill-OLIN-buildsrc.html | 4.0 KiB | 2006-10-04 06:43:33 |
| churchill-OLIN-checksrc.html | 8.2 KiB | 2006-10-04 06:43:33 |
| churchill-OLINgui-buildsrc.html | 4.9 KiB | 2006-10-04 06:43:33 |
| churchill-OLINgui-checksrc.html | 6.0 KiB | 2006-10-04 06:43:33 |
| churchill-OrderedList-buildsrc.html | 5.5 KiB | 2006-10-04 06:43:33 |
| churchill-OrderedList-checksrc.html | 6.8 KiB | 2006-10-04 06:43:34 |
| churchill-PROcess-buildsrc.html | 5.7 KiB | 2006-10-04 06:43:37 |
| churchill-PROcess-checksrc.html | 6.9 KiB | 2006-10-04 06:43:37 |
| churchill-R-instpkgs.html | 14.1 KiB | 2006-10-04 06:45:14 |
| churchill-RBGL-buildsrc.html | 45.2 KiB | 2006-10-04 06:43:38 |
| churchill-RBGL-checksrc.html | 48.1 KiB | 2006-10-04 06:43:38 |
| churchill-RMAGEML-buildsrc.html | 7.3 KiB | 2006-10-04 06:43:39 |
| churchill-RMAGEML-checksrc.html | 6.0 KiB | 2006-10-04 06:43:39 |
| churchill-RMAPPER-buildsrc.html | 4.0 KiB | 2006-10-04 06:43:39 |
| churchill-RMAPPER-checksrc.html | 5.5 KiB | 2006-10-04 06:43:39 |
| churchill-ROC-buildsrc.html | 4.7 KiB | 2006-10-04 06:43:39 |
| churchill-ROC-checksrc.html | 6.1 KiB | 2006-10-04 06:43:39 |
| churchill-RSNPper-buildsrc.html | 4.1 KiB | 2006-10-04 06:43:40 |
| churchill-RSNPper-checksrc.html | 5.6 KiB | 2006-10-04 06:43:40 |
| churchill-RankProd-buildsrc.html | 4.9 KiB | 2006-10-04 06:43:37 |
| churchill-RankProd-checksrc.html | 6.2 KiB | 2006-10-04 06:43:37 |
| churchill-RbcBook1-buildsrc.html | 4.8 KiB | 2006-10-04 06:43:37 |
| churchill-RbcBook1-checksrc.html | 6.0 KiB | 2006-10-04 06:43:37 |
| churchill-Rdbi-buildsrc.html | 4.0 KiB | 2006-10-04 06:43:38 |
| churchill-Rdbi-checksrc.html | 6.3 KiB | 2006-10-04 06:43:38 |
| churchill-RdbiPgSQL-buildsrc.html | 4.1 KiB | 2006-10-04 06:43:38 |
| churchill-RdbiPgSQL-checksrc.html | 8.1 KiB | 2006-10-04 06:43:38 |
| churchill-Resourcerer-buildsrc.html | 4.9 KiB | 2006-10-04 06:43:38 |
| churchill-Resourcerer-checksrc.html | 6.2 KiB | 2006-10-04 06:43:38 |
| churchill-Rgraphviz-buildsrc.html | 8.6 KiB | 2006-10-04 06:43:39 |
| churchill-Rgraphviz-checksrc.html | 10.5 KiB | 2006-10-04 06:43:39 |
| churchill-Rredland-buildsrc.html | 4.9 KiB | 2006-10-04 06:43:40 |
| churchill-Rredland-checksrc.html | 6.0 KiB | 2006-10-04 06:43:40 |
| churchill-Ruuid-buildsrc.html | 8.7 KiB | 2006-10-04 06:43:40 |
| churchill-Ruuid-checksrc.html | 10.1 KiB | 2006-10-04 06:43:40 |
| churchill-SAGElyzer-buildsrc.html | 5.7 KiB | 2006-10-04 06:43:40 |
| churchill-SAGElyzer-checksrc.html | 7.1 KiB | 2006-10-04 06:43:40 |
| churchill-SAGx-buildsrc.html | 7.1 KiB | 2006-10-04 06:43:41 |
| churchill-SAGx-checksrc.html | 8.5 KiB | 2006-10-04 06:43:41 |
| churchill-SBMLR-buildsrc.html | 3.9 KiB | 2006-10-04 06:43:41 |
| churchill-SBMLR-checksrc.html | 6.0 KiB | 2006-10-04 06:43:41 |
| churchill-ScISI-buildsrc.html | 8.9 KiB | 2006-10-04 06:43:41 |
| churchill-ScISI-checksrc.html | 10.1 KiB | 2006-10-04 06:43:41 |
| churchill-TypeInfo-buildsrc.html | 5.3 KiB | 2006-10-04 06:43:45 |
| churchill-TypeInfo-checksrc.html | 6.9 KiB | 2006-10-04 06:43:45 |
| churchill-aCGH-buildsrc.html | 6.6 KiB | 2006-10-04 06:43:10 |
| churchill-aCGH-checksrc.html | 8.0 KiB | 2006-10-04 06:43:10 |
| churchill-adSplit-buildsrc.html | 5.7 KiB | 2006-10-04 06:43:11 |
| churchill-adSplit-checksrc.html | 7.1 KiB | 2006-10-04 06:43:11 |
| churchill-affxparser-buildsrc.html | 4.0 KiB | 2006-10-04 06:43:11 |
| churchill-affxparser-checksrc.html | 11.1 KiB | 2006-10-04 06:43:11 |
| churchill-affy-buildsrc.html | 11.5 KiB | 2006-10-04 06:43:11 |
| churchill-affy-checksrc.html | 13.2 KiB | 2006-10-04 06:43:11 |
| churchill-affyPLM-buildsrc.html | 14.8 KiB | 2006-10-04 06:43:12 |
| churchill-affyPLM-checksrc.html | 16.4 KiB | 2006-10-04 06:43:12 |
| churchill-affyQCReport-buildsrc.html | 4.7 KiB | 2006-10-04 06:43:12 |
| churchill-affyQCReport-checksrc.html | 6.0 KiB | 2006-10-04 06:43:12 |
| churchill-affycomp-buildsrc.html | 5.8 KiB | 2006-10-04 06:43:11 |
| churchill-affycomp-checksrc.html | 7.1 KiB | 2006-10-04 06:43:11 |
| churchill-affycoretools-buildsrc.html | 6.8 KiB | 2006-10-04 06:43:11 |
| churchill-affycoretools-checksrc.html | 8.2 KiB | 2006-10-04 06:43:11 |
| churchill-affydata-buildsrc.html | 4.3 KiB | 2006-10-04 06:43:11 |
| churchill-affydata-checksrc.html | 5.5 KiB | 2006-10-04 06:43:11 |
| churchill-affyio-buildsrc.html | 3.9 KiB | 2006-10-04 06:43:11 |
| churchill-affyio-checksrc.html | 7.5 KiB | 2006-10-04 06:43:12 |
| churchill-affylmGUI-buildsrc.html | 4.9 KiB | 2006-10-04 06:43:12 |
| churchill-affylmGUI-checksrc.html | 6.1 KiB | 2006-10-04 06:43:12 |
| churchill-affypdnn-buildsrc.html | 4.0 KiB | 2006-10-04 06:43:12 |
| churchill-affypdnn-checksrc.html | 6.4 KiB | 2006-10-04 06:43:12 |
| churchill-altcdfenvs-buildsrc.html | 5.9 KiB | 2006-10-04 06:43:12 |
| churchill-altcdfenvs-checksrc.html | 7.1 KiB | 2006-10-04 06:43:12 |
| churchill-annaffy-buildsrc.html | 7.6 KiB | 2006-10-04 06:43:12 |
| churchill-annaffy-checksrc.html | 9.0 KiB | 2006-10-04 06:43:12 |
| churchill-annotate-buildsrc.html | 8.1 KiB | 2006-10-04 06:43:13 |
| churchill-annotate-checksrc.html | 9.4 KiB | 2006-10-04 06:43:13 |
| churchill-apComplex-buildsrc.html | 5.5 KiB | 2006-10-04 06:43:13 |
| churchill-apComplex-checksrc.html | 6.7 KiB | 2006-10-04 06:43:13 |
| churchill-applera-buildsrc.html | 5.4 KiB | 2006-10-04 06:43:13 |
| churchill-applera-checksrc.html | 6.7 KiB | 2006-10-04 06:43:13 |
| churchill-aroma.light-buildsrc.html | 4.0 KiB | 2006-10-04 06:43:13 |
| churchill-aroma.light-checksrc.html | 7.3 KiB | 2006-10-04 06:43:13 |
| churchill-arrayMagic-buildsrc.html | 7.7 KiB | 2006-10-04 06:43:13 |
| churchill-arrayMagic-checksrc.html | 9.0 KiB | 2006-10-04 06:43:13 |
| churchill-arrayQCplot-buildsrc.html | 4.1 KiB | 2006-10-04 06:43:14 |
| churchill-arrayQCplot-checksrc.html | 4.2 KiB | 2006-10-04 06:43:14 |
| churchill-arrayQuality-buildsrc.html | 4.1 KiB | 2006-10-04 06:43:14 |
| churchill-arrayQuality-checksrc.html | 7.8 KiB | 2006-10-04 06:43:14 |
| churchill-beadarray-buildsrc.html | 4.0 KiB | 2006-10-04 06:43:14 |
| churchill-beadarray-checksrc.html | 10.3 KiB | 2006-10-04 06:43:14 |
| churchill-beadarraySNP-buildsrc.html | 6.4 KiB | 2006-10-04 06:43:14 |
| churchill-beadarraySNP-checksrc.html | 7.7 KiB | 2006-10-04 06:43:14 |
| churchill-bim-buildsrc.html | 9.7 KiB | 2006-10-04 06:43:15 |
| churchill-bim-checksrc.html | 10.9 KiB | 2006-10-04 06:43:15 |
| churchill-bioDist-buildsrc.html | 4.0 KiB | 2006-10-04 06:43:15 |
| churchill-bioDist-checksrc.html | 6.1 KiB | 2006-10-04 06:43:15 |
| churchill-biocViews-buildsrc.html | 5.8 KiB | 2006-10-04 06:43:15 |
| churchill-biocViews-checksrc.html | 7.1 KiB | 2006-10-04 06:43:15 |
| churchill-biomaRt-buildsrc.html | 5.9 KiB | 2006-10-04 06:43:15 |
| churchill-biomaRt-checksrc.html | 7.2 KiB | 2006-10-04 06:43:15 |
| churchill-bridge-buildsrc.html | 8.7 KiB | 2006-10-04 06:43:16 |
| churchill-bridge-checksrc.html | 10.2 KiB | 2006-10-04 06:43:16 |
| churchill-cellHTS-buildsrc.html | 6.2 KiB | 2006-10-04 06:43:17 |
| churchill-cellHTS-checksrc.html | 7.6 KiB | 2006-10-04 06:43:17 |
| churchill-cghMCR-buildsrc.html | 5.3 KiB | 2006-10-04 06:43:17 |
| churchill-cghMCR-checksrc.html | 6.6 KiB | 2006-10-04 06:43:17 |
| churchill-clusterStab-buildsrc.html | 5.3 KiB | 2006-10-04 06:43:17 |
| churchill-clusterStab-checksrc.html | 6.6 KiB | 2006-10-04 06:43:17 |
| churchill-codelink-buildsrc.html | 6.5 KiB | 2006-10-04 06:43:18 |
| churchill-codelink-checksrc.html | 7.9 KiB | 2006-10-04 06:43:18 |
| churchill-convert-buildsrc.html | 4.3 KiB | 2006-10-04 06:43:18 |
| churchill-convert-checksrc.html | 5.5 KiB | 2006-10-04 06:43:18 |
| churchill-copa-buildsrc.html | 5.3 KiB | 2006-10-04 06:43:18 |
| churchill-copa-checksrc.html | 6.7 KiB | 2006-10-04 06:43:18 |
| churchill-ctc-buildsrc.html | 4.7 KiB | 2006-10-04 06:43:18 |
| churchill-ctc-checksrc.html | 6.0 KiB | 2006-10-04 06:43:18 |
| churchill-daMA-buildsrc.html | 3.9 KiB | 2006-10-04 06:43:18 |
| churchill-daMA-checksrc.html | 6.0 KiB | 2006-10-04 06:43:18 |
| churchill-diffGeneAnalysis-buildsrc.html | 5.0 KiB | 2006-10-04 06:43:18 |
| churchill-diffGeneAnalysis-checksrc.html | 6.2 KiB | 2006-10-04 06:43:19 |
| churchill-ecolitk-buildsrc.html | 5.0 KiB | 2006-10-04 06:43:19 |
| churchill-ecolitk-checksrc.html | 6.2 KiB | 2006-10-04 06:43:20 |
| churchill-edd-buildsrc.html | 5.1 KiB | 2006-10-04 06:43:20 |
| churchill-edd-checksrc.html | 6.4 KiB | 2006-10-04 06:43:20 |
| churchill-factDesign-buildsrc.html | 4.7 KiB | 2006-10-04 06:43:20 |
| churchill-factDesign-checksrc.html | 5.9 KiB | 2006-10-04 06:43:20 |
| churchill-fdrame-buildsrc.html | 4.9 KiB | 2006-10-04 06:43:20 |
| churchill-fdrame-checksrc.html | 6.1 KiB | 2006-10-04 06:43:20 |
| churchill-gaggle-buildsrc.html | 5.0 KiB | 2006-10-04 06:43:20 |
| churchill-gaggle-checksrc.html | 6.2 KiB | 2006-10-04 06:43:20 |
| churchill-gcrma-buildsrc.html | 6.0 KiB | 2006-10-04 06:43:20 |
| churchill-gcrma-checksrc.html | 7.4 KiB | 2006-10-04 06:43:20 |
| churchill-genArise-buildsrc.html | 7.8 KiB | 2006-10-04 06:43:21 |
| churchill-genArise-checksrc.html | 9.0 KiB | 2006-10-04 06:43:21 |
| churchill-geneRecommender-buildsrc.html | 4.6 KiB | 2006-10-04 06:43:22 |
| churchill-geneRecommender-checksrc.html | 5.9 KiB | 2006-10-04 06:43:22 |
| churchill-genefilter-buildsrc.html | 7.6 KiB | 2006-10-04 06:43:21 |
| churchill-genefilter-checksrc.html | 9.0 KiB | 2006-10-04 06:43:21 |
| churchill-geneplotter-buildsrc.html | 5.9 KiB | 2006-10-04 06:43:21 |
| churchill-geneplotter-checksrc.html | 7.3 KiB | 2006-10-04 06:43:21 |
| churchill-gff3Plotter-buildsrc.html | 4.7 KiB | 2006-10-04 06:43:22 |
| churchill-gff3Plotter-checksrc.html | 6.0 KiB | 2006-10-04 06:43:23 |
| churchill-globaltest-buildsrc.html | 6.2 KiB | 2006-10-04 06:43:23 |
| churchill-globaltest-checksrc.html | 7.5 KiB | 2006-10-04 06:43:23 |
| churchill-goTools-buildsrc.html | 4.9 KiB | 2006-10-04 06:43:24 |
| churchill-goTools-checksrc.html | 6.4 KiB | 2006-10-04 06:43:24 |
| churchill-gpls-buildsrc.html | 4.8 KiB | 2006-10-04 06:43:24 |
| churchill-gpls-checksrc.html | 6.0 KiB | 2006-10-04 06:43:24 |
| churchill-graph-buildsrc.html | 8.0 KiB | 2006-10-04 06:43:24 |
| churchill-graph-checksrc.html | 9.4 KiB | 2006-10-04 06:43:24 |
| churchill-hexbin-buildsrc.html | 7.1 KiB | 2006-10-04 06:43:25 |
| churchill-hexbin-checksrc.html | 9.5 KiB | 2006-10-04 06:43:25 |
| churchill-hopach-buildsrc.html | 5.5 KiB | 2006-10-04 06:43:25 |
| churchill-hopach-checksrc.html | 6.7 KiB | 2006-10-04 06:43:25 |
| churchill-hypergraph-buildsrc.html | 4.0 KiB | 2006-10-04 06:43:25 |
| churchill-hypergraph-checksrc.html | 6.2 KiB | 2006-10-04 06:43:25 |
| churchill-iSNetwork-buildsrc.html | 8.2 KiB | 2006-10-04 06:43:26 |
| churchill-iSNetwork-checksrc.html | 9.5 KiB | 2006-10-04 06:43:26 |
| churchill-iSPlot-buildsrc.html | 6.4 KiB | 2006-10-04 06:43:26 |
| churchill-iSPlot-checksrc.html | 7.7 KiB | 2006-10-04 06:43:27 |
| churchill-idiogram-buildsrc.html | 4.7 KiB | 2006-10-04 06:43:26 |
| churchill-idiogram-checksrc.html | 6.0 KiB | 2006-10-04 06:43:26 |
| churchill-impute-buildsrc.html | 4.0 KiB | 2006-10-04 06:43:26 |
| churchill-impute-checksrc.html | 9.3 KiB | 2006-10-04 06:43:26 |
| churchill-lapmix-buildsrc.html | 4.5 KiB | 2006-10-04 06:43:27 |
| churchill-lapmix-checksrc.html | 5.7 KiB | 2006-10-04 06:43:27 |
| churchill-limma-buildsrc.html | 12.1 KiB | 2006-10-04 06:43:27 |
| churchill-limma-checksrc.html | 60.9 KiB | 2006-10-04 06:43:27 |
| churchill-limmaGUI-buildsrc.html | 4.5 KiB | 2006-10-04 06:43:27 |
| churchill-limmaGUI-checksrc.html | 5.7 KiB | 2006-10-04 06:43:27 |
| churchill-logicFS-buildsrc.html | 4.9 KiB | 2006-10-04 06:43:28 |
| churchill-logicFS-checksrc.html | 6.1 KiB | 2006-10-04 06:43:28 |
| churchill-maCorrPlot-buildsrc.html | 4.5 KiB | 2006-10-04 06:43:28 |
| churchill-maCorrPlot-checksrc.html | 5.8 KiB | 2006-10-04 06:43:28 |
| churchill-maDB-buildsrc.html | 3.9 KiB | 2006-10-04 06:43:28 |
| churchill-maDB-checksrc.html | 9.2 KiB | 2006-10-04 06:43:29 |
| churchill-maSigPro-buildsrc.html | 6.1 KiB | 2006-10-04 06:43:30 |
| churchill-maSigPro-checksrc.html | 7.3 KiB | 2006-10-04 06:43:30 |
| churchill-maanova-buildsrc.html | 6.7 KiB | 2006-10-04 06:43:28 |
| churchill-maanova-checksrc.html | 8.0 KiB | 2006-10-04 06:43:28 |
| churchill-macat-buildsrc.html | 5.9 KiB | 2006-10-04 06:43:28 |
| churchill-macat-checksrc.html | 7.1 KiB | 2006-10-04 06:43:28 |
| churchill-made4-buildsrc.html | 6.6 KiB | 2006-10-04 06:43:29 |
| churchill-made4-checksrc.html | 7.7 KiB | 2006-10-04 06:43:29 |
| churchill-makecdfenv-buildsrc.html | 6.0 KiB | 2006-10-04 06:43:29 |
| churchill-makecdfenv-checksrc.html | 7.4 KiB | 2006-10-04 06:43:29 |
| churchill-marray-buildsrc.html | 11.6 KiB | 2006-10-04 06:43:29 |
| churchill-marray-checksrc.html | 13.2 KiB | 2006-10-04 06:43:30 |
| churchill-matchprobes-buildsrc.html | 5.7 KiB | 2006-10-04 06:43:30 |
| churchill-matchprobes-checksrc.html | 7.1 KiB | 2006-10-04 06:43:30 |
| churchill-metaArray-buildsrc.html | 6.4 KiB | 2006-10-04 06:43:31 |
| churchill-metaArray-checksrc.html | 7.7 KiB | 2006-10-04 06:43:31 |
| churchill-mmgmos-buildsrc.html | 81.4 KiB | 2006-10-04 06:43:31 |
| churchill-mmgmos-checksrc.html | 82.7 KiB | 2006-10-04 06:43:32 |
| churchill-multtest-buildsrc.html | 4.1 KiB | 2006-10-04 06:43:32 |
| churchill-multtest-checksrc.html | 9.2 KiB | 2006-10-04 06:43:32 |
| churchill-nem-buildsrc.html | 5.0 KiB | 2006-10-04 06:43:32 |
| churchill-nem-checksrc.html | 6.3 KiB | 2006-10-04 06:43:32 |
| churchill-nnNorm-buildsrc.html | 4.5 KiB | 2006-10-04 06:43:32 |
| churchill-nnNorm-checksrc.html | 5.6 KiB | 2006-10-04 06:43:32 |
| churchill-nudge-buildsrc.html | 4.9 KiB | 2006-10-04 06:43:32 |
| churchill-nudge-checksrc.html | 6.2 KiB | 2006-10-04 06:43:33 |
| churchill-ontoTools-buildsrc.html | 7.4 KiB | 2006-10-04 06:43:33 |
| churchill-ontoTools-checksrc.html | 8.6 KiB | 2006-10-04 06:43:33 |
| churchill-pairseqsim-buildsrc.html | 5.7 KiB | 2006-10-04 06:43:34 |
| churchill-pairseqsim-checksrc.html | 6.9 KiB | 2006-10-04 06:43:34 |
| churchill-pamr-buildsrc.html | 4.0 KiB | 2006-10-04 06:43:34 |
| churchill-pamr-checksrc.html | 7.8 KiB | 2006-10-04 06:43:34 |
| churchill-panp-buildsrc.html | 4.5 KiB | 2006-10-04 06:43:34 |
| churchill-panp-checksrc.html | 5.7 KiB | 2006-10-04 06:43:34 |
| churchill-pathRender-buildsrc.html | 4.0 KiB | 2006-10-04 06:43:34 |
| churchill-pathRender-checksrc.html | 6.1 KiB | 2006-10-04 06:43:34 |
| churchill-pcaMethods-buildsrc.html | 5.7 KiB | 2006-10-04 06:43:34 |
| churchill-pcaMethods-checksrc.html | 7.0 KiB | 2006-10-04 06:43:34 |
| churchill-pcot2-buildsrc.html | 4.5 KiB | 2006-10-04 06:43:35 |
| churchill-pcot2-checksrc.html | 5.8 KiB | 2006-10-04 06:43:35 |
| churchill-pdmclass-buildsrc.html | 4.7 KiB | 2006-10-04 06:43:35 |
| churchill-pdmclass-checksrc.html | 6.1 KiB | 2006-10-04 06:43:35 |
| churchill-pgUtils-buildsrc.html | 3.9 KiB | 2006-10-04 06:43:35 |
| churchill-pgUtils-checksrc.html | 7.0 KiB | 2006-10-04 06:43:35 |
| churchill-pickgene-buildsrc.html | 4.8 KiB | 2006-10-04 06:43:35 |
| churchill-pickgene-checksrc.html | 6.0 KiB | 2006-10-04 06:43:35 |
| churchill-pkgDepTools-buildsrc.html | 4.8 KiB | 2006-10-04 06:43:35 |
| churchill-pkgDepTools-checksrc.html | 6.2 KiB | 2006-10-04 06:43:35 |
| churchill-plgem-buildsrc.html | 4.5 KiB | 2006-10-04 06:43:36 |
| churchill-plgem-checksrc.html | 5.7 KiB | 2006-10-04 06:43:36 |
| churchill-plier-buildsrc.html | 3.9 KiB | 2006-10-04 06:43:36 |
| churchill-plier-checksrc.html | 7.1 KiB | 2006-10-04 06:43:36 |
| churchill-ppiStats-buildsrc.html | 4.7 KiB | 2006-10-04 06:43:36 |
| churchill-ppiStats-checksrc.html | 6.0 KiB | 2006-10-04 06:43:36 |
| churchill-prada-buildsrc.html | 7.3 KiB | 2006-10-04 06:43:36 |
| churchill-prada-checksrc.html | 8.7 KiB | 2006-10-04 06:43:36 |
| churchill-quantsmooth-buildsrc.html | 5.2 KiB | 2006-10-04 06:43:37 |
| churchill-quantsmooth-checksrc.html | 6.6 KiB | 2006-10-04 06:43:37 |
| churchill-qvalue-buildsrc.html | 4.7 KiB | 2006-10-04 06:43:37 |
| churchill-qvalue-checksrc.html | 5.9 KiB | 2006-10-04 06:43:37 |
| churchill-rama-buildsrc.html | 4.0 KiB | 2006-10-04 06:43:37 |
| churchill-rama-checksrc.html | 11.3 KiB | 2006-10-04 06:43:37 |
| churchill-reb-buildsrc.html | 6.5 KiB | 2006-10-04 06:43:38 |
| churchill-reb-checksrc.html | 7.9 KiB | 2006-10-04 06:43:38 |
| churchill-rflowcyt-buildsrc.html | 9.6 KiB | 2006-10-04 06:43:39 |
| churchill-rflowcyt-checksrc.html | 11.7 KiB | 2006-10-04 06:43:39 |
| churchill-safe-buildsrc.html | 4.5 KiB | 2006-10-04 06:43:40 |
| churchill-safe-checksrc.html | 5.8 KiB | 2006-10-04 06:43:40 |
| churchill-sagenhaft-buildsrc.html | 4.9 KiB | 2006-10-04 06:43:40 |
| churchill-sagenhaft-checksrc.html | 6.1 KiB | 2006-10-04 06:43:41 |
| churchill-sigPathway-buildsrc.html | 6.7 KiB | 2006-10-04 06:43:42 |
| churchill-sigPathway-checksrc.html | 8.2 KiB | 2006-10-04 06:43:42 |
| churchill-siggenes-buildsrc.html | 6.2 KiB | 2006-10-04 06:43:41 |
| churchill-siggenes-checksrc.html | 7.5 KiB | 2006-10-04 06:43:42 |
| churchill-simpleaffy-buildsrc.html | 8.3 KiB | 2006-10-04 06:43:42 |
| churchill-simpleaffy-checksrc.html | 9.9 KiB | 2006-10-04 06:43:42 |
| churchill-simulatorAPMS-buildsrc.html | 6.1 KiB | 2006-10-04 06:43:42 |
| churchill-simulatorAPMS-checksrc.html | 7.4 KiB | 2006-10-04 06:43:42 |
| churchill-sizepower-buildsrc.html | 4.7 KiB | 2006-10-04 06:43:42 |
| churchill-sizepower-checksrc.html | 5.9 KiB | 2006-10-04 06:43:42 |
| churchill-snapCGH-buildsrc.html | 8.6 KiB | 2006-10-04 06:43:42 |
| churchill-snapCGH-checksrc.html | 9.9 KiB | 2006-10-04 06:43:43 |
| churchill-spikeLI-buildsrc.html | 5.0 KiB | 2006-10-04 06:43:43 |
| churchill-spikeLI-checksrc.html | 6.3 KiB | 2006-10-04 06:43:43 |
| churchill-splicegear-buildsrc.html | 6.2 KiB | 2006-10-04 06:43:43 |
| churchill-splicegear-checksrc.html | 7.5 KiB | 2006-10-04 06:43:43 |
| churchill-splots-buildsrc.html | 4.3 KiB | 2006-10-04 06:43:43 |
| churchill-splots-checksrc.html | 5.7 KiB | 2006-10-04 06:43:43 |
| churchill-spotSegmentation-buildsrc.html | 4.2 KiB | 2006-10-04 06:43:43 |
| churchill-spotSegmentation-checksrc.html | 6.2 KiB | 2006-10-04 06:43:43 |
| churchill-sscore-buildsrc.html | 4.6 KiB | 2006-10-04 06:43:43 |
| churchill-sscore-checksrc.html | 6.1 KiB | 2006-10-04 06:43:43 |
| churchill-ssize-buildsrc.html | 4.3 KiB | 2006-10-04 06:43:44 |
| churchill-ssize-checksrc.html | 5.5 KiB | 2006-10-04 06:43:44 |
| churchill-stam-buildsrc.html | 6.4 KiB | 2006-10-04 06:43:44 |
| churchill-stam-checksrc.html | 7.6 KiB | 2006-10-04 06:43:44 |
| churchill-stepNorm-buildsrc.html | 3.9 KiB | 2006-10-04 06:43:44 |
| churchill-stepNorm-checksrc.html | 6.2 KiB | 2006-10-04 06:43:44 |
| churchill-tilingArray-buildsrc.html | 6.9 KiB | 2006-10-04 06:43:44 |
| churchill-tilingArray-checksrc.html | 8.4 KiB | 2006-10-04 06:43:44 |
| churchill-timecourse-buildsrc.html | 5.2 KiB | 2006-10-04 06:43:44 |
| churchill-timecourse-checksrc.html | 6.4 KiB | 2006-10-04 06:43:44 |
| churchill-tkWidgets-buildsrc.html | 6.7 KiB | 2006-10-04 06:43:44 |
| churchill-tkWidgets-checksrc.html | 7.9 KiB | 2006-10-04 06:43:44 |
| churchill-twilight-buildsrc.html | 6.2 KiB | 2006-10-04 06:43:44 |
| churchill-twilight-checksrc.html | 7.5 KiB | 2006-10-04 06:43:45 |
| churchill-vsn-buildsrc.html | 4.9 KiB | 2006-10-04 06:43:45 |
| churchill-vsn-checksrc.html | 6.3 KiB | 2006-10-04 06:43:45 |
| churchill-weaver-buildsrc.html | 4.4 KiB | 2006-10-04 06:43:45 |
| churchill-weaver-checksrc.html | 5.7 KiB | 2006-10-04 06:43:45 |
| churchill-webbioc-buildsrc.html | 5.0 KiB | 2006-10-04 06:43:45 |
| churchill-webbioc-checksrc.html | 6.2 KiB | 2006-10-04 06:43:45 |
| churchill-widgetInvoke-buildsrc.html | 4.8 KiB | 2006-10-04 06:43:45 |
| churchill-widgetInvoke-checksrc.html | 6.1 KiB | 2006-10-04 06:43:45 |
| churchill-widgetTools-buildsrc.html | 5.1 KiB | 2006-10-04 06:43:45 |
| churchill-widgetTools-checksrc.html | 6.4 KiB | 2006-10-04 06:43:46 |
| churchill-xcms-buildsrc.html | 4.3 KiB | 2006-10-04 06:43:46 |
| churchill-xcms-checksrc.html | 6.1 KiB | 2006-10-04 06:43:46 |
| gladstone-ABarray-buildsrc.html | 6.5 KiB | 2006-10-04 06:43:46 |
| gladstone-ABarray-checksrc.html | 7.7 KiB | 2006-10-04 06:43:46 |
| gladstone-AnnBuilder-buildsrc.html | 8.4 KiB | 2006-10-04 06:43:48 |
| gladstone-AnnBuilder-checksrc.html | 9.7 KiB | 2006-10-04 06:43:48 |
| gladstone-BSgenome-buildsrc.html | 3.9 KiB | 2006-10-04 06:43:52 |
| gladstone-BSgenome-checksrc.html | 5.7 KiB | 2006-10-04 06:43:52 |
| gladstone-BeadExplorer-buildsrc.html | 4.0 KiB | 2006-10-04 06:43:50 |
| gladstone-BeadExplorer-checksrc.html | 8.4 KiB | 2006-10-04 06:43:50 |
| gladstone-BioMVCClass-buildsrc.html | 4.7 KiB | 2006-10-04 06:43:51 |
| gladstone-BioMVCClass-checksrc.html | 6.0 KiB | 2006-10-04 06:43:52 |
| gladstone-Biobase-buildsrc.html | 9.8 KiB | 2006-10-04 06:43:51 |
| gladstone-Biobase-checksrc.html | 11.1 KiB | 2006-10-04 06:43:51 |
| gladstone-Biostrings-buildsrc.html | 8.0 KiB | 2006-10-04 06:43:52 |
| gladstone-Biostrings-checksrc.html | 9.5 KiB | 2006-10-04 06:43:52 |
| gladstone-Category-buildsrc.html | 6.0 KiB | 2006-10-04 06:43:52 |
| gladstone-Category-checksrc.html | 7.7 KiB | 2006-10-04 06:43:52 |
| gladstone-ChromoViz-buildsrc.html | 4.1 KiB | 2006-10-04 06:43:53 |
| gladstone-ChromoViz-checksrc.html | 6.8 KiB | 2006-10-04 06:43:53 |
| gladstone-CoCiteStats-buildsrc.html | 4.0 KiB | 2006-10-04 06:43:53 |
| gladstone-CoCiteStats-checksrc.html | 6.1 KiB | 2006-10-04 06:43:53 |
| gladstone-DEDS-buildsrc.html | 7.3 KiB | 2006-10-04 06:43:54 |
| gladstone-DEDS-checksrc.html | 8.6 KiB | 2006-10-04 06:43:54 |
| gladstone-DNAcopy-buildsrc.html | 6.5 KiB | 2006-10-04 06:43:54 |
| gladstone-DNAcopy-checksrc.html | 7.7 KiB | 2006-10-04 06:43:54 |
| gladstone-DynDoc-buildsrc.html | 3.9 KiB | 2006-10-04 06:43:54 |
| gladstone-DynDoc-checksrc.html | 6.4 KiB | 2006-10-04 06:43:54 |
| gladstone-EBImage-buildsrc.html | 9.0 KiB | 2006-10-04 06:43:55 |
| gladstone-EBImage-checksrc.html | 10.5 KiB | 2006-10-04 06:43:55 |
| gladstone-EBarrays-buildsrc.html | 5.8 KiB | 2006-10-04 06:43:54 |
| gladstone-EBarrays-checksrc.html | 7.3 KiB | 2006-10-04 06:43:55 |
| gladstone-GEOquery-buildsrc.html | 4.9 KiB | 2006-10-04 06:43:57 |
| gladstone-GEOquery-checksrc.html | 6.2 KiB | 2006-10-04 06:43:57 |
| gladstone-GGtools-buildsrc.html | 5.8 KiB | 2006-10-04 06:43:58 |
| gladstone-GGtools-checksrc.html | 7.2 KiB | 2006-10-04 06:43:58 |
| gladstone-GLAD-buildsrc.html | 6.6 KiB | 2006-10-04 06:43:58 |
| gladstone-GLAD-checksrc.html | 7.9 KiB | 2006-10-04 06:43:58 |
| gladstone-GOstats-buildsrc.html | 6.1 KiB | 2006-10-04 06:43:58 |
| gladstone-GOstats-checksrc.html | 7.8 KiB | 2006-10-04 06:43:58 |
| gladstone-GeneMeta-buildsrc.html | 5.0 KiB | 2006-10-04 06:43:56 |
| gladstone-GeneMeta-checksrc.html | 6.4 KiB | 2006-10-04 06:43:56 |
| gladstone-GeneR-buildsrc.html | 11.7 KiB | 2006-10-04 06:43:56 |
| gladstone-GeneR-checksrc.html | 13.0 KiB | 2006-10-04 06:43:57 |
| gladstone-GeneSpring-buildsrc.html | 5.1 KiB | 2006-10-04 06:43:57 |
| gladstone-GeneSpring-checksrc.html | 6.2 KiB | 2006-10-04 06:43:57 |
| gladstone-GeneTS-buildsrc.html | 3.9 KiB | 2006-10-04 06:43:57 |
| gladstone-GeneTS-checksrc.html | 5.1 KiB | 2006-10-04 06:43:57 |
| gladstone-GeneTraffic-buildsrc.html | 4.1 KiB | 2006-10-04 06:43:57 |
| gladstone-GeneTraffic-checksrc.html | 6.5 KiB | 2006-10-04 06:43:57 |
| gladstone-GlobalAncova-buildsrc.html | 5.0 KiB | 2006-10-04 06:43:58 |
| gladstone-GlobalAncova-checksrc.html | 6.4 KiB | 2006-10-04 06:43:58 |
| gladstone-GraphAT-buildsrc.html | 3.9 KiB | 2006-10-04 06:43:59 |
| gladstone-GraphAT-checksrc.html | 6.2 KiB | 2006-10-04 06:43:59 |
| gladstone-HEM-buildsrc.html | 6.5 KiB | 2006-10-04 06:43:59 |
| gladstone-HEM-checksrc.html | 7.8 KiB | 2006-10-04 06:43:59 |
| gladstone-Harshlight-buildsrc.html | 5.1 KiB | 2006-10-04 06:43:59 |
| gladstone-Harshlight-checksrc.html | 6.5 KiB | 2006-10-04 06:43:59 |
| gladstone-Heatplus-buildsrc.html | 4.6 KiB | 2006-10-04 06:43:59 |
| gladstone-Heatplus-checksrc.html | 5.8 KiB | 2006-10-04 06:43:59 |
| gladstone-Icens-buildsrc.html | 4.0 KiB | 2006-10-04 06:44:00 |
| gladstone-Icens-checksrc.html | 7.1 KiB | 2006-10-04 06:44:00 |
| gladstone-KEGGSOAP-buildsrc.html | 3.9 KiB | 2006-10-04 06:44:01 |
| gladstone-KEGGSOAP-checksrc.html | 6.3 KiB | 2006-10-04 06:44:01 |
| gladstone-LMGene-buildsrc.html | 6.0 KiB | 2006-10-04 06:44:02 |
| gladstone-LMGene-checksrc.html | 7.2 KiB | 2006-10-04 06:44:02 |
| gladstone-LPE-buildsrc.html | 5.3 KiB | 2006-10-04 06:44:02 |
| gladstone-LPE-checksrc.html | 6.5 KiB | 2006-10-04 06:44:02 |
| gladstone-MANOR-buildsrc.html | 7.6 KiB | 2006-10-04 06:44:03 |
| gladstone-MANOR-checksrc.html | 8.9 KiB | 2006-10-04 06:44:04 |
| gladstone-MCRestimate-buildsrc.html | 5.9 KiB | 2006-10-04 06:44:04 |
| gladstone-MCRestimate-checksrc.html | 7.2 KiB | 2006-10-04 06:44:04 |
| gladstone-MLInterfaces-buildsrc.html | 7.2 KiB | 2006-10-04 06:44:05 |
| gladstone-MLInterfaces-checksrc.html | 8.4 KiB | 2006-10-04 06:44:05 |
| gladstone-MVCClass-buildsrc.html | 5.8 KiB | 2006-10-04 06:44:06 |
| gladstone-MVCClass-checksrc.html | 7.1 KiB | 2006-10-04 06:44:06 |
| gladstone-MantelCorr-buildsrc.html | 4.7 KiB | 2006-10-04 06:44:04 |
| gladstone-MantelCorr-checksrc.html | 6.0 KiB | 2006-10-04 06:44:04 |
| gladstone-MeasurementError.cor-buildsrc.html | 5.0 KiB | 2006-10-04 06:44:04 |
| gladstone-MeasurementError.cor-checksrc.html | 6.0 KiB | 2006-10-04 06:44:05 |
| gladstone-MergeMaid-buildsrc.html | 5.3 KiB | 2006-10-04 06:44:05 |
| gladstone-MergeMaid-checksrc.html | 6.5 KiB | 2006-10-04 06:44:05 |
| gladstone-Mfuzz-buildsrc.html | 5.4 KiB | 2006-10-04 06:44:05 |
| gladstone-Mfuzz-checksrc.html | 6.7 KiB | 2006-10-04 06:44:05 |
| gladstone-NodeInfo.html | 4.0 KiB | 2006-10-04 06:45:14 |
| gladstone-OCplus-buildsrc.html | 5.7 KiB | 2006-10-04 06:44:07 |
| gladstone-OCplus-checksrc.html | 6.9 KiB | 2006-10-04 06:44:07 |
| gladstone-OLIN-buildsrc.html | 4.0 KiB | 2006-10-04 06:44:07 |
| gladstone-OLIN-checksrc.html | 8.2 KiB | 2006-10-04 06:44:07 |
| gladstone-OLINgui-buildsrc.html | 4.9 KiB | 2006-10-04 06:44:07 |
| gladstone-OLINgui-checksrc.html | 6.0 KiB | 2006-10-04 06:44:07 |
| gladstone-OrderedList-buildsrc.html | 5.5 KiB | 2006-10-04 06:44:07 |
| gladstone-OrderedList-checksrc.html | 6.8 KiB | 2006-10-04 06:44:07 |
| gladstone-PROcess-buildsrc.html | 5.7 KiB | 2006-10-04 06:44:10 |
| gladstone-PROcess-checksrc.html | 6.9 KiB | 2006-10-04 06:44:10 |
| gladstone-R-instpkgs.html | 14.5 KiB | 2006-10-04 06:45:14 |
| gladstone-RBGL-buildsrc.html | 52.4 KiB | 2006-10-04 06:44:11 |
| gladstone-RBGL-checksrc.html | 53.7 KiB | 2006-10-04 06:44:11 |
| gladstone-RMAGEML-buildsrc.html | 9.5 KiB | 2006-10-04 06:44:12 |
| gladstone-RMAGEML-checksrc.html | 11.1 KiB | 2006-10-04 06:44:12 |
| gladstone-RMAPPER-buildsrc.html | 4.0 KiB | 2006-10-04 06:44:12 |
| gladstone-RMAPPER-checksrc.html | 5.5 KiB | 2006-10-04 06:44:13 |
| gladstone-ROC-buildsrc.html | 4.7 KiB | 2006-10-04 06:44:13 |
| gladstone-ROC-checksrc.html | 6.1 KiB | 2006-10-04 06:44:13 |
| gladstone-RSNPper-buildsrc.html | 3.9 KiB | 2006-10-04 06:44:13 |
| gladstone-RSNPper-checksrc.html | 5.9 KiB | 2006-10-04 06:44:13 |
| gladstone-RankProd-buildsrc.html | 4.9 KiB | 2006-10-04 06:44:10 |
| gladstone-RankProd-checksrc.html | 6.2 KiB | 2006-10-04 06:44:10 |
| gladstone-RbcBook1-buildsrc.html | 4.8 KiB | 2006-10-04 06:44:10 |
| gladstone-RbcBook1-checksrc.html | 6.0 KiB | 2006-10-04 06:44:11 |
| gladstone-Rdbi-buildsrc.html | 4.0 KiB | 2006-10-04 06:44:11 |
| gladstone-Rdbi-checksrc.html | 6.3 KiB | 2006-10-04 06:44:11 |
| gladstone-RdbiPgSQL-buildsrc.html | 4.1 KiB | 2006-10-04 06:44:11 |
| gladstone-RdbiPgSQL-checksrc.html | 7.8 KiB | 2006-10-04 06:44:11 |
| gladstone-Resourcerer-buildsrc.html | 4.9 KiB | 2006-10-04 06:44:12 |
| gladstone-Resourcerer-checksrc.html | 6.2 KiB | 2006-10-04 06:44:12 |
| gladstone-Rgraphviz-buildsrc.html | 7.2 KiB | 2006-10-04 06:44:12 |
| gladstone-Rgraphviz-checksrc.html | 8.7 KiB | 2006-10-04 06:44:12 |
| gladstone-Rredland-buildsrc.html | 6.8 KiB | 2006-10-04 06:44:13 |
| gladstone-Rredland-checksrc.html | 8.3 KiB | 2006-10-04 06:44:13 |
| gladstone-Ruuid-buildsrc.html | 8.7 KiB | 2006-10-04 06:44:13 |
| gladstone-Ruuid-checksrc.html | 10.2 KiB | 2006-10-04 06:44:13 |
| gladstone-SAGElyzer-buildsrc.html | 5.7 KiB | 2006-10-04 06:44:13 |
| gladstone-SAGElyzer-checksrc.html | 7.1 KiB | 2006-10-04 06:44:14 |
| gladstone-SAGx-buildsrc.html | 7.2 KiB | 2006-10-04 06:44:14 |
| gladstone-SAGx-checksrc.html | 8.5 KiB | 2006-10-04 06:44:14 |
| gladstone-SBMLR-buildsrc.html | 3.9 KiB | 2006-10-04 06:44:14 |
| gladstone-SBMLR-checksrc.html | 6.0 KiB | 2006-10-04 06:44:14 |
| gladstone-ScISI-buildsrc.html | 8.9 KiB | 2006-10-04 06:44:14 |
| gladstone-ScISI-checksrc.html | 10.1 KiB | 2006-10-04 06:44:14 |
| gladstone-TypeInfo-buildsrc.html | 5.3 KiB | 2006-10-04 06:44:18 |
| gladstone-TypeInfo-checksrc.html | 6.9 KiB | 2006-10-04 06:44:18 |
| gladstone-aCGH-buildsrc.html | 6.6 KiB | 2006-10-04 06:43:46 |
| gladstone-aCGH-checksrc.html | 8.0 KiB | 2006-10-04 06:43:46 |
| gladstone-adSplit-buildsrc.html | 5.7 KiB | 2006-10-04 06:43:46 |
| gladstone-adSplit-checksrc.html | 7.1 KiB | 2006-10-04 06:43:46 |
| gladstone-affxparser-buildsrc.html | 4.0 KiB | 2006-10-04 06:43:46 |
| gladstone-affxparser-checksrc.html | 55.7 KiB | 2006-10-04 06:43:47 |
| gladstone-affy-buildsrc.html | 11.5 KiB | 2006-10-04 06:43:47 |
| gladstone-affy-checksrc.html | 13.2 KiB | 2006-10-04 06:43:47 |
| gladstone-affyPLM-buildsrc.html | 14.9 KiB | 2006-10-04 06:43:48 |
| gladstone-affyPLM-checksrc.html | 16.5 KiB | 2006-10-04 06:43:48 |
| gladstone-affyQCReport-buildsrc.html | 4.7 KiB | 2006-10-04 06:43:48 |
| gladstone-affyQCReport-checksrc.html | 6.0 KiB | 2006-10-04 06:43:48 |
| gladstone-affycomp-buildsrc.html | 5.9 KiB | 2006-10-04 06:43:47 |
| gladstone-affycomp-checksrc.html | 7.1 KiB | 2006-10-04 06:43:47 |
| gladstone-affycoretools-buildsrc.html | 6.8 KiB | 2006-10-04 06:43:47 |
| gladstone-affycoretools-checksrc.html | 8.2 KiB | 2006-10-04 06:43:47 |
| gladstone-affydata-buildsrc.html | 4.3 KiB | 2006-10-04 06:43:47 |
| gladstone-affydata-checksrc.html | 5.5 KiB | 2006-10-04 06:43:47 |
| gladstone-affyio-buildsrc.html | 3.9 KiB | 2006-10-04 06:43:47 |
| gladstone-affyio-checksrc.html | 7.6 KiB | 2006-10-04 06:43:47 |
| gladstone-affylmGUI-buildsrc.html | 4.9 KiB | 2006-10-04 06:43:47 |
| gladstone-affylmGUI-checksrc.html | 6.1 KiB | 2006-10-04 06:43:47 |
| gladstone-affypdnn-buildsrc.html | 4.0 KiB | 2006-10-04 06:43:47 |
| gladstone-affypdnn-checksrc.html | 6.4 KiB | 2006-10-04 06:43:47 |
| gladstone-altcdfenvs-buildsrc.html | 5.9 KiB | 2006-10-04 06:43:48 |
| gladstone-altcdfenvs-checksrc.html | 7.1 KiB | 2006-10-04 06:43:48 |
| gladstone-annaffy-buildsrc.html | 7.6 KiB | 2006-10-04 06:43:48 |
| gladstone-annaffy-checksrc.html | 9.0 KiB | 2006-10-04 06:43:48 |
| gladstone-annotate-buildsrc.html | 8.1 KiB | 2006-10-04 06:43:48 |
| gladstone-annotate-checksrc.html | 9.4 KiB | 2006-10-04 06:43:48 |
| gladstone-apComplex-buildsrc.html | 5.5 KiB | 2006-10-04 06:43:48 |
| gladstone-apComplex-checksrc.html | 6.7 KiB | 2006-10-04 06:43:49 |
| gladstone-applera-buildsrc.html | 5.4 KiB | 2006-10-04 06:43:49 |
| gladstone-applera-checksrc.html | 6.7 KiB | 2006-10-04 06:43:49 |
| gladstone-aroma.light-buildsrc.html | 4.0 KiB | 2006-10-04 06:43:49 |
| gladstone-aroma.light-checksrc.html | 7.3 KiB | 2006-10-04 06:43:49 |
| gladstone-arrayMagic-buildsrc.html | 7.7 KiB | 2006-10-04 06:43:49 |
| gladstone-arrayMagic-checksrc.html | 9.0 KiB | 2006-10-04 06:43:49 |
| gladstone-arrayQCplot-buildsrc.html | 4.1 KiB | 2006-10-04 06:43:49 |
| gladstone-arrayQCplot-checksrc.html | 5.7 KiB | 2006-10-04 06:43:49 |
| gladstone-arrayQuality-buildsrc.html | 4.1 KiB | 2006-10-04 06:43:50 |
| gladstone-arrayQuality-checksrc.html | 7.8 KiB | 2006-10-04 06:43:50 |
| gladstone-beadarray-buildsrc.html | 4.0 KiB | 2006-10-04 06:43:50 |
| gladstone-beadarray-checksrc.html | 10.3 KiB | 2006-10-04 06:43:50 |
| gladstone-beadarraySNP-buildsrc.html | 6.4 KiB | 2006-10-04 06:43:50 |
| gladstone-beadarraySNP-checksrc.html | 7.8 KiB | 2006-10-04 06:43:50 |
| gladstone-bim-buildsrc.html | 12.3 KiB | 2006-10-04 06:43:50 |
| gladstone-bim-checksrc.html | 13.5 KiB | 2006-10-04 06:43:50 |
| gladstone-bioDist-buildsrc.html | 4.0 KiB | 2006-10-04 06:43:51 |
| gladstone-bioDist-checksrc.html | 6.1 KiB | 2006-10-04 06:43:51 |
| gladstone-biocViews-buildsrc.html | 5.8 KiB | 2006-10-04 06:43:51 |
| gladstone-biocViews-checksrc.html | 7.1 KiB | 2006-10-04 06:43:51 |
| gladstone-biomaRt-buildsrc.html | 5.9 KiB | 2006-10-04 06:43:51 |
| gladstone-biomaRt-checksrc.html | 7.2 KiB | 2006-10-04 06:43:51 |
| gladstone-bridge-buildsrc.html | 8.7 KiB | 2006-10-04 06:43:52 |
| gladstone-bridge-checksrc.html | 10.2 KiB | 2006-10-04 06:43:52 |
| gladstone-cellHTS-buildsrc.html | 6.2 KiB | 2006-10-04 06:43:52 |
| gladstone-cellHTS-checksrc.html | 7.6 KiB | 2006-10-04 06:43:52 |
| gladstone-cghMCR-buildsrc.html | 5.3 KiB | 2006-10-04 06:43:53 |
| gladstone-cghMCR-checksrc.html | 6.6 KiB | 2006-10-04 06:43:53 |
| gladstone-clusterStab-buildsrc.html | 5.3 KiB | 2006-10-04 06:43:53 |
| gladstone-clusterStab-checksrc.html | 6.6 KiB | 2006-10-04 06:43:53 |
| gladstone-codelink-buildsrc.html | 6.5 KiB | 2006-10-04 06:43:53 |
| gladstone-codelink-checksrc.html | 7.9 KiB | 2006-10-04 06:43:53 |
| gladstone-convert-buildsrc.html | 4.3 KiB | 2006-10-04 06:43:53 |
| gladstone-convert-checksrc.html | 5.5 KiB | 2006-10-04 06:43:53 |
| gladstone-copa-buildsrc.html | 5.3 KiB | 2006-10-04 06:43:54 |
| gladstone-copa-checksrc.html | 6.7 KiB | 2006-10-04 06:43:54 |
| gladstone-ctc-buildsrc.html | 4.7 KiB | 2006-10-04 06:43:54 |
| gladstone-ctc-checksrc.html | 6.0 KiB | 2006-10-04 06:43:54 |
| gladstone-daMA-buildsrc.html | 3.9 KiB | 2006-10-04 06:43:54 |
| gladstone-daMA-checksrc.html | 6.0 KiB | 2006-10-04 06:43:54 |
| gladstone-diffGeneAnalysis-buildsrc.html | 5.0 KiB | 2006-10-04 06:43:54 |
| gladstone-diffGeneAnalysis-checksrc.html | 6.2 KiB | 2006-10-04 06:43:54 |
| gladstone-ecolitk-buildsrc.html | 5.0 KiB | 2006-10-04 06:43:55 |
| gladstone-ecolitk-checksrc.html | 6.2 KiB | 2006-10-04 06:43:55 |
| gladstone-edd-buildsrc.html | 5.1 KiB | 2006-10-04 06:43:55 |
| gladstone-edd-checksrc.html | 6.4 KiB | 2006-10-04 06:43:55 |
| gladstone-factDesign-buildsrc.html | 4.7 KiB | 2006-10-04 06:43:55 |
| gladstone-factDesign-checksrc.html | 5.9 KiB | 2006-10-04 06:43:55 |
| gladstone-fdrame-buildsrc.html | 4.9 KiB | 2006-10-04 06:43:55 |
| gladstone-fdrame-checksrc.html | 6.1 KiB | 2006-10-04 06:43:55 |
| gladstone-gaggle-buildsrc.html | 5.0 KiB | 2006-10-04 06:43:56 |
| gladstone-gaggle-checksrc.html | 6.4 KiB | 2006-10-04 06:43:56 |
| gladstone-gcrma-buildsrc.html | 6.0 KiB | 2006-10-04 06:43:56 |
| gladstone-gcrma-checksrc.html | 7.4 KiB | 2006-10-04 06:43:56 |
| gladstone-genArise-buildsrc.html | 7.9 KiB | 2006-10-04 06:43:56 |
| gladstone-genArise-checksrc.html | 9.0 KiB | 2006-10-04 06:43:56 |
| gladstone-geneRecommender-buildsrc.html | 4.6 KiB | 2006-10-04 06:43:57 |
| gladstone-geneRecommender-checksrc.html | 5.9 KiB | 2006-10-04 06:43:57 |
| gladstone-genefilter-buildsrc.html | 7.6 KiB | 2006-10-04 06:43:56 |
| gladstone-genefilter-checksrc.html | 9.0 KiB | 2006-10-04 06:43:56 |
| gladstone-geneplotter-buildsrc.html | 5.9 KiB | 2006-10-04 06:43:56 |
| gladstone-geneplotter-checksrc.html | 7.3 KiB | 2006-10-04 06:43:56 |
| gladstone-gff3Plotter-buildsrc.html | 4.7 KiB | 2006-10-04 06:43:57 |
| gladstone-gff3Plotter-checksrc.html | 6.0 KiB | 2006-10-04 06:43:57 |
| gladstone-globaltest-buildsrc.html | 6.2 KiB | 2006-10-04 06:43:58 |
| gladstone-globaltest-checksrc.html | 7.5 KiB | 2006-10-04 06:43:58 |
| gladstone-goTools-buildsrc.html | 4.9 KiB | 2006-10-04 06:43:58 |
| gladstone-goTools-checksrc.html | 6.4 KiB | 2006-10-04 06:43:58 |
| gladstone-gpls-buildsrc.html | 4.8 KiB | 2006-10-04 06:43:59 |
| gladstone-gpls-checksrc.html | 6.0 KiB | 2006-10-04 06:43:59 |
| gladstone-graph-buildsrc.html | 8.0 KiB | 2006-10-04 06:43:59 |
| gladstone-graph-checksrc.html | 9.4 KiB | 2006-10-04 06:43:59 |
| gladstone-hexbin-buildsrc.html | 7.1 KiB | 2006-10-04 06:43:59 |
| gladstone-hexbin-checksrc.html | 9.5 KiB | 2006-10-04 06:44:00 |
| gladstone-hopach-buildsrc.html | 5.5 KiB | 2006-10-04 06:44:00 |
| gladstone-hopach-checksrc.html | 6.7 KiB | 2006-10-04 06:44:00 |
| gladstone-hypergraph-buildsrc.html | 4.0 KiB | 2006-10-04 06:44:00 |
| gladstone-hypergraph-checksrc.html | 6.2 KiB | 2006-10-04 06:44:00 |
| gladstone-iSNetwork-buildsrc.html | 8.2 KiB | 2006-10-04 06:44:01 |
| gladstone-iSNetwork-checksrc.html | 9.5 KiB | 2006-10-04 06:44:01 |
| gladstone-iSPlot-buildsrc.html | 6.4 KiB | 2006-10-04 06:44:01 |
| gladstone-iSPlot-checksrc.html | 7.7 KiB | 2006-10-04 06:44:01 |
| gladstone-idiogram-buildsrc.html | 4.7 KiB | 2006-10-04 06:44:00 |
| gladstone-idiogram-checksrc.html | 6.0 KiB | 2006-10-04 06:44:00 |
| gladstone-impute-buildsrc.html | 4.0 KiB | 2006-10-04 06:44:00 |
| gladstone-impute-checksrc.html | 7.6 KiB | 2006-10-04 06:44:00 |
| gladstone-lapmix-buildsrc.html | 4.5 KiB | 2006-10-04 06:44:01 |
| gladstone-lapmix-checksrc.html | 5.7 KiB | 2006-10-04 06:44:01 |
| gladstone-limma-buildsrc.html | 12.1 KiB | 2006-10-04 06:44:01 |
| gladstone-limma-checksrc.html | 60.9 KiB | 2006-10-04 06:44:02 |
| gladstone-limmaGUI-buildsrc.html | 4.5 KiB | 2006-10-04 06:44:02 |
| gladstone-limmaGUI-checksrc.html | 5.7 KiB | 2006-10-04 06:44:02 |
| gladstone-logicFS-buildsrc.html | 4.9 KiB | 2006-10-04 06:44:02 |
| gladstone-logicFS-checksrc.html | 6.1 KiB | 2006-10-04 06:44:02 |
| gladstone-maCorrPlot-buildsrc.html | 4.5 KiB | 2006-10-04 06:44:03 |
| gladstone-maCorrPlot-checksrc.html | 5.8 KiB | 2006-10-04 06:44:03 |
| gladstone-maDB-buildsrc.html | 3.9 KiB | 2006-10-04 06:44:03 |
| gladstone-maDB-checksrc.html | 9.2 KiB | 2006-10-04 06:44:03 |
| gladstone-maSigPro-buildsrc.html | 6.1 KiB | 2006-10-04 06:44:04 |
| gladstone-maSigPro-checksrc.html | 7.3 KiB | 2006-10-04 06:44:04 |
| gladstone-maanova-buildsrc.html | 6.7 KiB | 2006-10-04 06:44:03 |
| gladstone-maanova-checksrc.html | 8.0 KiB | 2006-10-04 06:44:03 |
| gladstone-macat-buildsrc.html | 5.9 KiB | 2006-10-04 06:44:03 |
| gladstone-macat-checksrc.html | 7.1 KiB | 2006-10-04 06:44:03 |
| gladstone-made4-buildsrc.html | 6.6 KiB | 2006-10-04 06:44:03 |
| gladstone-made4-checksrc.html | 7.7 KiB | 2006-10-04 06:44:03 |
| gladstone-makecdfenv-buildsrc.html | 5.7 KiB | 2006-10-04 06:44:03 |
| gladstone-makecdfenv-checksrc.html | 7.1 KiB | 2006-10-04 06:44:03 |
| gladstone-marray-buildsrc.html | 11.6 KiB | 2006-10-04 06:44:04 |
| gladstone-marray-checksrc.html | 13.2 KiB | 2006-10-04 06:44:04 |
| gladstone-matchprobes-buildsrc.html | 5.9 KiB | 2006-10-04 06:44:04 |
| gladstone-matchprobes-checksrc.html | 7.2 KiB | 2006-10-04 06:44:04 |
| gladstone-metaArray-buildsrc.html | 6.4 KiB | 2006-10-04 06:44:05 |
| gladstone-metaArray-checksrc.html | 7.7 KiB | 2006-10-04 06:44:05 |
| gladstone-mmgmos-buildsrc.html | 81.4 KiB | 2006-10-04 06:44:05 |
| gladstone-mmgmos-checksrc.html | 82.7 KiB | 2006-10-04 06:44:06 |
| gladstone-multtest-buildsrc.html | 4.1 KiB | 2006-10-04 06:44:06 |
| gladstone-multtest-checksrc.html | 9.3 KiB | 2006-10-04 06:44:06 |
| gladstone-nem-buildsrc.html | 5.0 KiB | 2006-10-04 06:44:06 |
| gladstone-nem-checksrc.html | 6.3 KiB | 2006-10-04 06:44:06 |
| gladstone-nnNorm-buildsrc.html | 4.5 KiB | 2006-10-04 06:44:06 |
| gladstone-nnNorm-checksrc.html | 5.6 KiB | 2006-10-04 06:44:06 |
| gladstone-nudge-buildsrc.html | 4.9 KiB | 2006-10-04 06:44:06 |
| gladstone-nudge-checksrc.html | 6.2 KiB | 2006-10-04 06:44:06 |
| gladstone-ontoTools-buildsrc.html | 7.4 KiB | 2006-10-04 06:44:07 |
| gladstone-ontoTools-checksrc.html | 8.6 KiB | 2006-10-04 06:44:07 |
| gladstone-pairseqsim-buildsrc.html | 5.7 KiB | 2006-10-04 06:44:07 |
| gladstone-pairseqsim-checksrc.html | 7.0 KiB | 2006-10-04 06:44:07 |
| gladstone-pamr-buildsrc.html | 4.0 KiB | 2006-10-04 06:44:07 |
| gladstone-pamr-checksrc.html | 7.8 KiB | 2006-10-04 06:44:07 |
| gladstone-panp-buildsrc.html | 4.5 KiB | 2006-10-04 06:44:08 |
| gladstone-panp-checksrc.html | 5.7 KiB | 2006-10-04 06:44:08 |
| gladstone-pathRender-buildsrc.html | 4.0 KiB | 2006-10-04 06:44:08 |
| gladstone-pathRender-checksrc.html | 6.1 KiB | 2006-10-04 06:44:08 |
| gladstone-pcaMethods-buildsrc.html | 5.7 KiB | 2006-10-04 06:44:08 |
| gladstone-pcaMethods-checksrc.html | 7.1 KiB | 2006-10-04 06:44:08 |
| gladstone-pcot2-buildsrc.html | 4.5 KiB | 2006-10-04 06:44:08 |
| gladstone-pcot2-checksrc.html | 5.8 KiB | 2006-10-04 06:44:08 |
| gladstone-pdmclass-buildsrc.html | 4.7 KiB | 2006-10-04 06:44:08 |
| gladstone-pdmclass-checksrc.html | 6.1 KiB | 2006-10-04 06:44:08 |
| gladstone-pgUtils-buildsrc.html | 3.9 KiB | 2006-10-04 06:44:09 |
| gladstone-pgUtils-checksrc.html | 7.0 KiB | 2006-10-04 06:44:09 |
| gladstone-pickgene-buildsrc.html | 4.8 KiB | 2006-10-04 06:44:09 |
| gladstone-pickgene-checksrc.html | 6.0 KiB | 2006-10-04 06:44:09 |
| gladstone-pkgDepTools-buildsrc.html | 4.8 KiB | 2006-10-04 06:44:09 |
| gladstone-pkgDepTools-checksrc.html | 6.2 KiB | 2006-10-04 06:44:09 |
| gladstone-plgem-buildsrc.html | 4.5 KiB | 2006-10-04 06:44:09 |
| gladstone-plgem-checksrc.html | 5.7 KiB | 2006-10-04 06:44:09 |
| gladstone-plier-buildsrc.html | 3.9 KiB | 2006-10-04 06:44:09 |
| gladstone-plier-checksrc.html | 7.1 KiB | 2006-10-04 06:44:09 |
| gladstone-ppiStats-buildsrc.html | 4.7 KiB | 2006-10-04 06:44:09 |
| gladstone-ppiStats-checksrc.html | 6.0 KiB | 2006-10-04 06:44:09 |
| gladstone-prada-buildsrc.html | 7.3 KiB | 2006-10-04 06:44:09 |
| gladstone-prada-checksrc.html | 8.7 KiB | 2006-10-04 06:44:09 |
| gladstone-quantsmooth-buildsrc.html | 5.2 KiB | 2006-10-04 06:44:10 |
| gladstone-quantsmooth-checksrc.html | 6.6 KiB | 2006-10-04 06:44:10 |
| gladstone-qvalue-buildsrc.html | 4.7 KiB | 2006-10-04 06:44:10 |
| gladstone-qvalue-checksrc.html | 5.9 KiB | 2006-10-04 06:44:10 |
| gladstone-rama-buildsrc.html | 4.0 KiB | 2006-10-04 06:44:10 |
| gladstone-rama-checksrc.html | 11.3 KiB | 2006-10-04 06:44:10 |
| gladstone-reb-buildsrc.html | 6.5 KiB | 2006-10-04 06:44:12 |
| gladstone-reb-checksrc.html | 7.9 KiB | 2006-10-04 06:44:12 |
| gladstone-rflowcyt-buildsrc.html | 9.6 KiB | 2006-10-04 06:44:12 |
| gladstone-rflowcyt-checksrc.html | 11.7 KiB | 2006-10-04 06:44:12 |
| gladstone-safe-buildsrc.html | 4.5 KiB | 2006-10-04 06:44:13 |
| gladstone-safe-checksrc.html | 5.8 KiB | 2006-10-04 06:44:13 |
| gladstone-sagenhaft-buildsrc.html | 4.9 KiB | 2006-10-04 06:44:14 |
| gladstone-sagenhaft-checksrc.html | 6.1 KiB | 2006-10-04 06:44:14 |
| gladstone-sigPathway-buildsrc.html | 6.7 KiB | 2006-10-04 06:44:15 |
| gladstone-sigPathway-checksrc.html | 8.3 KiB | 2006-10-04 06:44:15 |
| gladstone-siggenes-buildsrc.html | 6.2 KiB | 2006-10-04 06:44:14 |
| gladstone-siggenes-checksrc.html | 7.5 KiB | 2006-10-04 06:44:14 |
| gladstone-simpleaffy-buildsrc.html | 8.3 KiB | 2006-10-04 06:44:15 |
| gladstone-simpleaffy-checksrc.html | 9.9 KiB | 2006-10-04 06:44:15 |
| gladstone-simulatorAPMS-buildsrc.html | 6.1 KiB | 2006-10-04 06:44:15 |
| gladstone-simulatorAPMS-checksrc.html | 7.4 KiB | 2006-10-04 06:44:15 |
| gladstone-sizepower-buildsrc.html | 4.7 KiB | 2006-10-04 06:44:15 |
| gladstone-sizepower-checksrc.html | 5.9 KiB | 2006-10-04 06:44:15 |
| gladstone-snapCGH-buildsrc.html | 8.6 KiB | 2006-10-04 06:44:15 |
| gladstone-snapCGH-checksrc.html | 9.9 KiB | 2006-10-04 06:44:16 |
| gladstone-spikeLI-buildsrc.html | 5.0 KiB | 2006-10-04 06:44:16 |
| gladstone-spikeLI-checksrc.html | 6.3 KiB | 2006-10-04 06:44:16 |
| gladstone-splicegear-buildsrc.html | 6.2 KiB | 2006-10-04 06:44:16 |
| gladstone-splicegear-checksrc.html | 7.5 KiB | 2006-10-04 06:44:16 |
| gladstone-splots-buildsrc.html | 4.3 KiB | 2006-10-04 06:44:16 |
| gladstone-splots-checksrc.html | 5.7 KiB | 2006-10-04 06:44:16 |
| gladstone-spotSegmentation-buildsrc.html | 4.2 KiB | 2006-10-04 06:44:16 |
| gladstone-spotSegmentation-checksrc.html | 6.2 KiB | 2006-10-04 06:44:17 |
| gladstone-sscore-buildsrc.html | 5.3 KiB | 2006-10-04 06:44:17 |
| gladstone-sscore-checksrc.html | 6.4 KiB | 2006-10-04 06:44:17 |
| gladstone-ssize-buildsrc.html | 4.3 KiB | 2006-10-04 06:44:17 |
| gladstone-ssize-checksrc.html | 5.5 KiB | 2006-10-04 06:44:17 |
| gladstone-stam-buildsrc.html | 6.4 KiB | 2006-10-04 06:44:17 |
| gladstone-stam-checksrc.html | 7.7 KiB | 2006-10-04 06:44:17 |
| gladstone-stepNorm-buildsrc.html | 3.9 KiB | 2006-10-04 06:44:17 |
| gladstone-stepNorm-checksrc.html | 6.2 KiB | 2006-10-04 06:44:17 |
| gladstone-tilingArray-buildsrc.html | 6.9 KiB | 2006-10-04 06:44:17 |
| gladstone-tilingArray-checksrc.html | 8.4 KiB | 2006-10-04 06:44:17 |
| gladstone-timecourse-buildsrc.html | 5.2 KiB | 2006-10-04 06:44:17 |
| gladstone-timecourse-checksrc.html | 6.4 KiB | 2006-10-04 06:44:18 |
| gladstone-tkWidgets-buildsrc.html | 6.7 KiB | 2006-10-04 06:44:18 |
| gladstone-tkWidgets-checksrc.html | 7.9 KiB | 2006-10-04 06:44:18 |
| gladstone-twilight-buildsrc.html | 6.3 KiB | 2006-10-04 06:44:18 |
| gladstone-twilight-checksrc.html | 7.6 KiB | 2006-10-04 06:44:18 |
| gladstone-vsn-buildsrc.html | 4.9 KiB | 2006-10-04 06:44:18 |
| gladstone-vsn-checksrc.html | 6.4 KiB | 2006-10-04 06:44:18 |
| gladstone-weaver-buildsrc.html | 4.4 KiB | 2006-10-04 06:44:18 |
| gladstone-weaver-checksrc.html | 5.7 KiB | 2006-10-04 06:44:18 |
| gladstone-webbioc-buildsrc.html | 5.0 KiB | 2006-10-04 06:44:19 |
| gladstone-webbioc-checksrc.html | 6.2 KiB | 2006-10-04 06:44:19 |
| gladstone-widgetInvoke-buildsrc.html | 4.8 KiB | 2006-10-04 06:44:19 |
| gladstone-widgetInvoke-checksrc.html | 6.1 KiB | 2006-10-04 06:44:19 |
| gladstone-widgetTools-buildsrc.html | 5.1 KiB | 2006-10-04 06:44:19 |
| gladstone-widgetTools-checksrc.html | 6.4 KiB | 2006-10-04 06:44:19 |
| gladstone-xcms-buildsrc.html | 9.5 KiB | 2006-10-04 06:44:19 |
| gladstone-xcms-checksrc.html | 11.9 KiB | 2006-10-04 06:44:19 |
| gopher5-ABarray-buildsrc.html | 6.5 KiB | 2006-10-04 06:42:02 |
| gopher5-ABarray-checksrc.html | 7.7 KiB | 2006-10-04 06:42:02 |
| gopher5-AnnBuilder-buildsrc.html | 8.4 KiB | 2006-10-04 06:42:04 |
| gopher5-AnnBuilder-checksrc.html | 9.7 KiB | 2006-10-04 06:42:04 |
| gopher5-BSgenome-buildsrc.html | 3.9 KiB | 2006-10-04 06:42:08 |
| gopher5-BSgenome-checksrc.html | 5.7 KiB | 2006-10-04 06:42:08 |
| gopher5-BeadExplorer-buildsrc.html | 4.0 KiB | 2006-10-04 06:42:06 |
| gopher5-BeadExplorer-checksrc.html | 8.4 KiB | 2006-10-04 06:42:06 |
| gopher5-BioMVCClass-buildsrc.html | 4.7 KiB | 2006-10-04 06:42:07 |
| gopher5-BioMVCClass-checksrc.html | 6.0 KiB | 2006-10-04 06:42:07 |
| gopher5-Biobase-buildsrc.html | 9.8 KiB | 2006-10-04 06:42:07 |
| gopher5-Biobase-checksrc.html | 11.1 KiB | 2006-10-04 06:42:07 |
| gopher5-Biostrings-buildsrc.html | 8.0 KiB | 2006-10-04 06:42:07 |
| gopher5-Biostrings-checksrc.html | 9.4 KiB | 2006-10-04 06:42:08 |
| gopher5-Category-buildsrc.html | 6.0 KiB | 2006-10-04 06:42:08 |
| gopher5-Category-checksrc.html | 7.7 KiB | 2006-10-04 06:42:08 |
| gopher5-ChromoViz-buildsrc.html | 4.0 KiB | 2006-10-04 06:42:09 |
| gopher5-ChromoViz-checksrc.html | 6.8 KiB | 2006-10-04 06:42:09 |
| gopher5-CoCiteStats-buildsrc.html | 4.0 KiB | 2006-10-04 06:42:09 |
| gopher5-CoCiteStats-checksrc.html | 6.0 KiB | 2006-10-04 06:42:09 |
| gopher5-DEDS-buildsrc.html | 7.3 KiB | 2006-10-04 06:42:10 |
| gopher5-DEDS-checksrc.html | 8.6 KiB | 2006-10-04 06:42:10 |
| gopher5-DNAcopy-buildsrc.html | 6.4 KiB | 2006-10-04 06:42:10 |
| gopher5-DNAcopy-checksrc.html | 7.6 KiB | 2006-10-04 06:42:10 |
| gopher5-DynDoc-buildsrc.html | 3.9 KiB | 2006-10-04 06:42:10 |
| gopher5-DynDoc-checksrc.html | 6.4 KiB | 2006-10-04 06:42:10 |
| gopher5-EBImage-buildsrc.html | 8.7 KiB | 2006-10-04 06:42:11 |
| gopher5-EBImage-checksrc.html | 10.2 KiB | 2006-10-04 06:42:11 |
| gopher5-EBarrays-buildsrc.html | 5.8 KiB | 2006-10-04 06:42:10 |
| gopher5-EBarrays-checksrc.html | 7.3 KiB | 2006-10-04 06:42:11 |
| gopher5-GEOquery-buildsrc.html | 4.9 KiB | 2006-10-04 06:42:13 |
| gopher5-GEOquery-checksrc.html | 6.2 KiB | 2006-10-04 06:42:13 |
| gopher5-GGtools-buildsrc.html | 5.8 KiB | 2006-10-04 06:42:13 |
| gopher5-GGtools-checksrc.html | 7.2 KiB | 2006-10-04 06:42:13 |
| gopher5-GLAD-buildsrc.html | 6.6 KiB | 2006-10-04 06:42:13 |
| gopher5-GLAD-checksrc.html | 7.9 KiB | 2006-10-04 06:42:14 |
| gopher5-GOstats-buildsrc.html | 6.1 KiB | 2006-10-04 06:42:14 |
| gopher5-GOstats-checksrc.html | 7.8 KiB | 2006-10-04 06:42:14 |
| gopher5-GeneMeta-buildsrc.html | 5.0 KiB | 2006-10-04 06:42:12 |
| gopher5-GeneMeta-checksrc.html | 6.3 KiB | 2006-10-04 06:42:12 |
| gopher5-GeneR-buildsrc.html | 11.7 KiB | 2006-10-04 06:42:12 |
| gopher5-GeneR-checksrc.html | 13.0 KiB | 2006-10-04 06:42:12 |
| gopher5-GeneSpring-buildsrc.html | 5.1 KiB | 2006-10-04 06:42:12 |
| gopher5-GeneSpring-checksrc.html | 6.2 KiB | 2006-10-04 06:42:13 |
| gopher5-GeneTS-buildsrc.html | 3.9 KiB | 2006-10-04 06:42:13 |
| gopher5-GeneTS-checksrc.html | 5.1 KiB | 2006-10-04 06:42:13 |
| gopher5-GeneTraffic-buildsrc.html | 4.1 KiB | 2006-10-04 06:42:13 |
| gopher5-GeneTraffic-checksrc.html | 6.5 KiB | 2006-10-04 06:42:13 |
| gopher5-GlobalAncova-buildsrc.html | 5.0 KiB | 2006-10-04 06:42:14 |
| gopher5-GlobalAncova-checksrc.html | 6.4 KiB | 2006-10-04 06:42:14 |
| gopher5-GraphAT-buildsrc.html | 3.9 KiB | 2006-10-04 06:42:15 |
| gopher5-GraphAT-checksrc.html | 6.2 KiB | 2006-10-04 06:42:15 |
| gopher5-HEM-buildsrc.html | 6.5 KiB | 2006-10-04 06:42:15 |
| gopher5-HEM-checksrc.html | 7.8 KiB | 2006-10-04 06:42:15 |
| gopher5-Harshlight-buildsrc.html | 5.1 KiB | 2006-10-04 06:42:15 |
| gopher5-Harshlight-checksrc.html | 6.5 KiB | 2006-10-04 06:42:15 |
| gopher5-Heatplus-buildsrc.html | 4.5 KiB | 2006-10-04 06:42:15 |
| gopher5-Heatplus-checksrc.html | 5.8 KiB | 2006-10-04 06:42:15 |
| gopher5-Icens-buildsrc.html | 4.0 KiB | 2006-10-04 06:42:16 |
| gopher5-Icens-checksrc.html | 7.1 KiB | 2006-10-04 06:42:16 |
| gopher5-KEGGSOAP-buildsrc.html | 3.9 KiB | 2006-10-04 06:42:17 |
| gopher5-KEGGSOAP-checksrc.html | 6.3 KiB | 2006-10-04 06:42:17 |
| gopher5-LMGene-buildsrc.html | 6.0 KiB | 2006-10-04 06:42:17 |
| gopher5-LMGene-checksrc.html | 7.2 KiB | 2006-10-04 06:42:17 |
| gopher5-LPE-buildsrc.html | 5.3 KiB | 2006-10-04 06:42:18 |
| gopher5-LPE-checksrc.html | 6.5 KiB | 2006-10-04 06:42:18 |
| gopher5-MANOR-buildsrc.html | 7.6 KiB | 2006-10-04 06:42:19 |
| gopher5-MANOR-checksrc.html | 8.9 KiB | 2006-10-04 06:42:19 |
| gopher5-MCRestimate-buildsrc.html | 5.9 KiB | 2006-10-04 06:42:20 |
| gopher5-MCRestimate-checksrc.html | 7.2 KiB | 2006-10-04 06:42:20 |
| gopher5-MLInterfaces-buildsrc.html | 7.2 KiB | 2006-10-04 06:42:21 |
| gopher5-MLInterfaces-checksrc.html | 8.4 KiB | 2006-10-04 06:42:21 |
| gopher5-MVCClass-buildsrc.html | 5.7 KiB | 2006-10-04 06:42:21 |
| gopher5-MVCClass-checksrc.html | 7.1 KiB | 2006-10-04 06:42:22 |
| gopher5-MantelCorr-buildsrc.html | 4.7 KiB | 2006-10-04 06:42:19 |
| gopher5-MantelCorr-checksrc.html | 6.0 KiB | 2006-10-04 06:42:19 |
| gopher5-MeasurementError.cor-buildsrc.html | 5.0 KiB | 2006-10-04 06:42:20 |
| gopher5-MeasurementError.cor-checksrc.html | 6.0 KiB | 2006-10-04 06:42:20 |
| gopher5-MergeMaid-buildsrc.html | 5.3 KiB | 2006-10-04 06:42:20 |
| gopher5-MergeMaid-checksrc.html | 6.5 KiB | 2006-10-04 06:42:20 |
| gopher5-Mfuzz-buildsrc.html | 5.4 KiB | 2006-10-04 06:42:21 |
| gopher5-Mfuzz-checksrc.html | 6.7 KiB | 2006-10-04 06:42:21 |
| gopher5-NodeInfo.html | 4.0 KiB | 2006-10-04 06:45:14 |
| gopher5-OCplus-buildsrc.html | 5.7 KiB | 2006-10-04 06:42:22 |
| gopher5-OCplus-checksrc.html | 6.9 KiB | 2006-10-04 06:42:22 |
| gopher5-OLIN-buildsrc.html | 4.0 KiB | 2006-10-04 06:42:22 |
| gopher5-OLIN-checksrc.html | 8.2 KiB | 2006-10-04 06:42:22 |
| gopher5-OLINgui-buildsrc.html | 4.9 KiB | 2006-10-04 06:42:23 |
| gopher5-OLINgui-checksrc.html | 6.0 KiB | 2006-10-04 06:42:23 |
| gopher5-OrderedList-buildsrc.html | 5.5 KiB | 2006-10-04 06:42:23 |
| gopher5-OrderedList-checksrc.html | 6.8 KiB | 2006-10-04 06:42:23 |
| gopher5-PROcess-buildsrc.html | 5.7 KiB | 2006-10-04 06:42:26 |
| gopher5-PROcess-checksrc.html | 6.9 KiB | 2006-10-04 06:42:26 |
| gopher5-R-instpkgs.html | 14.5 KiB | 2006-10-04 06:45:14 |
| gopher5-RBGL-buildsrc.html | 14.9 KiB | 2006-10-04 06:42:27 |
| gopher5-RBGL-checksrc.html | 16.3 KiB | 2006-10-04 06:42:27 |
| gopher5-RMAGEML-buildsrc.html | 9.5 KiB | 2006-10-04 06:42:28 |
| gopher5-RMAGEML-checksrc.html | 11.1 KiB | 2006-10-04 06:42:28 |
| gopher5-RMAPPER-buildsrc.html | 4.0 KiB | 2006-10-04 06:42:28 |
| gopher5-RMAPPER-checksrc.html | 5.5 KiB | 2006-10-04 06:42:28 |
| gopher5-ROC-buildsrc.html | 4.7 KiB | 2006-10-04 06:42:28 |
| gopher5-ROC-checksrc.html | 6.1 KiB | 2006-10-04 06:42:28 |
| gopher5-RSNPper-buildsrc.html | 3.9 KiB | 2006-10-04 06:42:29 |
| gopher5-RSNPper-checksrc.html | 5.9 KiB | 2006-10-04 06:42:29 |
| gopher5-RankProd-buildsrc.html | 4.9 KiB | 2006-10-04 06:42:26 |
| gopher5-RankProd-checksrc.html | 6.1 KiB | 2006-10-04 06:42:27 |
| gopher5-RbcBook1-buildsrc.html | 4.8 KiB | 2006-10-04 06:42:27 |
| gopher5-RbcBook1-checksrc.html | 6.0 KiB | 2006-10-04 06:42:27 |
| gopher5-Rdbi-buildsrc.html | 4.0 KiB | 2006-10-04 06:42:27 |
| gopher5-Rdbi-checksrc.html | 6.3 KiB | 2006-10-04 06:42:27 |
| gopher5-RdbiPgSQL-buildsrc.html | 4.1 KiB | 2006-10-04 06:42:27 |
| gopher5-RdbiPgSQL-checksrc.html | 7.9 KiB | 2006-10-04 06:42:27 |
| gopher5-Resourcerer-buildsrc.html | 4.9 KiB | 2006-10-04 06:42:27 |
| gopher5-Resourcerer-checksrc.html | 6.2 KiB | 2006-10-04 06:42:28 |
| gopher5-Rgraphviz-buildsrc.html | 7.2 KiB | 2006-10-04 06:42:28 |
| gopher5-Rgraphviz-checksrc.html | 8.7 KiB | 2006-10-04 06:42:28 |
| gopher5-Rredland-buildsrc.html | 6.5 KiB | 2006-10-04 06:42:28 |
| gopher5-Rredland-checksrc.html | 8.0 KiB | 2006-10-04 06:42:29 |
| gopher5-Ruuid-buildsrc.html | 8.7 KiB | 2006-10-04 06:42:29 |
| gopher5-Ruuid-checksrc.html | 10.1 KiB | 2006-10-04 06:42:29 |
| gopher5-SAGElyzer-buildsrc.html | 5.7 KiB | 2006-10-04 06:42:29 |
| gopher5-SAGElyzer-checksrc.html | 7.0 KiB | 2006-10-04 06:42:29 |
| gopher5-SAGx-buildsrc.html | 7.1 KiB | 2006-10-04 06:42:30 |
| gopher5-SAGx-checksrc.html | 8.5 KiB | 2006-10-04 06:42:30 |
| gopher5-SBMLR-buildsrc.html | 3.9 KiB | 2006-10-04 06:42:30 |
| gopher5-SBMLR-checksrc.html | 6.0 KiB | 2006-10-04 06:42:30 |
| gopher5-ScISI-buildsrc.html | 8.9 KiB | 2006-10-04 06:42:30 |
| gopher5-ScISI-checksrc.html | 10.1 KiB | 2006-10-04 06:42:30 |
| gopher5-TypeInfo-buildsrc.html | 5.3 KiB | 2006-10-04 06:42:34 |
| gopher5-TypeInfo-checksrc.html | 6.9 KiB | 2006-10-04 06:42:34 |
| gopher5-aCGH-buildsrc.html | 6.6 KiB | 2006-10-04 06:42:02 |
| gopher5-aCGH-checksrc.html | 8.0 KiB | 2006-10-04 06:42:02 |
| gopher5-adSplit-buildsrc.html | 5.7 KiB | 2006-10-04 06:42:02 |
| gopher5-adSplit-checksrc.html | 7.1 KiB | 2006-10-04 06:42:02 |
| gopher5-affxparser-buildsrc.html | 4.0 KiB | 2006-10-04 06:42:02 |
| gopher5-affxparser-checksrc.html | 55.3 KiB | 2006-10-04 06:42:02 |
| gopher5-affy-buildsrc.html | 11.5 KiB | 2006-10-04 06:42:02 |
| gopher5-affy-checksrc.html | 13.2 KiB | 2006-10-04 06:42:03 |
| gopher5-affyPLM-buildsrc.html | 14.8 KiB | 2006-10-04 06:42:03 |
| gopher5-affyPLM-checksrc.html | 16.4 KiB | 2006-10-04 06:42:04 |
| gopher5-affyQCReport-buildsrc.html | 4.7 KiB | 2006-10-04 06:42:04 |
| gopher5-affyQCReport-checksrc.html | 6.0 KiB | 2006-10-04 06:42:04 |
| gopher5-affycomp-buildsrc.html | 5.9 KiB | 2006-10-04 06:42:03 |
| gopher5-affycomp-checksrc.html | 7.1 KiB | 2006-10-04 06:42:03 |
| gopher5-affycoretools-buildsrc.html | 6.8 KiB | 2006-10-04 06:42:03 |
| gopher5-affycoretools-checksrc.html | 8.2 KiB | 2006-10-04 06:42:03 |
| gopher5-affydata-buildsrc.html | 4.3 KiB | 2006-10-04 06:42:03 |
| gopher5-affydata-checksrc.html | 5.5 KiB | 2006-10-04 06:42:03 |
| gopher5-affyio-buildsrc.html | 3.9 KiB | 2006-10-04 06:42:03 |
| gopher5-affyio-checksrc.html | 8.4 KiB | 2006-10-04 06:42:03 |
| gopher5-affylmGUI-buildsrc.html | 4.9 KiB | 2006-10-04 06:42:03 |
| gopher5-affylmGUI-checksrc.html | 6.1 KiB | 2006-10-04 06:42:03 |
| gopher5-affypdnn-buildsrc.html | 4.0 KiB | 2006-10-04 06:42:03 |
| gopher5-affypdnn-checksrc.html | 6.4 KiB | 2006-10-04 06:42:03 |
| gopher5-altcdfenvs-buildsrc.html | 5.9 KiB | 2006-10-04 06:42:04 |
| gopher5-altcdfenvs-checksrc.html | 7.1 KiB | 2006-10-04 06:42:04 |
| gopher5-annaffy-buildsrc.html | 7.6 KiB | 2006-10-04 06:42:04 |
| gopher5-annaffy-checksrc.html | 9.0 KiB | 2006-10-04 06:42:04 |
| gopher5-annotate-buildsrc.html | 8.1 KiB | 2006-10-04 06:42:04 |
| gopher5-annotate-checksrc.html | 9.4 KiB | 2006-10-04 06:42:04 |
| gopher5-apComplex-buildsrc.html | 5.5 KiB | 2006-10-04 06:42:04 |
| gopher5-apComplex-checksrc.html | 6.7 KiB | 2006-10-04 06:42:04 |
| gopher5-applera-buildsrc.html | 5.4 KiB | 2006-10-04 06:42:05 |
| gopher5-applera-checksrc.html | 6.6 KiB | 2006-10-04 06:42:05 |
| gopher5-aroma.light-buildsrc.html | 4.0 KiB | 2006-10-04 06:42:05 |
| gopher5-aroma.light-checksrc.html | 7.3 KiB | 2006-10-04 06:42:05 |
| gopher5-arrayMagic-buildsrc.html | 7.7 KiB | 2006-10-04 06:42:05 |
| gopher5-arrayMagic-checksrc.html | 9.0 KiB | 2006-10-04 06:42:05 |
| gopher5-arrayQCplot-buildsrc.html | 4.1 KiB | 2006-10-04 06:42:05 |
| gopher5-arrayQCplot-checksrc.html | 4.2 KiB | 2006-10-04 06:42:05 |
| gopher5-arrayQuality-buildsrc.html | 4.1 KiB | 2006-10-04 06:42:05 |
| gopher5-arrayQuality-checksrc.html | 7.8 KiB | 2006-10-04 06:42:06 |
| gopher5-beadarray-buildsrc.html | 4.0 KiB | 2006-10-04 06:42:06 |
| gopher5-beadarray-checksrc.html | 10.3 KiB | 2006-10-04 06:42:06 |
| gopher5-beadarraySNP-buildsrc.html | 6.3 KiB | 2006-10-04 06:42:06 |
| gopher5-beadarraySNP-checksrc.html | 7.7 KiB | 2006-10-04 06:42:06 |
| gopher5-bim-buildsrc.html | 12.3 KiB | 2006-10-04 06:42:06 |
| gopher5-bim-checksrc.html | 13.5 KiB | 2006-10-04 06:42:07 |
| gopher5-bioDist-buildsrc.html | 4.0 KiB | 2006-10-04 06:42:07 |
| gopher5-bioDist-checksrc.html | 6.1 KiB | 2006-10-04 06:42:07 |
| gopher5-biocViews-buildsrc.html | 5.8 KiB | 2006-10-04 06:42:07 |
| gopher5-biocViews-checksrc.html | 7.1 KiB | 2006-10-04 06:42:07 |
| gopher5-biomaRt-buildsrc.html | 5.9 KiB | 2006-10-04 06:42:07 |
| gopher5-biomaRt-checksrc.html | 7.2 KiB | 2006-10-04 06:42:07 |
| gopher5-bridge-buildsrc.html | 8.7 KiB | 2006-10-04 06:42:08 |
| gopher5-bridge-checksrc.html | 10.1 KiB | 2006-10-04 06:42:08 |
| gopher5-cellHTS-buildsrc.html | 6.2 KiB | 2006-10-04 06:42:08 |
| gopher5-cellHTS-checksrc.html | 7.5 KiB | 2006-10-04 06:42:08 |
| gopher5-cghMCR-buildsrc.html | 5.3 KiB | 2006-10-04 06:42:08 |
| gopher5-cghMCR-checksrc.html | 6.6 KiB | 2006-10-04 06:42:08 |
| gopher5-clusterStab-buildsrc.html | 5.3 KiB | 2006-10-04 06:42:09 |
| gopher5-clusterStab-checksrc.html | 6.6 KiB | 2006-10-04 06:42:09 |
| gopher5-codelink-buildsrc.html | 6.5 KiB | 2006-10-04 06:42:09 |
| gopher5-codelink-checksrc.html | 7.8 KiB | 2006-10-04 06:42:09 |
| gopher5-convert-buildsrc.html | 4.3 KiB | 2006-10-04 06:42:09 |
| gopher5-convert-checksrc.html | 5.5 KiB | 2006-10-04 06:42:09 |
| gopher5-copa-buildsrc.html | 5.3 KiB | 2006-10-04 06:42:09 |
| gopher5-copa-checksrc.html | 6.7 KiB | 2006-10-04 06:42:09 |
| gopher5-ctc-buildsrc.html | 4.7 KiB | 2006-10-04 06:42:09 |
| gopher5-ctc-checksrc.html | 6.0 KiB | 2006-10-04 06:42:10 |
| gopher5-daMA-buildsrc.html | 3.9 KiB | 2006-10-04 06:42:10 |
| gopher5-daMA-checksrc.html | 6.0 KiB | 2006-10-04 06:42:10 |
| gopher5-diffGeneAnalysis-buildsrc.html | 5.0 KiB | 2006-10-04 06:42:10 |
| gopher5-diffGeneAnalysis-checksrc.html | 6.2 KiB | 2006-10-04 06:42:10 |
| gopher5-ecolitk-buildsrc.html | 5.0 KiB | 2006-10-04 06:42:11 |
| gopher5-ecolitk-checksrc.html | 6.2 KiB | 2006-10-04 06:42:11 |
| gopher5-edd-buildsrc.html | 5.1 KiB | 2006-10-04 06:42:11 |
| gopher5-edd-checksrc.html | 6.4 KiB | 2006-10-04 06:42:11 |
| gopher5-factDesign-buildsrc.html | 4.7 KiB | 2006-10-04 06:42:11 |
| gopher5-factDesign-checksrc.html | 5.9 KiB | 2006-10-04 06:42:11 |
| gopher5-fdrame-buildsrc.html | 4.9 KiB | 2006-10-04 06:42:11 |
| gopher5-fdrame-checksrc.html | 6.1 KiB | 2006-10-04 06:42:11 |
| gopher5-gaggle-buildsrc.html | 5.0 KiB | 2006-10-04 06:42:11 |
| gopher5-gaggle-checksrc.html | 6.4 KiB | 2006-10-04 06:42:11 |
| gopher5-gcrma-buildsrc.html | 6.0 KiB | 2006-10-04 06:42:11 |
| gopher5-gcrma-checksrc.html | 7.4 KiB | 2006-10-04 06:42:12 |
| gopher5-genArise-buildsrc.html | 7.8 KiB | 2006-10-04 06:42:12 |
| gopher5-genArise-checksrc.html | 9.0 KiB | 2006-10-04 06:42:12 |
| gopher5-geneRecommender-buildsrc.html | 4.6 KiB | 2006-10-04 06:42:12 |
| gopher5-geneRecommender-checksrc.html | 5.9 KiB | 2006-10-04 06:42:12 |
| gopher5-genefilter-buildsrc.html | 7.6 KiB | 2006-10-04 06:42:12 |
| gopher5-genefilter-checksrc.html | 9.0 KiB | 2006-10-04 06:42:12 |
| gopher5-geneplotter-buildsrc.html | 5.9 KiB | 2006-10-04 06:42:12 |
| gopher5-geneplotter-checksrc.html | 7.3 KiB | 2006-10-04 06:42:12 |
| gopher5-gff3Plotter-buildsrc.html | 4.7 KiB | 2006-10-04 06:42:13 |
| gopher5-gff3Plotter-checksrc.html | 6.0 KiB | 2006-10-04 06:42:13 |
| gopher5-globaltest-buildsrc.html | 6.2 KiB | 2006-10-04 06:42:14 |
| gopher5-globaltest-checksrc.html | 7.5 KiB | 2006-10-04 06:42:14 |
| gopher5-goTools-buildsrc.html | 4.9 KiB | 2006-10-04 06:42:14 |
| gopher5-goTools-checksrc.html | 6.4 KiB | 2006-10-04 06:42:14 |
| gopher5-gpls-buildsrc.html | 4.7 KiB | 2006-10-04 06:42:14 |
| gopher5-gpls-checksrc.html | 6.0 KiB | 2006-10-04 06:42:14 |
| gopher5-graph-buildsrc.html | 8.0 KiB | 2006-10-04 06:42:14 |
| gopher5-graph-checksrc.html | 9.4 KiB | 2006-10-04 06:42:14 |
| gopher5-hexbin-buildsrc.html | 7.0 KiB | 2006-10-04 06:42:15 |
| gopher5-hexbin-checksrc.html | 9.5 KiB | 2006-10-04 06:42:15 |
| gopher5-hopach-buildsrc.html | 5.5 KiB | 2006-10-04 06:42:15 |
| gopher5-hopach-checksrc.html | 6.7 KiB | 2006-10-04 06:42:15 |
| gopher5-hypergraph-buildsrc.html | 4.0 KiB | 2006-10-04 06:42:16 |
| gopher5-hypergraph-checksrc.html | 6.2 KiB | 2006-10-04 06:42:16 |
| gopher5-iSNetwork-buildsrc.html | 8.2 KiB | 2006-10-04 06:42:16 |
| gopher5-iSNetwork-checksrc.html | 9.5 KiB | 2006-10-04 06:42:16 |
| gopher5-iSPlot-buildsrc.html | 6.3 KiB | 2006-10-04 06:42:16 |
| gopher5-iSPlot-checksrc.html | 7.7 KiB | 2006-10-04 06:42:17 |
| gopher5-idiogram-buildsrc.html | 4.7 KiB | 2006-10-04 06:42:16 |
| gopher5-idiogram-checksrc.html | 6.0 KiB | 2006-10-04 06:42:16 |
| gopher5-impute-buildsrc.html | 4.0 KiB | 2006-10-04 06:42:16 |
| gopher5-impute-checksrc.html | 6.1 KiB | 2006-10-04 06:42:16 |
| gopher5-lapmix-buildsrc.html | 4.5 KiB | 2006-10-04 06:42:17 |
| gopher5-lapmix-checksrc.html | 5.7 KiB | 2006-10-04 06:42:17 |
| gopher5-limma-buildsrc.html | 12.1 KiB | 2006-10-04 06:42:17 |
| gopher5-limma-checksrc.html | 60.8 KiB | 2006-10-04 06:42:17 |
| gopher5-limmaGUI-buildsrc.html | 4.5 KiB | 2006-10-04 06:42:17 |
| gopher5-limmaGUI-checksrc.html | 5.7 KiB | 2006-10-04 06:42:17 |
| gopher5-logicFS-buildsrc.html | 4.9 KiB | 2006-10-04 06:42:17 |
| gopher5-logicFS-checksrc.html | 6.0 KiB | 2006-10-04 06:42:18 |
| gopher5-maCorrPlot-buildsrc.html | 4.5 KiB | 2006-10-04 06:42:18 |
| gopher5-maCorrPlot-checksrc.html | 5.8 KiB | 2006-10-04 06:42:18 |
| gopher5-maDB-buildsrc.html | 3.9 KiB | 2006-10-04 06:42:18 |
| gopher5-maDB-checksrc.html | 9.2 KiB | 2006-10-04 06:42:19 |
| gopher5-maSigPro-buildsrc.html | 6.1 KiB | 2006-10-04 06:42:19 |
| gopher5-maSigPro-checksrc.html | 7.3 KiB | 2006-10-04 06:42:20 |
| gopher5-maanova-buildsrc.html | 6.7 KiB | 2006-10-04 06:42:18 |
| gopher5-maanova-checksrc.html | 8.0 KiB | 2006-10-04 06:42:18 |
| gopher5-macat-buildsrc.html | 5.9 KiB | 2006-10-04 06:42:18 |
| gopher5-macat-checksrc.html | 7.1 KiB | 2006-10-04 06:42:18 |
| gopher5-made4-buildsrc.html | 6.5 KiB | 2006-10-04 06:42:19 |
| gopher5-made4-checksrc.html | 7.7 KiB | 2006-10-04 06:42:19 |
| gopher5-makecdfenv-buildsrc.html | 5.7 KiB | 2006-10-04 06:42:19 |
| gopher5-makecdfenv-checksrc.html | 7.1 KiB | 2006-10-04 06:42:19 |
| gopher5-marray-buildsrc.html | 11.6 KiB | 2006-10-04 06:42:19 |
| gopher5-marray-checksrc.html | 13.2 KiB | 2006-10-04 06:42:19 |
| gopher5-matchprobes-buildsrc.html | 5.8 KiB | 2006-10-04 06:42:20 |
| gopher5-matchprobes-checksrc.html | 7.2 KiB | 2006-10-04 06:42:20 |
| gopher5-metaArray-buildsrc.html | 6.4 KiB | 2006-10-04 06:42:20 |
| gopher5-metaArray-checksrc.html | 7.7 KiB | 2006-10-04 06:42:20 |
| gopher5-mmgmos-buildsrc.html | 85.1 KiB | 2006-10-04 06:42:21 |
| gopher5-mmgmos-checksrc.html | 86.4 KiB | 2006-10-04 06:42:21 |
| gopher5-multtest-buildsrc.html | 4.1 KiB | 2006-10-04 06:42:21 |
| gopher5-multtest-checksrc.html | 9.2 KiB | 2006-10-04 06:42:21 |
| gopher5-nem-buildsrc.html | 5.0 KiB | 2006-10-04 06:42:22 |
| gopher5-nem-checksrc.html | 6.3 KiB | 2006-10-04 06:42:22 |
| gopher5-nnNorm-buildsrc.html | 4.5 KiB | 2006-10-04 06:42:22 |
| gopher5-nnNorm-checksrc.html | 5.6 KiB | 2006-10-04 06:42:22 |
| gopher5-nudge-buildsrc.html | 4.9 KiB | 2006-10-04 06:42:22 |
| gopher5-nudge-checksrc.html | 6.2 KiB | 2006-10-04 06:42:22 |
| gopher5-ontoTools-buildsrc.html | 7.4 KiB | 2006-10-04 06:42:23 |
| gopher5-ontoTools-checksrc.html | 8.6 KiB | 2006-10-04 06:42:23 |
| gopher5-pairseqsim-buildsrc.html | 5.7 KiB | 2006-10-04 06:42:23 |
| gopher5-pairseqsim-checksrc.html | 6.9 KiB | 2006-10-04 06:42:23 |
| gopher5-pamr-buildsrc.html | 4.0 KiB | 2006-10-04 06:42:23 |
| gopher5-pamr-checksrc.html | 7.8 KiB | 2006-10-04 06:42:23 |
| gopher5-panp-buildsrc.html | 4.5 KiB | 2006-10-04 06:42:23 |
| gopher5-panp-checksrc.html | 5.7 KiB | 2006-10-04 06:42:23 |
| gopher5-pathRender-buildsrc.html | 4.0 KiB | 2006-10-04 06:42:23 |
| gopher5-pathRender-checksrc.html | 6.1 KiB | 2006-10-04 06:42:24 |
| gopher5-pcaMethods-buildsrc.html | 5.7 KiB | 2006-10-04 06:42:24 |
| gopher5-pcaMethods-checksrc.html | 7.0 KiB | 2006-10-04 06:42:24 |
| gopher5-pcot2-buildsrc.html | 4.5 KiB | 2006-10-04 06:42:24 |
| gopher5-pcot2-checksrc.html | 5.8 KiB | 2006-10-04 06:42:24 |
| gopher5-pdmclass-buildsrc.html | 4.7 KiB | 2006-10-04 06:42:24 |
| gopher5-pdmclass-checksrc.html | 6.1 KiB | 2006-10-04 06:42:24 |
| gopher5-pgUtils-buildsrc.html | 3.9 KiB | 2006-10-04 06:42:24 |
| gopher5-pgUtils-checksrc.html | 7.0 KiB | 2006-10-04 06:42:24 |
| gopher5-pickgene-buildsrc.html | 4.8 KiB | 2006-10-04 06:42:24 |
| gopher5-pickgene-checksrc.html | 6.0 KiB | 2006-10-04 06:42:25 |
| gopher5-pkgDepTools-buildsrc.html | 4.8 KiB | 2006-10-04 06:42:25 |
| gopher5-pkgDepTools-checksrc.html | 6.2 KiB | 2006-10-04 06:42:25 |
| gopher5-plgem-buildsrc.html | 4.5 KiB | 2006-10-04 06:42:25 |
| gopher5-plgem-checksrc.html | 5.7 KiB | 2006-10-04 06:42:25 |
| gopher5-plier-buildsrc.html | 3.9 KiB | 2006-10-04 06:42:25 |
| gopher5-plier-checksrc.html | 6.8 KiB | 2006-10-04 06:42:25 |
| gopher5-ppiStats-buildsrc.html | 4.7 KiB | 2006-10-04 06:42:25 |
| gopher5-ppiStats-checksrc.html | 6.0 KiB | 2006-10-04 06:42:25 |
| gopher5-prada-buildsrc.html | 7.3 KiB | 2006-10-04 06:42:25 |
| gopher5-prada-checksrc.html | 8.7 KiB | 2006-10-04 06:42:26 |
| gopher5-quantsmooth-buildsrc.html | 5.2 KiB | 2006-10-04 06:42:26 |
| gopher5-quantsmooth-checksrc.html | 6.6 KiB | 2006-10-04 06:42:26 |
| gopher5-qvalue-buildsrc.html | 4.7 KiB | 2006-10-04 06:42:26 |
| gopher5-qvalue-checksrc.html | 5.9 KiB | 2006-10-04 06:42:26 |
| gopher5-rama-buildsrc.html | 4.0 KiB | 2006-10-04 06:42:26 |
| gopher5-rama-checksrc.html | 11.3 KiB | 2006-10-04 06:42:26 |
| gopher5-reb-buildsrc.html | 6.4 KiB | 2006-10-04 06:42:27 |
| gopher5-reb-checksrc.html | 7.8 KiB | 2006-10-04 06:42:27 |
| gopher5-rflowcyt-buildsrc.html | 9.6 KiB | 2006-10-04 06:42:28 |
| gopher5-rflowcyt-checksrc.html | 11.7 KiB | 2006-10-04 06:42:28 |
| gopher5-safe-buildsrc.html | 4.5 KiB | 2006-10-04 06:42:29 |
| gopher5-safe-checksrc.html | 5.7 KiB | 2006-10-04 06:42:29 |
| gopher5-sagenhaft-buildsrc.html | 4.9 KiB | 2006-10-04 06:42:29 |
| gopher5-sagenhaft-checksrc.html | 6.1 KiB | 2006-10-04 06:42:29 |
| gopher5-sigPathway-buildsrc.html | 6.7 KiB | 2006-10-04 06:42:31 |
| gopher5-sigPathway-checksrc.html | 8.2 KiB | 2006-10-04 06:42:31 |
| gopher5-siggenes-buildsrc.html | 6.2 KiB | 2006-10-04 06:42:30 |
| gopher5-siggenes-checksrc.html | 7.5 KiB | 2006-10-04 06:42:30 |
| gopher5-simpleaffy-buildsrc.html | 8.3 KiB | 2006-10-04 06:42:31 |
| gopher5-simpleaffy-checksrc.html | 9.9 KiB | 2006-10-04 06:42:31 |
| gopher5-simulatorAPMS-buildsrc.html | 6.1 KiB | 2006-10-04 06:42:31 |
| gopher5-simulatorAPMS-checksrc.html | 7.4 KiB | 2006-10-04 06:42:31 |
| gopher5-sizepower-buildsrc.html | 4.7 KiB | 2006-10-04 06:42:31 |
| gopher5-sizepower-checksrc.html | 5.9 KiB | 2006-10-04 06:42:31 |
| gopher5-snapCGH-buildsrc.html | 8.6 KiB | 2006-10-04 06:42:32 |
| gopher5-snapCGH-checksrc.html | 9.9 KiB | 2006-10-04 06:42:32 |
| gopher5-spikeLI-buildsrc.html | 5.0 KiB | 2006-10-04 06:42:32 |
| gopher5-spikeLI-checksrc.html | 6.3 KiB | 2006-10-04 06:42:32 |
| gopher5-splicegear-buildsrc.html | 6.2 KiB | 2006-10-04 06:42:32 |
| gopher5-splicegear-checksrc.html | 7.4 KiB | 2006-10-04 06:42:32 |
| gopher5-splots-buildsrc.html | 4.3 KiB | 2006-10-04 06:42:32 |
| gopher5-splots-checksrc.html | 5.7 KiB | 2006-10-04 06:42:32 |
| gopher5-spotSegmentation-buildsrc.html | 4.2 KiB | 2006-10-04 06:42:32 |
| gopher5-spotSegmentation-checksrc.html | 6.2 KiB | 2006-10-04 06:42:32 |
| gopher5-sscore-buildsrc.html | 5.3 KiB | 2006-10-04 06:42:33 |
| gopher5-sscore-checksrc.html | 6.4 KiB | 2006-10-04 06:42:33 |
| gopher5-ssize-buildsrc.html | 4.3 KiB | 2006-10-04 06:42:33 |
| gopher5-ssize-checksrc.html | 5.5 KiB | 2006-10-04 06:42:33 |
| gopher5-stam-buildsrc.html | 6.4 KiB | 2006-10-04 06:42:33 |
| gopher5-stam-checksrc.html | 7.6 KiB | 2006-10-04 06:42:33 |
| gopher5-stepNorm-buildsrc.html | 3.9 KiB | 2006-10-04 06:42:33 |
| gopher5-stepNorm-checksrc.html | 6.1 KiB | 2006-10-04 06:42:33 |
| gopher5-tilingArray-buildsrc.html | 6.9 KiB | 2006-10-04 06:42:33 |
| gopher5-tilingArray-checksrc.html | 8.4 KiB | 2006-10-04 06:42:33 |
| gopher5-timecourse-buildsrc.html | 5.2 KiB | 2006-10-04 06:42:34 |
| gopher5-timecourse-checksrc.html | 6.4 KiB | 2006-10-04 06:42:34 |
| gopher5-tkWidgets-buildsrc.html | 6.7 KiB | 2006-10-04 06:42:34 |
| gopher5-tkWidgets-checksrc.html | 7.9 KiB | 2006-10-04 06:42:34 |
| gopher5-twilight-buildsrc.html | 6.2 KiB | 2006-10-04 06:42:34 |
| gopher5-twilight-checksrc.html | 7.5 KiB | 2006-10-04 06:42:34 |
| gopher5-vsn-buildsrc.html | 4.9 KiB | 2006-10-04 06:42:34 |
| gopher5-vsn-checksrc.html | 6.3 KiB | 2006-10-04 06:42:34 |
| gopher5-weaver-buildsrc.html | 4.4 KiB | 2006-10-04 06:42:34 |
| gopher5-weaver-checksrc.html | 5.7 KiB | 2006-10-04 06:42:34 |
| gopher5-webbioc-buildsrc.html | 5.0 KiB | 2006-10-04 06:42:35 |
| gopher5-webbioc-checksrc.html | 6.2 KiB | 2006-10-04 06:42:35 |
| gopher5-widgetInvoke-buildsrc.html | 4.8 KiB | 2006-10-04 06:42:35 |
| gopher5-widgetInvoke-checksrc.html | 6.1 KiB | 2006-10-04 06:42:35 |
| gopher5-widgetTools-buildsrc.html | 5.1 KiB | 2006-10-04 06:42:35 |
| gopher5-widgetTools-checksrc.html | 6.4 KiB | 2006-10-04 06:42:35 |
| gopher5-xcms-buildsrc.html | 9.2 KiB | 2006-10-04 06:42:35 |
| gopher5-xcms-checksrc.html | 11.7 KiB | 2006-10-04 06:42:35 |
| index.html | 533.1 KiB | 2006-10-04 06:45:25 |
| lemming-ABarray-buildbin.html | 6.9 KiB | 2006-10-04 06:44:20 |
| lemming-ABarray-buildsrc.html | 7.1 KiB | 2006-10-04 06:44:20 |
| lemming-ABarray-checksrc.html | 8.4 KiB | 2006-10-04 06:44:20 |
| lemming-AnnBuilder-buildbin.html | 9.3 KiB | 2006-10-04 06:44:25 |
| lemming-AnnBuilder-buildsrc.html | 9.5 KiB | 2006-10-04 06:44:25 |
| lemming-AnnBuilder-checksrc.html | 10.9 KiB | 2006-10-04 06:44:25 |
| lemming-BSgenome-buildbin.html | 4.7 KiB | 2006-10-04 06:44:31 |
| lemming-BSgenome-buildsrc.html | 3.9 KiB | 2006-10-04 06:44:31 |
| lemming-BSgenome-checksrc.html | 6.2 KiB | 2006-10-04 06:44:31 |
| lemming-BeadExplorer-buildbin.html | 7.7 KiB | 2006-10-04 06:44:28 |
| lemming-BeadExplorer-buildsrc.html | 4.0 KiB | 2006-10-04 06:44:28 |
| lemming-BeadExplorer-checksrc.html | 9.2 KiB | 2006-10-04 06:44:28 |
| lemming-BioMVCClass-buildbin.html | 5.0 KiB | 2006-10-04 06:44:30 |
| lemming-BioMVCClass-buildsrc.html | 5.3 KiB | 2006-10-04 06:44:30 |
| lemming-BioMVCClass-checksrc.html | 6.7 KiB | 2006-10-04 06:44:30 |
| lemming-Biobase-buildbin.html | 10.7 KiB | 2006-10-04 06:44:29 |
| lemming-Biobase-buildsrc.html | 11.1 KiB | 2006-10-04 06:44:28 |
| lemming-Biobase-checksrc.html | 12.4 KiB | 2006-10-04 06:44:29 |
| lemming-Biostrings-buildbin.html | 8.5 KiB | 2006-10-04 06:44:30 |
| lemming-Biostrings-buildsrc.html | 8.7 KiB | 2006-10-04 06:44:30 |
| lemming-Biostrings-checksrc.html | 10.2 KiB | 2006-10-04 06:44:30 |
| lemming-Category-buildbin.html | 6.5 KiB | 2006-10-04 06:44:31 |
| lemming-Category-buildsrc.html | 6.7 KiB | 2006-10-04 06:44:31 |
| lemming-Category-checksrc.html | 8.4 KiB | 2006-10-04 06:44:31 |
| lemming-ChromoViz-buildbin.html | 6.1 KiB | 2006-10-04 06:44:32 |
| lemming-ChromoViz-buildsrc.html | 4.1 KiB | 2006-10-04 06:44:32 |
| lemming-ChromoViz-checksrc.html | 7.6 KiB | 2006-10-04 06:44:32 |
| lemming-CoCiteStats-buildbin.html | 5.1 KiB | 2006-10-04 06:44:32 |
| lemming-CoCiteStats-buildsrc.html | 4.0 KiB | 2006-10-04 06:44:32 |
| lemming-CoCiteStats-checksrc.html | 6.7 KiB | 2006-10-04 06:44:32 |
| lemming-DEDS-buildbin.html | 7.7 KiB | 2006-10-04 06:44:34 |
| lemming-DEDS-buildsrc.html | 7.9 KiB | 2006-10-04 06:44:34 |
| lemming-DEDS-checksrc.html | 9.3 KiB | 2006-10-04 06:44:34 |
| lemming-DNAcopy-buildbin.html | 6.7 KiB | 2006-10-04 06:44:35 |
| lemming-DNAcopy-buildsrc.html | 7.1 KiB | 2006-10-04 06:44:34 |
| lemming-DNAcopy-checksrc.html | 8.4 KiB | 2006-10-04 06:44:35 |
| lemming-DynDoc-buildbin.html | 5.5 KiB | 2006-10-04 06:44:35 |
| lemming-DynDoc-buildsrc.html | 3.9 KiB | 2006-10-04 06:44:35 |
| lemming-DynDoc-checksrc.html | 7.0 KiB | 2006-10-04 06:44:35 |
| lemming-EBImage-buildbin.html | 6.1 KiB | 2006-10-04 06:44:36 |
| lemming-EBImage-buildsrc.html | 5.2 KiB | 2006-10-04 06:44:35 |
| lemming-EBImage-checksrc.html | 6.1 KiB | 2006-10-04 06:44:35 |
| lemming-EBarrays-buildbin.html | 6.3 KiB | 2006-10-04 06:44:35 |
| lemming-EBarrays-buildsrc.html | 6.7 KiB | 2006-10-04 06:44:35 |
| lemming-EBarrays-checksrc.html | 8.2 KiB | 2006-10-04 06:44:35 |
| lemming-GEOquery-buildbin.html | 5.3 KiB | 2006-10-04 06:44:40 |
| lemming-GEOquery-buildsrc.html | 5.6 KiB | 2006-10-04 06:44:39 |
| lemming-GEOquery-checksrc.html | 7.0 KiB | 2006-10-04 06:44:40 |
| lemming-GGtools-buildbin.html | 6.2 KiB | 2006-10-04 06:44:40 |
| lemming-GGtools-buildsrc.html | 6.6 KiB | 2006-10-04 06:44:40 |
| lemming-GGtools-checksrc.html | 8.4 KiB | 2006-10-04 06:44:40 |
| lemming-GLAD-buildbin.html | 6.9 KiB | 2006-10-04 06:44:41 |
| lemming-GLAD-buildsrc.html | 7.3 KiB | 2006-10-04 06:44:40 |
| lemming-GLAD-checksrc.html | 8.5 KiB | 2006-10-04 06:44:41 |
| lemming-GOstats-buildbin.html | 6.6 KiB | 2006-10-04 06:44:42 |
| lemming-GOstats-buildsrc.html | 6.8 KiB | 2006-10-04 06:44:42 |
| lemming-GOstats-checksrc.html | 8.6 KiB | 2006-10-04 06:44:42 |
| lemming-GeneMeta-buildbin.html | 5.4 KiB | 2006-10-04 06:44:38 |
| lemming-GeneMeta-buildsrc.html | 5.6 KiB | 2006-10-04 06:44:38 |
| lemming-GeneMeta-checksrc.html | 7.0 KiB | 2006-10-04 06:44:38 |
| lemming-GeneR-buildbin.html | 11.7 KiB | 2006-10-04 06:44:39 |
| lemming-GeneR-buildsrc.html | 12.1 KiB | 2006-10-04 06:44:38 |
| lemming-GeneR-checksrc.html | 13.5 KiB | 2006-10-04 06:44:39 |
| lemming-GeneSpring-buildbin.html | 5.3 KiB | 2006-10-04 06:44:39 |
| lemming-GeneSpring-buildsrc.html | 5.6 KiB | 2006-10-04 06:44:39 |
| lemming-GeneSpring-checksrc.html | 6.8 KiB | 2006-10-04 06:44:39 |
| lemming-GeneTS-buildbin.html | 4.0 KiB | 2006-10-04 06:44:39 |
| lemming-GeneTS-buildsrc.html | 3.9 KiB | 2006-10-04 06:44:39 |
| lemming-GeneTS-checksrc.html | 5.2 KiB | 2006-10-04 06:44:39 |
| lemming-GeneTraffic-buildbin.html | 5.6 KiB | 2006-10-04 06:44:39 |
| lemming-GeneTraffic-buildsrc.html | 4.1 KiB | 2006-10-04 06:44:39 |
| lemming-GeneTraffic-checksrc.html | 7.1 KiB | 2006-10-04 06:44:39 |
| lemming-GlobalAncova-buildbin.html | 5.5 KiB | 2006-10-04 06:44:41 |
| lemming-GlobalAncova-buildsrc.html | 5.8 KiB | 2006-10-04 06:44:41 |
| lemming-GlobalAncova-checksrc.html | 7.1 KiB | 2006-10-04 06:44:41 |
| lemming-GraphAT-buildbin.html | 5.3 KiB | 2006-10-04 06:44:43 |
| lemming-GraphAT-buildsrc.html | 3.9 KiB | 2006-10-04 06:44:43 |
| lemming-GraphAT-checksrc.html | 6.8 KiB | 2006-10-04 06:44:43 |
| lemming-HEM-buildbin.html | 7.3 KiB | 2006-10-04 06:44:44 |
| lemming-HEM-buildsrc.html | 7.6 KiB | 2006-10-04 06:44:44 |
| lemming-HEM-checksrc.html | 8.8 KiB | 2006-10-04 06:44:44 |
| lemming-Harshlight-buildbin.html | 5.6 KiB | 2006-10-04 06:44:43 |
| lemming-Harshlight-buildsrc.html | 5.9 KiB | 2006-10-04 06:44:43 |
| lemming-Harshlight-checksrc.html | 7.3 KiB | 2006-10-04 06:44:43 |
| lemming-Heatplus-buildbin.html | 4.8 KiB | 2006-10-04 06:44:43 |
| lemming-Heatplus-buildsrc.html | 5.1 KiB | 2006-10-04 06:44:43 |
| lemming-Heatplus-checksrc.html | 6.4 KiB | 2006-10-04 06:44:43 |
| lemming-Icens-buildbin.html | 6.1 KiB | 2006-10-04 06:44:45 |
| lemming-Icens-buildsrc.html | 4.0 KiB | 2006-10-04 06:44:44 |
| lemming-Icens-checksrc.html | 8.0 KiB | 2006-10-04 06:44:45 |
| lemming-KEGGSOAP-buildbin.html | 5.3 KiB | 2006-10-04 06:44:46 |
| lemming-KEGGSOAP-buildsrc.html | 3.9 KiB | 2006-10-04 06:44:46 |
| lemming-KEGGSOAP-checksrc.html | 6.9 KiB | 2006-10-04 06:44:46 |
| lemming-LMGene-buildbin.html | 6.4 KiB | 2006-10-04 06:44:47 |
| lemming-LMGene-buildsrc.html | 6.7 KiB | 2006-10-04 06:44:47 |
| lemming-LMGene-checksrc.html | 7.8 KiB | 2006-10-04 06:44:47 |
| lemming-LPE-buildbin.html | 5.7 KiB | 2006-10-04 06:44:48 |
| lemming-LPE-buildsrc.html | 5.9 KiB | 2006-10-04 06:44:47 |
| lemming-LPE-checksrc.html | 7.1 KiB | 2006-10-04 06:44:48 |
| lemming-MANOR-buildbin.html | 7.9 KiB | 2006-10-04 06:44:49 |
| lemming-MANOR-buildsrc.html | 8.2 KiB | 2006-10-04 06:44:49 |
| lemming-MANOR-checksrc.html | 9.6 KiB | 2006-10-04 06:44:49 |
| lemming-MCRestimate-buildbin.html | 6.3 KiB | 2006-10-04 06:44:51 |
| lemming-MCRestimate-buildsrc.html | 6.5 KiB | 2006-10-04 06:44:51 |
| lemming-MCRestimate-checksrc.html | 7.8 KiB | 2006-10-04 06:44:51 |
| lemming-MLInterfaces-buildbin.html | 7.6 KiB | 2006-10-04 06:44:52 |
| lemming-MLInterfaces-buildsrc.html | 7.9 KiB | 2006-10-04 06:44:52 |
| lemming-MLInterfaces-checksrc.html | 9.2 KiB | 2006-10-04 06:44:52 |
| lemming-MVCClass-buildbin.html | 6.2 KiB | 2006-10-04 06:44:54 |
| lemming-MVCClass-buildsrc.html | 6.4 KiB | 2006-10-04 06:44:53 |
| lemming-MVCClass-checksrc.html | 7.8 KiB | 2006-10-04 06:44:54 |
| lemming-MantelCorr-buildbin.html | 5.1 KiB | 2006-10-04 06:44:50 |
| lemming-MantelCorr-buildsrc.html | 5.3 KiB | 2006-10-04 06:44:50 |
| lemming-MantelCorr-checksrc.html | 6.6 KiB | 2006-10-04 06:44:50 |
| lemming-MeasurementError.cor-buildbin.html | 5.0 KiB | 2006-10-04 06:44:51 |
| lemming-MeasurementError.cor-buildsrc.html | 5.6 KiB | 2006-10-04 06:44:51 |
| lemming-MeasurementError.cor-checksrc.html | 6.7 KiB | 2006-10-04 06:44:51 |
| lemming-MergeMaid-buildbin.html | 5.6 KiB | 2006-10-04 06:44:52 |
| lemming-MergeMaid-buildsrc.html | 6.0 KiB | 2006-10-04 06:44:51 |
| lemming-MergeMaid-checksrc.html | 7.2 KiB | 2006-10-04 06:44:52 |
| lemming-Mfuzz-buildbin.html | 5.8 KiB | 2006-10-04 06:44:52 |
| lemming-Mfuzz-buildsrc.html | 6.1 KiB | 2006-10-04 06:44:52 |
| lemming-Mfuzz-checksrc.html | 7.4 KiB | 2006-10-04 06:44:52 |
| lemming-NodeInfo.html | 3.9 KiB | 2006-10-04 06:45:14 |
| lemming-OCplus-buildbin.html | 6.1 KiB | 2006-10-04 06:44:55 |
| lemming-OCplus-buildsrc.html | 6.4 KiB | 2006-10-04 06:44:55 |
| lemming-OCplus-checksrc.html | 6.1 KiB | 2006-10-04 06:44:55 |
| lemming-OLIN-buildbin.html | 7.6 KiB | 2006-10-04 06:44:55 |
| lemming-OLIN-buildsrc.html | 4.0 KiB | 2006-10-04 06:44:55 |
| lemming-OLIN-checksrc.html | 9.0 KiB | 2006-10-04 06:44:55 |
| lemming-OLINgui-buildbin.html | 5.0 KiB | 2006-10-04 06:44:55 |
| lemming-OLINgui-buildsrc.html | 5.4 KiB | 2006-10-04 06:44:55 |
| lemming-OLINgui-checksrc.html | 6.6 KiB | 2006-10-04 06:44:55 |
| lemming-OrderedList-buildbin.html | 6.0 KiB | 2006-10-04 06:44:56 |
| lemming-OrderedList-buildsrc.html | 6.2 KiB | 2006-10-04 06:44:56 |
| lemming-OrderedList-checksrc.html | 7.5 KiB | 2006-10-04 06:44:56 |
| lemming-PROcess-buildbin.html | 6.0 KiB | 2006-10-04 06:45:00 |
| lemming-PROcess-buildsrc.html | 6.4 KiB | 2006-10-04 06:45:00 |
| lemming-PROcess-checksrc.html | 7.6 KiB | 2006-10-04 06:45:00 |
| lemming-R-instpkgs.html | 14.5 KiB | 2006-10-04 06:45:14 |
| lemming-RBGL-buildbin.html | 67.1 KiB | 2006-10-04 06:45:02 |
| lemming-RBGL-buildsrc.html | 67.3 KiB | 2006-10-04 06:45:02 |
| lemming-RBGL-checksrc.html | 68.9 KiB | 2006-10-04 06:45:02 |
| lemming-RMAGEML-buildbin.html | 6.0 KiB | 2006-10-04 06:45:04 |
| lemming-RMAGEML-buildsrc.html | 15.4 KiB | 2006-10-04 06:45:04 |
| lemming-RMAGEML-checksrc.html | 6.0 KiB | 2006-10-04 06:45:04 |
| lemming-RMAPPER-buildbin.html | 4.6 KiB | 2006-10-04 06:45:04 |
| lemming-RMAPPER-buildsrc.html | 4.0 KiB | 2006-10-04 06:45:04 |
| lemming-RMAPPER-checksrc.html | 6.1 KiB | 2006-10-04 06:45:04 |
| lemming-ROC-buildbin.html | 5.0 KiB | 2006-10-04 06:45:04 |
| lemming-ROC-buildsrc.html | 5.3 KiB | 2006-10-04 06:45:04 |
| lemming-ROC-checksrc.html | 6.7 KiB | 2006-10-04 06:45:04 |
| lemming-RSNPper-buildbin.html | 5.9 KiB | 2006-10-04 06:45:05 |
| lemming-RSNPper-buildsrc.html | 4.8 KiB | 2006-10-04 06:45:05 |
| lemming-RSNPper-checksrc.html | 5.9 KiB | 2006-10-04 06:45:05 |
| lemming-RankProd-buildbin.html | 5.3 KiB | 2006-10-04 06:45:01 |
| lemming-RankProd-buildsrc.html | 5.5 KiB | 2006-10-04 06:45:01 |
| lemming-RankProd-checksrc.html | 6.8 KiB | 2006-10-04 06:45:01 |
| lemming-RbcBook1-buildbin.html | 5.1 KiB | 2006-10-04 06:45:02 |
| lemming-RbcBook1-buildsrc.html | 5.4 KiB | 2006-10-04 06:45:01 |
| lemming-RbcBook1-checksrc.html | 6.8 KiB | 2006-10-04 06:45:02 |
| lemming-Rdbi-buildbin.html | 5.5 KiB | 2006-10-04 06:45:02 |
| lemming-Rdbi-buildsrc.html | 4.0 KiB | 2006-10-04 06:45:02 |
| lemming-Rdbi-checksrc.html | 7.1 KiB | 2006-10-04 06:45:02 |
| lemming-RdbiPgSQL-buildbin.html | 11.7 KiB | 2006-10-04 06:45:03 |
| lemming-RdbiPgSQL-buildsrc.html | 4.1 KiB | 2006-10-04 06:45:02 |
| lemming-RdbiPgSQL-checksrc.html | 12.4 KiB | 2006-10-04 06:45:03 |
| lemming-Resourcerer-buildbin.html | 5.3 KiB | 2006-10-04 06:45:03 |
| lemming-Resourcerer-buildsrc.html | 5.6 KiB | 2006-10-04 06:45:03 |
| lemming-Resourcerer-checksrc.html | 6.9 KiB | 2006-10-04 06:45:03 |
| lemming-Rgraphviz-buildbin.html | 8.9 KiB | 2006-10-04 06:45:04 |
| lemming-Rgraphviz-buildsrc.html | 9.1 KiB | 2006-10-04 06:45:04 |
| lemming-Rgraphviz-checksrc.html | 10.6 KiB | 2006-10-04 06:45:04 |
| lemming-Rredland-buildbin.html | 6.0 KiB | 2006-10-04 06:45:05 |
| lemming-Rredland-buildsrc.html | 6.8 KiB | 2006-10-04 06:45:04 |
| lemming-Rredland-checksrc.html | 6.0 KiB | 2006-10-04 06:45:05 |
| lemming-Ruuid-buildbin.html | 5.6 KiB | 2006-10-04 06:45:05 |
| lemming-Ruuid-buildsrc.html | 6.1 KiB | 2006-10-04 06:45:05 |
| lemming-Ruuid-checksrc.html | 7.4 KiB | 2006-10-04 06:45:05 |
| lemming-SAGElyzer-buildbin.html | 6.2 KiB | 2006-10-04 06:45:06 |
| lemming-SAGElyzer-buildsrc.html | 6.4 KiB | 2006-10-04 06:45:05 |
| lemming-SAGElyzer-checksrc.html | 8.3 KiB | 2006-10-04 06:45:06 |
| lemming-SAGx-buildbin.html | 7.7 KiB | 2006-10-04 06:45:06 |
| lemming-SAGx-buildsrc.html | 8.1 KiB | 2006-10-04 06:45:06 |
| lemming-SAGx-checksrc.html | 9.5 KiB | 2006-10-04 06:45:06 |
| lemming-SBMLR-buildbin.html | 5.1 KiB | 2006-10-04 06:45:07 |
| lemming-SBMLR-buildsrc.html | 3.9 KiB | 2006-10-04 06:45:06 |
| lemming-SBMLR-checksrc.html | 6.5 KiB | 2006-10-04 06:45:07 |
| lemming-ScISI-buildbin.html | 9.5 KiB | 2006-10-04 06:45:07 |
| lemming-ScISI-buildsrc.html | 9.7 KiB | 2006-10-04 06:45:07 |
| lemming-ScISI-checksrc.html | 11.0 KiB | 2006-10-04 06:45:07 |
| lemming-TypeInfo-buildbin.html | 5.7 KiB | 2006-10-04 06:45:13 |
| lemming-TypeInfo-buildsrc.html | 6.0 KiB | 2006-10-04 06:45:12 |
| lemming-TypeInfo-checksrc.html | 7.6 KiB | 2006-10-04 06:45:12 |
| lemming-aCGH-buildbin.html | 7.3 KiB | 2006-10-04 06:44:21 |
| lemming-aCGH-buildsrc.html | 7.6 KiB | 2006-10-04 06:44:20 |
| lemming-aCGH-checksrc.html | 9.0 KiB | 2006-10-04 06:44:21 |
| lemming-adSplit-buildbin.html | 6.4 KiB | 2006-10-04 06:44:21 |
| lemming-adSplit-buildsrc.html | 6.7 KiB | 2006-10-04 06:44:21 |
| lemming-adSplit-checksrc.html | 8.1 KiB | 2006-10-04 06:44:21 |
| lemming-affxparser-buildbin.html | 85.4 KiB | 2006-10-04 06:44:22 |
| lemming-affxparser-buildsrc.html | 4.0 KiB | 2006-10-04 06:44:21 |
| lemming-affxparser-checksrc.html | 87.2 KiB | 2006-10-04 06:44:22 |
| lemming-affy-buildbin.html | 12.5 KiB | 2006-10-04 06:44:22 |
| lemming-affy-buildsrc.html | 12.8 KiB | 2006-10-04 06:44:22 |
| lemming-affy-checksrc.html | 14.5 KiB | 2006-10-04 06:44:22 |
| lemming-affyPLM-buildbin.html | 16.1 KiB | 2006-10-04 06:44:24 |
| lemming-affyPLM-buildsrc.html | 16.5 KiB | 2006-10-04 06:44:24 |
| lemming-affyPLM-checksrc.html | 18.2 KiB | 2006-10-04 06:44:24 |
| lemming-affyQCReport-buildbin.html | 5.0 KiB | 2006-10-04 06:44:24 |
| lemming-affyQCReport-buildsrc.html | 5.3 KiB | 2006-10-04 06:44:24 |
| lemming-affyQCReport-checksrc.html | 6.6 KiB | 2006-10-04 06:44:24 |
| lemming-affycomp-buildbin.html | 6.4 KiB | 2006-10-04 06:44:23 |
| lemming-affycomp-buildsrc.html | 6.7 KiB | 2006-10-04 06:44:23 |
| lemming-affycomp-checksrc.html | 8.0 KiB | 2006-10-04 06:44:23 |
| lemming-affycoretools-buildbin.html | 7.5 KiB | 2006-10-04 06:44:23 |
| lemming-affycoretools-buildsrc.html | 7.8 KiB | 2006-10-04 06:44:23 |
| lemming-affycoretools-checksrc.html | 9.2 KiB | 2006-10-04 06:44:23 |
| lemming-affydata-buildbin.html | 4.6 KiB | 2006-10-04 06:44:23 |
| lemming-affydata-buildsrc.html | 4.8 KiB | 2006-10-04 06:44:23 |
| lemming-affydata-checksrc.html | 6.1 KiB | 2006-10-04 06:44:23 |
| lemming-affyio-buildbin.html | 7.4 KiB | 2006-10-04 06:44:23 |
| lemming-affyio-buildsrc.html | 3.9 KiB | 2006-10-04 06:44:23 |
| lemming-affyio-checksrc.html | 9.2 KiB | 2006-10-04 06:44:23 |
| lemming-affylmGUI-buildbin.html | 5.1 KiB | 2006-10-04 06:44:24 |
| lemming-affylmGUI-buildsrc.html | 5.5 KiB | 2006-10-04 06:44:23 |
| lemming-affylmGUI-checksrc.html | 6.6 KiB | 2006-10-04 06:44:24 |
| lemming-affypdnn-buildbin.html | 5.5 KiB | 2006-10-04 06:44:24 |
| lemming-affypdnn-buildsrc.html | 4.0 KiB | 2006-10-04 06:44:24 |
| lemming-affypdnn-checksrc.html | 7.0 KiB | 2006-10-04 06:44:24 |
| lemming-altcdfenvs-buildbin.html | 6.3 KiB | 2006-10-04 06:44:25 |
| lemming-altcdfenvs-buildsrc.html | 6.5 KiB | 2006-10-04 06:44:24 |
| lemming-altcdfenvs-checksrc.html | 7.8 KiB | 2006-10-04 06:44:25 |
| lemming-annaffy-buildbin.html | 8.6 KiB | 2006-10-04 06:44:25 |
| lemming-annaffy-buildsrc.html | 8.9 KiB | 2006-10-04 06:44:25 |
| lemming-annaffy-checksrc.html | 10.2 KiB | 2006-10-04 06:44:25 |
| lemming-annotate-buildbin.html | 8.8 KiB | 2006-10-04 06:44:25 |
| lemming-annotate-buildsrc.html | 9.0 KiB | 2006-10-04 06:44:25 |
| lemming-annotate-checksrc.html | 10.3 KiB | 2006-10-04 06:44:25 |
| lemming-apComplex-buildbin.html | 5.8 KiB | 2006-10-04 06:44:26 |
| lemming-apComplex-buildsrc.html | 6.2 KiB | 2006-10-04 06:44:26 |
| lemming-apComplex-checksrc.html | 7.4 KiB | 2006-10-04 06:44:26 |
| lemming-applera-buildbin.html | 5.7 KiB | 2006-10-04 06:44:26 |
| lemming-applera-buildsrc.html | 6.0 KiB | 2006-10-04 06:44:26 |
| lemming-applera-checksrc.html | 7.2 KiB | 2006-10-04 06:44:26 |
| lemming-aroma.light-buildbin.html | 6.6 KiB | 2006-10-04 06:44:26 |
| lemming-aroma.light-buildsrc.html | 4.0 KiB | 2006-10-04 06:44:26 |
| lemming-aroma.light-checksrc.html | 8.1 KiB | 2006-10-04 06:44:26 |
| lemming-arrayMagic-buildbin.html | 8.2 KiB | 2006-10-04 06:44:27 |
| lemming-arrayMagic-buildsrc.html | 8.5 KiB | 2006-10-04 06:44:26 |
| lemming-arrayMagic-checksrc.html | 9.8 KiB | 2006-10-04 06:44:27 |
| lemming-arrayQCplot-buildbin.html | 4.9 KiB | 2006-10-04 06:44:27 |
| lemming-arrayQCplot-buildsrc.html | 4.1 KiB | 2006-10-04 06:44:27 |
| lemming-arrayQCplot-checksrc.html | 4.2 KiB | 2006-10-04 06:44:27 |
| lemming-arrayQuality-buildbin.html | 7.1 KiB | 2006-10-04 06:44:27 |
| lemming-arrayQuality-buildsrc.html | 4.1 KiB | 2006-10-04 06:44:27 |
| lemming-arrayQuality-checksrc.html | 8.6 KiB | 2006-10-04 06:44:27 |
| lemming-beadarray-buildbin.html | 9.7 KiB | 2006-10-04 06:44:27 |
| lemming-beadarray-buildsrc.html | 4.0 KiB | 2006-10-04 06:44:27 |
| lemming-beadarray-checksrc.html | 11.3 KiB | 2006-10-04 06:44:27 |
| lemming-beadarraySNP-buildbin.html | 6.9 KiB | 2006-10-04 06:44:28 |
| lemming-beadarraySNP-buildsrc.html | 7.1 KiB | 2006-10-04 06:44:27 |
| lemming-beadarraySNP-checksrc.html | 8.5 KiB | 2006-10-04 06:44:28 |
| lemming-bim-buildbin.html | 12.4 KiB | 2006-10-04 06:44:28 |
| lemming-bim-buildsrc.html | 12.8 KiB | 2006-10-04 06:44:28 |
| lemming-bim-checksrc.html | 14.0 KiB | 2006-10-04 06:44:28 |
| lemming-bioDist-buildbin.html | 5.1 KiB | 2006-10-04 06:44:29 |
| lemming-bioDist-buildsrc.html | 4.0 KiB | 2006-10-04 06:44:29 |
| lemming-bioDist-checksrc.html | 6.7 KiB | 2006-10-04 06:44:29 |
| lemming-biocViews-buildbin.html | 6.7 KiB | 2006-10-04 06:44:29 |
| lemming-biocViews-buildsrc.html | 6.9 KiB | 2006-10-04 06:44:29 |
| lemming-biocViews-checksrc.html | 8.3 KiB | 2006-10-04 06:44:29 |
| lemming-biomaRt-buildbin.html | 6.4 KiB | 2006-10-04 06:44:30 |
| lemming-biomaRt-buildsrc.html | 6.6 KiB | 2006-10-04 06:44:29 |
| lemming-biomaRt-checksrc.html | 8.0 KiB | 2006-10-04 06:44:29 |
| lemming-bridge-buildbin.html | 9.2 KiB | 2006-10-04 06:44:30 |
| lemming-bridge-buildsrc.html | 9.5 KiB | 2006-10-04 06:44:30 |
| lemming-bridge-checksrc.html | 10.9 KiB | 2006-10-04 06:44:30 |
| lemming-cellHTS-buildbin.html | 6.7 KiB | 2006-10-04 06:44:31 |
| lemming-cellHTS-buildsrc.html | 6.9 KiB | 2006-10-04 06:44:31 |
| lemming-cellHTS-checksrc.html | 8.2 KiB | 2006-10-04 06:44:31 |
| lemming-cghMCR-buildbin.html | 5.7 KiB | 2006-10-04 06:44:32 |
| lemming-cghMCR-buildsrc.html | 5.9 KiB | 2006-10-04 06:44:31 |
| lemming-cghMCR-checksrc.html | 7.3 KiB | 2006-10-04 06:44:31 |
| lemming-clusterStab-buildbin.html | 5.7 KiB | 2006-10-04 06:44:32 |
| lemming-clusterStab-buildsrc.html | 6.0 KiB | 2006-10-04 06:44:32 |
| lemming-clusterStab-checksrc.html | 7.2 KiB | 2006-10-04 06:44:32 |
| lemming-codelink-buildbin.html | 7.1 KiB | 2006-10-04 06:44:33 |
| lemming-codelink-buildsrc.html | 7.3 KiB | 2006-10-04 06:44:33 |
| lemming-codelink-checksrc.html | 8.6 KiB | 2006-10-04 06:44:33 |
| lemming-convert-buildbin.html | 4.5 KiB | 2006-10-04 06:44:33 |
| lemming-convert-buildsrc.html | 4.8 KiB | 2006-10-04 06:44:33 |
| lemming-convert-checksrc.html | 6.1 KiB | 2006-10-04 06:44:33 |
| lemming-copa-buildbin.html | 5.8 KiB | 2006-10-04 06:44:34 |
| lemming-copa-buildsrc.html | 6.1 KiB | 2006-10-04 06:44:33 |
| lemming-copa-checksrc.html | 7.5 KiB | 2006-10-04 06:44:33 |
| lemming-ctc-buildbin.html | 5.0 KiB | 2006-10-04 06:44:34 |
| lemming-ctc-buildsrc.html | 5.4 KiB | 2006-10-04 06:44:34 |
| lemming-ctc-checksrc.html | 6.6 KiB | 2006-10-04 06:44:34 |
| lemming-daMA-buildbin.html | 5.2 KiB | 2006-10-04 06:44:34 |
| lemming-daMA-buildsrc.html | 4.0 KiB | 2006-10-04 06:44:34 |
| lemming-daMA-checksrc.html | 6.6 KiB | 2006-10-04 06:44:34 |
| lemming-diffGeneAnalysis-buildbin.html | 5.3 KiB | 2006-10-04 06:44:34 |
| lemming-diffGeneAnalysis-buildsrc.html | 5.7 KiB | 2006-10-04 06:44:34 |
| lemming-diffGeneAnalysis-checksrc.html | 6.8 KiB | 2006-10-04 06:44:34 |
| lemming-ecolitk-buildbin.html | 5.3 KiB | 2006-10-04 06:44:36 |
| lemming-ecolitk-buildsrc.html | 5.6 KiB | 2006-10-04 06:44:36 |
| lemming-ecolitk-checksrc.html | 6.8 KiB | 2006-10-04 06:44:36 |
| lemming-edd-buildbin.html | 5.5 KiB | 2006-10-04 06:44:36 |
| lemming-edd-buildsrc.html | 5.7 KiB | 2006-10-04 06:44:36 |
| lemming-edd-checksrc.html | 7.0 KiB | 2006-10-04 06:44:36 |
| lemming-factDesign-buildbin.html | 4.9 KiB | 2006-10-04 06:44:36 |
| lemming-factDesign-buildsrc.html | 5.3 KiB | 2006-10-04 06:44:36 |
| lemming-factDesign-checksrc.html | 6.5 KiB | 2006-10-04 06:44:36 |
| lemming-fdrame-buildbin.html | 5.2 KiB | 2006-10-04 06:44:36 |
| lemming-fdrame-buildsrc.html | 5.6 KiB | 2006-10-04 06:44:36 |
| lemming-fdrame-checksrc.html | 6.8 KiB | 2006-10-04 06:44:36 |
| lemming-gaggle-buildbin.html | 5.5 KiB | 2006-10-04 06:44:37 |
| lemming-gaggle-buildsrc.html | 5.8 KiB | 2006-10-04 06:44:37 |
| lemming-gaggle-checksrc.html | 7.1 KiB | 2006-10-04 06:44:37 |
| lemming-gcrma-buildbin.html | 6.5 KiB | 2006-10-04 06:44:37 |
| lemming-gcrma-buildsrc.html | 6.8 KiB | 2006-10-04 06:44:37 |
| lemming-gcrma-checksrc.html | 8.2 KiB | 2006-10-04 06:44:37 |
| lemming-genArise-buildbin.html | 8.6 KiB | 2006-10-04 06:44:38 |
| lemming-genArise-buildsrc.html | 8.9 KiB | 2006-10-04 06:44:37 |
| lemming-genArise-checksrc.html | 10.1 KiB | 2006-10-04 06:44:37 |
| lemming-geneRecommender-buildbin.html | 4.9 KiB | 2006-10-04 06:44:39 |
| lemming-geneRecommender-buildsrc.html | 5.1 KiB | 2006-10-04 06:44:39 |
| lemming-geneRecommender-checksrc.html | 6.5 KiB | 2006-10-04 06:44:39 |
| lemming-genefilter-buildbin.html | 8.1 KiB | 2006-10-04 06:44:38 |
| lemming-genefilter-buildsrc.html | 8.3 KiB | 2006-10-04 06:44:38 |
| lemming-genefilter-checksrc.html | 9.8 KiB | 2006-10-04 06:44:38 |
| lemming-geneplotter-buildbin.html | 6.4 KiB | 2006-10-04 06:44:38 |
| lemming-geneplotter-buildsrc.html | 6.6 KiB | 2006-10-04 06:44:38 |
| lemming-geneplotter-checksrc.html | 8.0 KiB | 2006-10-04 06:44:38 |
| lemming-gff3Plotter-buildbin.html | 5.0 KiB | 2006-10-04 06:44:40 |
| lemming-gff3Plotter-buildsrc.html | 5.3 KiB | 2006-10-04 06:44:40 |
| lemming-gff3Plotter-checksrc.html | 6.6 KiB | 2006-10-04 06:44:40 |
| lemming-globaltest-buildbin.html | 6.7 KiB | 2006-10-04 06:44:41 |
| lemming-globaltest-buildsrc.html | 7.0 KiB | 2006-10-04 06:44:41 |
| lemming-globaltest-checksrc.html | 8.3 KiB | 2006-10-04 06:44:41 |
| lemming-goTools-buildbin.html | 5.2 KiB | 2006-10-04 06:44:42 |
| lemming-goTools-buildsrc.html | 5.5 KiB | 2006-10-04 06:44:42 |
| lemming-goTools-checksrc.html | 7.0 KiB | 2006-10-04 06:44:42 |
| lemming-gpls-buildbin.html | 5.0 KiB | 2006-10-04 06:44:43 |
| lemming-gpls-buildsrc.html | 5.3 KiB | 2006-10-04 06:44:42 |
| lemming-gpls-checksrc.html | 6.6 KiB | 2006-10-04 06:44:42 |
| lemming-graph-buildbin.html | 8.8 KiB | 2006-10-04 06:44:43 |
| lemming-graph-buildsrc.html | 9.0 KiB | 2006-10-04 06:44:43 |
| lemming-graph-checksrc.html | 10.5 KiB | 2006-10-04 06:44:43 |
| lemming-hexbin-buildbin.html | 7.7 KiB | 2006-10-04 06:44:44 |
| lemming-hexbin-buildsrc.html | 8.0 KiB | 2006-10-04 06:44:44 |
| lemming-hexbin-checksrc.html | 10.4 KiB | 2006-10-04 06:44:44 |
| lemming-hopach-buildbin.html | 5.8 KiB | 2006-10-04 06:44:44 |
| lemming-hopach-buildsrc.html | 6.2 KiB | 2006-10-04 06:44:44 |
| lemming-hopach-checksrc.html | 7.3 KiB | 2006-10-04 06:44:44 |
| lemming-hypergraph-buildbin.html | 5.5 KiB | 2006-10-04 06:44:44 |
| lemming-hypergraph-buildsrc.html | 4.0 KiB | 2006-10-04 06:44:44 |
| lemming-hypergraph-checksrc.html | 7.1 KiB | 2006-10-04 06:44:44 |
| lemming-iSNetwork-buildbin.html | 6.1 KiB | 2006-10-04 06:44:45 |
| lemming-iSNetwork-buildsrc.html | 5.0 KiB | 2006-10-04 06:44:45 |
| lemming-iSNetwork-checksrc.html | 6.1 KiB | 2006-10-04 06:44:45 |
| lemming-iSPlot-buildbin.html | 6.1 KiB | 2006-10-04 06:44:46 |
| lemming-iSPlot-buildsrc.html | 4.5 KiB | 2006-10-04 06:44:46 |
| lemming-iSPlot-checksrc.html | 6.1 KiB | 2006-10-04 06:44:46 |
| lemming-idiogram-buildbin.html | 5.0 KiB | 2006-10-04 06:44:45 |
| lemming-idiogram-buildsrc.html | 5.3 KiB | 2006-10-04 06:44:45 |
| lemming-idiogram-checksrc.html | 6.6 KiB | 2006-10-04 06:44:45 |
| lemming-impute-buildbin.html | 5.2 KiB | 2006-10-04 06:44:45 |
| lemming-impute-buildsrc.html | 4.0 KiB | 2006-10-04 06:44:45 |
| lemming-impute-checksrc.html | 6.8 KiB | 2006-10-04 06:44:45 |
| lemming-lapmix-buildbin.html | 4.7 KiB | 2006-10-04 06:44:46 |
| lemming-lapmix-buildsrc.html | 5.1 KiB | 2006-10-04 06:44:46 |
| lemming-lapmix-checksrc.html | 6.2 KiB | 2006-10-04 06:44:46 |
| lemming-limma-buildbin.html | 13.5 KiB | 2006-10-04 06:44:47 |
| lemming-limma-buildsrc.html | 13.8 KiB | 2006-10-04 06:44:46 |
| lemming-limma-checksrc.html | 15.4 KiB | 2006-10-04 06:44:46 |
| lemming-limmaGUI-buildbin.html | 4.7 KiB | 2006-10-04 06:44:47 |
| lemming-limmaGUI-buildsrc.html | 5.0 KiB | 2006-10-04 06:44:47 |
| lemming-limmaGUI-checksrc.html | 6.3 KiB | 2006-10-04 06:44:47 |
| lemming-logicFS-buildbin.html | 5.2 KiB | 2006-10-04 06:44:47 |
| lemming-logicFS-buildsrc.html | 5.6 KiB | 2006-10-04 06:44:47 |
| lemming-logicFS-checksrc.html | 6.7 KiB | 2006-10-04 06:44:47 |
| lemming-maCorrPlot-buildbin.html | 4.9 KiB | 2006-10-04 06:44:48 |
| lemming-maCorrPlot-buildsrc.html | 5.1 KiB | 2006-10-04 06:44:48 |
| lemming-maCorrPlot-checksrc.html | 6.4 KiB | 2006-10-04 06:44:48 |
| lemming-maDB-buildbin.html | 8.8 KiB | 2006-10-04 06:44:49 |
| lemming-maDB-buildsrc.html | 3.9 KiB | 2006-10-04 06:44:49 |
| lemming-maDB-checksrc.html | 10.2 KiB | 2006-10-04 06:44:49 |
| lemming-maSigPro-buildbin.html | 6.4 KiB | 2006-10-04 06:44:51 |
| lemming-maSigPro-buildsrc.html | 6.7 KiB | 2006-10-04 06:44:50 |
| lemming-maSigPro-checksrc.html | 8.0 KiB | 2006-10-04 06:44:50 |
| lemming-maanova-buildbin.html | 7.2 KiB | 2006-10-04 06:44:48 |
| lemming-maanova-buildsrc.html | 7.5 KiB | 2006-10-04 06:44:48 |
| lemming-maanova-checksrc.html | 8.8 KiB | 2006-10-04 06:44:48 |
| lemming-macat-buildbin.html | 6.4 KiB | 2006-10-04 06:44:48 |
| lemming-macat-buildsrc.html | 6.6 KiB | 2006-10-04 06:44:48 |
| lemming-macat-checksrc.html | 7.8 KiB | 2006-10-04 06:44:48 |
| lemming-made4-buildbin.html | 7.0 KiB | 2006-10-04 06:44:49 |
| lemming-made4-buildsrc.html | 7.3 KiB | 2006-10-04 06:44:49 |
| lemming-made4-checksrc.html | 8.4 KiB | 2006-10-04 06:44:49 |
| lemming-makecdfenv-buildbin.html | 6.1 KiB | 2006-10-04 06:44:49 |
| lemming-makecdfenv-buildsrc.html | 6.5 KiB | 2006-10-04 06:44:49 |
| lemming-makecdfenv-checksrc.html | 7.9 KiB | 2006-10-04 06:44:49 |
| lemming-marray-buildbin.html | 12.5 KiB | 2006-10-04 06:44:50 |
| lemming-marray-buildsrc.html | 12.7 KiB | 2006-10-04 06:44:50 |
| lemming-marray-checksrc.html | 14.4 KiB | 2006-10-04 06:44:50 |
| lemming-matchprobes-buildbin.html | 6.2 KiB | 2006-10-04 06:44:51 |
| lemming-matchprobes-buildsrc.html | 6.5 KiB | 2006-10-04 06:44:51 |
| lemming-matchprobes-checksrc.html | 7.9 KiB | 2006-10-04 06:44:51 |
| lemming-metaArray-buildbin.html | 6.6 KiB | 2006-10-04 06:44:52 |
| lemming-metaArray-buildsrc.html | 7.0 KiB | 2006-10-04 06:44:52 |
| lemming-metaArray-checksrc.html | 8.3 KiB | 2006-10-04 06:44:52 |
| lemming-mmgmos-buildbin.html | 83.5 KiB | 2006-10-04 06:44:53 |
| lemming-mmgmos-buildsrc.html | 83.8 KiB | 2006-10-04 06:44:53 |
| lemming-mmgmos-checksrc.html | 85.1 KiB | 2006-10-04 06:44:53 |
| lemming-multtest-buildbin.html | 8.2 KiB | 2006-10-04 06:44:53 |
| lemming-multtest-buildsrc.html | 4.1 KiB | 2006-10-04 06:44:53 |
| lemming-multtest-checksrc.html | 10.0 KiB | 2006-10-04 06:44:53 |
| lemming-nem-buildbin.html | 5.4 KiB | 2006-10-04 06:44:54 |
| lemming-nem-buildsrc.html | 5.7 KiB | 2006-10-04 06:44:54 |
| lemming-nem-checksrc.html | 6.9 KiB | 2006-10-04 06:44:54 |
| lemming-nnNorm-buildbin.html | 4.6 KiB | 2006-10-04 06:44:54 |
| lemming-nnNorm-buildsrc.html | 5.0 KiB | 2006-10-04 06:44:54 |
| lemming-nnNorm-checksrc.html | 6.2 KiB | 2006-10-04 06:44:54 |
| lemming-nudge-buildbin.html | 5.3 KiB | 2006-10-04 06:44:54 |
| lemming-nudge-buildsrc.html | 5.6 KiB | 2006-10-04 06:44:54 |
| lemming-nudge-checksrc.html | 6.8 KiB | 2006-10-04 06:44:54 |
| lemming-ontoTools-buildbin.html | 7.9 KiB | 2006-10-04 06:44:56 |
| lemming-ontoTools-buildsrc.html | 8.2 KiB | 2006-10-04 06:44:55 |
| lemming-ontoTools-checksrc.html | 9.5 KiB | 2006-10-04 06:44:55 |
| lemming-pairseqsim-buildbin.html | 6.0 KiB | 2006-10-04 06:44:56 |
| lemming-pairseqsim-buildsrc.html | 6.4 KiB | 2006-10-04 06:44:56 |
| lemming-pairseqsim-checksrc.html | 7.7 KiB | 2006-10-04 06:44:56 |
| lemming-pamr-buildbin.html | 7.1 KiB | 2006-10-04 06:44:57 |
| lemming-pamr-buildsrc.html | 4.0 KiB | 2006-10-04 06:44:56 |
| lemming-pamr-checksrc.html | 8.7 KiB | 2006-10-04 06:44:57 |
| lemming-panp-buildbin.html | 4.8 KiB | 2006-10-04 06:44:57 |
| lemming-panp-buildsrc.html | 5.1 KiB | 2006-10-04 06:44:57 |
| lemming-panp-checksrc.html | 6.3 KiB | 2006-10-04 06:44:57 |
| lemming-pathRender-buildbin.html | 5.1 KiB | 2006-10-04 06:44:57 |
| lemming-pathRender-buildsrc.html | 4.0 KiB | 2006-10-04 06:44:57 |
| lemming-pathRender-checksrc.html | 6.7 KiB | 2006-10-04 06:44:57 |
| lemming-pcaMethods-buildbin.html | 6.2 KiB | 2006-10-04 06:44:57 |
| lemming-pcaMethods-buildsrc.html | 6.5 KiB | 2006-10-04 06:44:57 |
| lemming-pcaMethods-checksrc.html | 7.8 KiB | 2006-10-04 06:44:57 |
| lemming-pcot2-buildbin.html | 4.8 KiB | 2006-10-04 06:44:58 |
| lemming-pcot2-buildsrc.html | 5.1 KiB | 2006-10-04 06:44:58 |
| lemming-pcot2-checksrc.html | 6.3 KiB | 2006-10-04 06:44:58 |
| lemming-pdmclass-buildbin.html | 5.1 KiB | 2006-10-04 06:44:58 |
| lemming-pdmclass-buildsrc.html | 5.4 KiB | 2006-10-04 06:44:58 |
| lemming-pdmclass-checksrc.html | 6.7 KiB | 2006-10-04 06:44:58 |
| lemming-pgUtils-buildbin.html | 6.2 KiB | 2006-10-04 06:44:58 |
| lemming-pgUtils-buildsrc.html | 3.9 KiB | 2006-10-04 06:44:58 |
| lemming-pgUtils-checksrc.html | 4.1 KiB | 2006-10-04 06:44:58 |
| lemming-pickgene-buildbin.html | 5.1 KiB | 2006-10-04 06:44:58 |
| lemming-pickgene-buildsrc.html | 5.4 KiB | 2006-10-04 06:44:58 |
| lemming-pickgene-checksrc.html | 6.6 KiB | 2006-10-04 06:44:58 |
| lemming-pkgDepTools-buildbin.html | 5.5 KiB | 2006-10-04 06:44:59 |
| lemming-pkgDepTools-buildsrc.html | 5.8 KiB | 2006-10-04 06:44:58 |
| lemming-pkgDepTools-checksrc.html | 7.2 KiB | 2006-10-04 06:44:59 |
| lemming-plgem-buildbin.html | 4.8 KiB | 2006-10-04 06:44:59 |
| lemming-plgem-buildsrc.html | 5.1 KiB | 2006-10-04 06:44:59 |
| lemming-plgem-checksrc.html | 6.3 KiB | 2006-10-04 06:44:59 |
| lemming-plier-buildbin.html | 5.7 KiB | 2006-10-04 06:44:59 |
| lemming-plier-buildsrc.html | 3.9 KiB | 2006-10-04 06:44:59 |
| lemming-plier-checksrc.html | 7.3 KiB | 2006-10-04 06:44:59 |
| lemming-ppiStats-buildbin.html | 5.0 KiB | 2006-10-04 06:45:00 |
| lemming-ppiStats-buildsrc.html | 5.3 KiB | 2006-10-04 06:44:59 |
| lemming-ppiStats-checksrc.html | 6.6 KiB | 2006-10-04 06:44:59 |
| lemming-prada-buildbin.html | 7.9 KiB | 2006-10-04 06:45:00 |
| lemming-prada-buildsrc.html | 8.2 KiB | 2006-10-04 06:45:00 |
| lemming-prada-checksrc.html | 9.6 KiB | 2006-10-04 06:45:00 |
| lemming-quantsmooth-buildbin.html | 5.6 KiB | 2006-10-04 06:45:01 |
| lemming-quantsmooth-buildsrc.html | 5.9 KiB | 2006-10-04 06:45:00 |
| lemming-quantsmooth-checksrc.html | 7.3 KiB | 2006-10-04 06:45:00 |
| lemming-qvalue-buildbin.html | 4.9 KiB | 2006-10-04 06:45:01 |
| lemming-qvalue-buildsrc.html | 5.3 KiB | 2006-10-04 06:45:01 |
| lemming-qvalue-checksrc.html | 6.5 KiB | 2006-10-04 06:45:01 |
| lemming-rama-buildbin.html | 10.4 KiB | 2006-10-04 06:45:01 |
| lemming-rama-buildsrc.html | 4.0 KiB | 2006-10-04 06:45:01 |
| lemming-rama-checksrc.html | 12.0 KiB | 2006-10-04 06:45:01 |
| lemming-reb-buildbin.html | 6.9 KiB | 2006-10-04 06:45:03 |
| lemming-reb-buildsrc.html | 7.2 KiB | 2006-10-04 06:45:03 |
| lemming-reb-checksrc.html | 8.6 KiB | 2006-10-04 06:45:03 |
| lemming-rflowcyt-buildbin.html | 10.3 KiB | 2006-10-04 06:45:03 |
| lemming-rflowcyt-buildsrc.html | 10.6 KiB | 2006-10-04 06:45:03 |
| lemming-rflowcyt-checksrc.html | 12.8 KiB | 2006-10-04 06:45:03 |
| lemming-safe-buildbin.html | 4.8 KiB | 2006-10-04 06:45:05 |
| lemming-safe-buildsrc.html | 5.1 KiB | 2006-10-04 06:45:05 |
| lemming-safe-checksrc.html | 6.3 KiB | 2006-10-04 06:45:05 |
| lemming-sagenhaft-buildbin.html | 5.1 KiB | 2006-10-04 06:45:06 |
| lemming-sagenhaft-buildsrc.html | 5.5 KiB | 2006-10-04 06:45:06 |
| lemming-sagenhaft-checksrc.html | 6.7 KiB | 2006-10-04 06:45:06 |
| lemming-sigPathway-buildbin.html | 7.2 KiB | 2006-10-04 06:45:08 |
| lemming-sigPathway-buildsrc.html | 7.4 KiB | 2006-10-04 06:45:07 |
| lemming-sigPathway-checksrc.html | 9.0 KiB | 2006-10-04 06:45:08 |
| lemming-siggenes-buildbin.html | 6.8 KiB | 2006-10-04 06:45:07 |
| lemming-siggenes-buildsrc.html | 7.0 KiB | 2006-10-04 06:45:07 |
| lemming-siggenes-checksrc.html | 8.3 KiB | 2006-10-04 06:45:07 |
| lemming-simpleaffy-buildbin.html | 9.0 KiB | 2006-10-04 06:45:08 |
| lemming-simpleaffy-buildsrc.html | 9.4 KiB | 2006-10-04 06:45:08 |
| lemming-simpleaffy-checksrc.html | 11.0 KiB | 2006-10-04 06:45:08 |
| lemming-simulatorAPMS-buildbin.html | 6.6 KiB | 2006-10-04 06:45:08 |
| lemming-simulatorAPMS-buildsrc.html | 6.8 KiB | 2006-10-04 06:45:08 |
| lemming-simulatorAPMS-checksrc.html | 8.2 KiB | 2006-10-04 06:45:08 |
| lemming-sizepower-buildbin.html | 4.9 KiB | 2006-10-04 06:45:09 |
| lemming-sizepower-buildsrc.html | 5.3 KiB | 2006-10-04 06:45:08 |
| lemming-sizepower-checksrc.html | 6.5 KiB | 2006-10-04 06:45:08 |
| lemming-snapCGH-buildbin.html | 9.6 KiB | 2006-10-04 06:45:09 |
| lemming-snapCGH-buildsrc.html | 9.8 KiB | 2006-10-04 06:45:09 |
| lemming-snapCGH-checksrc.html | 11.2 KiB | 2006-10-04 06:45:09 |
| lemming-spikeLI-buildbin.html | 5.4 KiB | 2006-10-04 06:45:09 |
| lemming-spikeLI-buildsrc.html | 5.6 KiB | 2006-10-04 06:45:09 |
| lemming-spikeLI-checksrc.html | 6.9 KiB | 2006-10-04 06:45:09 |
| lemming-splicegear-buildbin.html | 6.6 KiB | 2006-10-04 06:45:09 |
| lemming-splicegear-buildsrc.html | 6.9 KiB | 2006-10-04 06:45:09 |
| lemming-splicegear-checksrc.html | 8.2 KiB | 2006-10-04 06:45:09 |
| lemming-splots-buildbin.html | 4.7 KiB | 2006-10-04 06:45:10 |
| lemming-splots-buildsrc.html | 5.0 KiB | 2006-10-04 06:45:09 |
| lemming-splots-checksrc.html | 6.3 KiB | 2006-10-04 06:45:10 |
| lemming-spotSegmentation-buildbin.html | 5.4 KiB | 2006-10-04 06:45:10 |
| lemming-spotSegmentation-buildsrc.html | 4.2 KiB | 2006-10-04 06:45:10 |
| lemming-spotSegmentation-checksrc.html | 6.9 KiB | 2006-10-04 06:45:10 |
| lemming-sscore-buildbin.html | 5.6 KiB | 2006-10-04 06:45:10 |
| lemming-sscore-buildsrc.html | 5.9 KiB | 2006-10-04 06:45:10 |
| lemming-sscore-checksrc.html | 7.1 KiB | 2006-10-04 06:45:10 |
| lemming-ssize-buildbin.html | 4.6 KiB | 2006-10-04 06:45:11 |
| lemming-ssize-buildsrc.html | 4.8 KiB | 2006-10-04 06:45:10 |
| lemming-ssize-checksrc.html | 6.1 KiB | 2006-10-04 06:45:10 |
| lemming-stam-buildbin.html | 7.0 KiB | 2006-10-04 06:45:11 |
| lemming-stam-buildsrc.html | 7.4 KiB | 2006-10-04 06:45:11 |
| lemming-stam-checksrc.html | 8.6 KiB | 2006-10-04 06:45:11 |
| lemming-stepNorm-buildbin.html | 5.3 KiB | 2006-10-04 06:45:11 |
| lemming-stepNorm-buildsrc.html | 3.9 KiB | 2006-10-04 06:45:11 |
| lemming-stepNorm-checksrc.html | 6.7 KiB | 2006-10-04 06:45:11 |
| lemming-tilingArray-buildbin.html | 7.5 KiB | 2006-10-04 06:45:12 |
| lemming-tilingArray-buildsrc.html | 7.8 KiB | 2006-10-04 06:45:11 |
| lemming-tilingArray-checksrc.html | 9.2 KiB | 2006-10-04 06:45:11 |
| lemming-timecourse-buildbin.html | 5.6 KiB | 2006-10-04 06:45:12 |
| lemming-timecourse-buildsrc.html | 5.9 KiB | 2006-10-04 06:45:12 |
| lemming-timecourse-checksrc.html | 7.2 KiB | 2006-10-04 06:45:12 |
| lemming-tkWidgets-buildbin.html | 7.1 KiB | 2006-10-04 06:45:12 |
| lemming-tkWidgets-buildsrc.html | 7.4 KiB | 2006-10-04 06:45:12 |
| lemming-tkWidgets-checksrc.html | 8.7 KiB | 2006-10-04 06:45:12 |
| lemming-twilight-buildbin.html | 6.6 KiB | 2006-10-04 06:45:12 |
| lemming-twilight-buildsrc.html | 7.0 KiB | 2006-10-04 06:45:12 |
| lemming-twilight-checksrc.html | 8.3 KiB | 2006-10-04 06:45:12 |
| lemming-vsn-buildbin.html | 5.4 KiB | 2006-10-04 06:45:13 |
| lemming-vsn-buildsrc.html | 5.7 KiB | 2006-10-04 06:45:13 |
| lemming-vsn-checksrc.html | 7.1 KiB | 2006-10-04 06:45:13 |
| lemming-weaver-buildbin.html | 4.7 KiB | 2006-10-04 06:45:13 |
| lemming-weaver-buildsrc.html | 5.0 KiB | 2006-10-04 06:45:13 |
| lemming-weaver-checksrc.html | 6.2 KiB | 2006-10-04 06:45:13 |
| lemming-webbioc-buildbin.html | 5.3 KiB | 2006-10-04 06:45:13 |
| lemming-webbioc-buildsrc.html | 5.5 KiB | 2006-10-04 06:45:13 |
| lemming-webbioc-checksrc.html | 6.8 KiB | 2006-10-04 06:45:13 |
| lemming-widgetInvoke-buildbin.html | 6.1 KiB | 2006-10-04 06:45:13 |
| lemming-widgetInvoke-buildsrc.html | 4.6 KiB | 2006-10-04 06:45:13 |
| lemming-widgetInvoke-checksrc.html | 6.1 KiB | 2006-10-04 06:45:13 |
| lemming-widgetTools-buildbin.html | 5.4 KiB | 2006-10-04 06:45:14 |
| lemming-widgetTools-buildsrc.html | 5.7 KiB | 2006-10-04 06:45:13 |
| lemming-widgetTools-checksrc.html | 7.6 KiB | 2006-10-04 06:45:14 |
| lemming-xcms-buildbin.html | 9.9 KiB | 2006-10-04 06:45:14 |
| lemming-xcms-buildsrc.html | 10.1 KiB | 2006-10-04 06:45:14 |
| lemming-xcms-checksrc.html | 12.7 KiB | 2006-10-04 06:45:14 |
| report.css | 4.0 KiB | 2006-10-04 06:42:02 |
| wellington-ABarray-buildsrc.html | 6.5 KiB | 2006-10-04 06:42:36 |
| wellington-ABarray-checksrc.html | 7.7 KiB | 2006-10-04 06:42:36 |
| wellington-AnnBuilder-buildsrc.html | 8.4 KiB | 2006-10-04 06:42:38 |
| wellington-AnnBuilder-checksrc.html | 9.7 KiB | 2006-10-04 06:42:38 |
| wellington-BSgenome-buildsrc.html | 3.9 KiB | 2006-10-04 06:42:42 |
| wellington-BSgenome-checksrc.html | 5.7 KiB | 2006-10-04 06:42:42 |
| wellington-BeadExplorer-buildsrc.html | 4.0 KiB | 2006-10-04 06:42:40 |
| wellington-BeadExplorer-checksrc.html | 8.5 KiB | 2006-10-04 06:42:40 |
| wellington-BioMVCClass-buildsrc.html | 4.7 KiB | 2006-10-04 06:42:41 |
| wellington-BioMVCClass-checksrc.html | 6.1 KiB | 2006-10-04 06:42:41 |
| wellington-Biobase-buildsrc.html | 9.8 KiB | 2006-10-04 06:42:41 |
| wellington-Biobase-checksrc.html | 11.1 KiB | 2006-10-04 06:42:41 |
| wellington-Biostrings-buildsrc.html | 8.0 KiB | 2006-10-04 06:42:41 |
| wellington-Biostrings-checksrc.html | 9.5 KiB | 2006-10-04 06:42:41 |
| wellington-Category-buildsrc.html | 6.0 KiB | 2006-10-04 06:42:42 |
| wellington-Category-checksrc.html | 7.7 KiB | 2006-10-04 06:42:42 |
| wellington-ChromoViz-buildsrc.html | 4.1 KiB | 2006-10-04 06:42:42 |
| wellington-ChromoViz-checksrc.html | 6.8 KiB | 2006-10-04 06:42:43 |
| wellington-CoCiteStats-buildsrc.html | 4.0 KiB | 2006-10-04 06:42:43 |
| wellington-CoCiteStats-checksrc.html | 6.1 KiB | 2006-10-04 06:42:43 |
| wellington-DEDS-buildsrc.html | 7.3 KiB | 2006-10-04 06:42:44 |
| wellington-DEDS-checksrc.html | 8.6 KiB | 2006-10-04 06:42:44 |
| wellington-DNAcopy-buildsrc.html | 6.4 KiB | 2006-10-04 06:42:44 |
| wellington-DNAcopy-checksrc.html | 7.6 KiB | 2006-10-04 06:42:44 |
| wellington-DynDoc-buildsrc.html | 3.9 KiB | 2006-10-04 06:42:44 |
| wellington-DynDoc-checksrc.html | 6.4 KiB | 2006-10-04 06:42:44 |
| wellington-EBImage-buildsrc.html | 9.0 KiB | 2006-10-04 06:42:44 |
| wellington-EBImage-checksrc.html | 10.5 KiB | 2006-10-04 06:42:45 |
| wellington-EBarrays-buildsrc.html | 5.8 KiB | 2006-10-04 06:42:44 |
| wellington-EBarrays-checksrc.html | 7.4 KiB | 2006-10-04 06:42:44 |
| wellington-GEOquery-buildsrc.html | 4.9 KiB | 2006-10-04 06:42:47 |
| wellington-GEOquery-checksrc.html | 6.3 KiB | 2006-10-04 06:42:48 |
| wellington-GGtools-buildsrc.html | 5.8 KiB | 2006-10-04 06:42:48 |
| wellington-GGtools-checksrc.html | 7.2 KiB | 2006-10-04 06:42:48 |
| wellington-GLAD-buildsrc.html | 6.6 KiB | 2006-10-04 06:42:48 |
| wellington-GLAD-checksrc.html | 7.9 KiB | 2006-10-04 06:42:48 |
| wellington-GOstats-buildsrc.html | 6.1 KiB | 2006-10-04 06:42:49 |
| wellington-GOstats-checksrc.html | 7.8 KiB | 2006-10-04 06:42:49 |
| wellington-GeneMeta-buildsrc.html | 5.0 KiB | 2006-10-04 06:42:46 |
| wellington-GeneMeta-checksrc.html | 6.4 KiB | 2006-10-04 06:42:47 |
| wellington-GeneR-buildsrc.html | 11.7 KiB | 2006-10-04 06:42:47 |
| wellington-GeneR-checksrc.html | 13.0 KiB | 2006-10-04 06:42:47 |
| wellington-GeneSpring-buildsrc.html | 5.1 KiB | 2006-10-04 06:42:47 |
| wellington-GeneSpring-checksrc.html | 6.2 KiB | 2006-10-04 06:42:47 |
| wellington-GeneTS-buildsrc.html | 3.9 KiB | 2006-10-04 06:42:47 |
| wellington-GeneTS-checksrc.html | 5.1 KiB | 2006-10-04 06:42:47 |
| wellington-GeneTraffic-buildsrc.html | 4.1 KiB | 2006-10-04 06:42:47 |
| wellington-GeneTraffic-checksrc.html | 6.5 KiB | 2006-10-04 06:42:47 |
| wellington-GlobalAncova-buildsrc.html | 5.0 KiB | 2006-10-04 06:42:48 |
| wellington-GlobalAncova-checksrc.html | 6.4 KiB | 2006-10-04 06:42:48 |
| wellington-GraphAT-buildsrc.html | 3.9 KiB | 2006-10-04 06:42:49 |
| wellington-GraphAT-checksrc.html | 6.2 KiB | 2006-10-04 06:42:49 |
| wellington-HEM-buildsrc.html | 6.5 KiB | 2006-10-04 06:42:50 |
| wellington-HEM-checksrc.html | 7.8 KiB | 2006-10-04 06:42:50 |
| wellington-Harshlight-buildsrc.html | 5.1 KiB | 2006-10-04 06:42:49 |
| wellington-Harshlight-checksrc.html | 6.5 KiB | 2006-10-04 06:42:49 |
| wellington-Heatplus-buildsrc.html | 4.6 KiB | 2006-10-04 06:42:49 |
| wellington-Heatplus-checksrc.html | 5.8 KiB | 2006-10-04 06:42:50 |
| wellington-Icens-buildsrc.html | 4.0 KiB | 2006-10-04 06:42:50 |
| wellington-Icens-checksrc.html | 7.3 KiB | 2006-10-04 06:42:50 |
| wellington-KEGGSOAP-buildsrc.html | 3.9 KiB | 2006-10-04 06:42:51 |
| wellington-KEGGSOAP-checksrc.html | 6.3 KiB | 2006-10-04 06:42:51 |
| wellington-LMGene-buildsrc.html | 6.0 KiB | 2006-10-04 06:42:52 |
| wellington-LMGene-checksrc.html | 7.2 KiB | 2006-10-04 06:42:52 |
| wellington-LPE-buildsrc.html | 5.3 KiB | 2006-10-04 06:42:52 |
| wellington-LPE-checksrc.html | 6.5 KiB | 2006-10-04 06:42:53 |
| wellington-MANOR-buildsrc.html | 7.7 KiB | 2006-10-04 06:42:54 |
| wellington-MANOR-checksrc.html | 9.1 KiB | 2006-10-04 06:42:54 |
| wellington-MCRestimate-buildsrc.html | 5.9 KiB | 2006-10-04 06:42:55 |
| wellington-MCRestimate-checksrc.html | 7.2 KiB | 2006-10-04 06:42:55 |
| wellington-MLInterfaces-buildsrc.html | 7.2 KiB | 2006-10-04 06:42:56 |
| wellington-MLInterfaces-checksrc.html | 8.5 KiB | 2006-10-04 06:42:56 |
| wellington-MVCClass-buildsrc.html | 5.8 KiB | 2006-10-04 06:42:56 |
| wellington-MVCClass-checksrc.html | 7.1 KiB | 2006-10-04 06:42:56 |
| wellington-MantelCorr-buildsrc.html | 4.7 KiB | 2006-10-04 06:42:54 |
| wellington-MantelCorr-checksrc.html | 6.0 KiB | 2006-10-04 06:42:54 |
| wellington-MeasurementError.cor-buildsrc.html | 5.0 KiB | 2006-10-04 06:42:55 |
| wellington-MeasurementError.cor-checksrc.html | 6.0 KiB | 2006-10-04 06:42:55 |
| wellington-MergeMaid-buildsrc.html | 5.3 KiB | 2006-10-04 06:42:55 |
| wellington-MergeMaid-checksrc.html | 6.5 KiB | 2006-10-04 06:42:55 |
| wellington-Mfuzz-buildsrc.html | 5.4 KiB | 2006-10-04 06:42:55 |
| wellington-Mfuzz-checksrc.html | 6.7 KiB | 2006-10-04 06:42:55 |
| wellington-NodeInfo.html | 3.7 KiB | 2006-10-04 06:45:14 |
| wellington-OCplus-buildsrc.html | 5.7 KiB | 2006-10-04 06:42:57 |
| wellington-OCplus-checksrc.html | 6.9 KiB | 2006-10-04 06:42:57 |
| wellington-OLIN-buildsrc.html | 4.0 KiB | 2006-10-04 06:42:57 |
| wellington-OLIN-checksrc.html | 8.3 KiB | 2006-10-04 06:42:57 |
| wellington-OLINgui-buildsrc.html | 4.9 KiB | 2006-10-04 06:42:57 |
| wellington-OLINgui-checksrc.html | 6.0 KiB | 2006-10-04 06:42:58 |
| wellington-OrderedList-buildsrc.html | 5.5 KiB | 2006-10-04 06:42:58 |
| wellington-OrderedList-checksrc.html | 6.8 KiB | 2006-10-04 06:42:58 |
| wellington-PROcess-buildsrc.html | 5.7 KiB | 2006-10-04 06:43:00 |
| wellington-PROcess-checksrc.html | 6.9 KiB | 2006-10-04 06:43:01 |
| wellington-R-instpkgs.html | 14.5 KiB | 2006-10-04 06:45:14 |
| wellington-RBGL-buildsrc.html | 14.9 KiB | 2006-10-04 06:43:02 |
| wellington-RBGL-checksrc.html | 16.3 KiB | 2006-10-04 06:43:02 |
| wellington-RMAGEML-buildsrc.html | 9.3 KiB | 2006-10-04 06:43:03 |
| wellington-RMAGEML-checksrc.html | 10.9 KiB | 2006-10-04 06:43:03 |
| wellington-RMAPPER-buildsrc.html | 4.0 KiB | 2006-10-04 06:43:03 |
| wellington-RMAPPER-checksrc.html | 5.5 KiB | 2006-10-04 06:43:03 |
| wellington-ROC-buildsrc.html | 4.7 KiB | 2006-10-04 06:43:03 |
| wellington-ROC-checksrc.html | 6.1 KiB | 2006-10-04 06:43:03 |
| wellington-RSNPper-buildsrc.html | 3.9 KiB | 2006-10-04 06:43:04 |
| wellington-RSNPper-checksrc.html | 5.9 KiB | 2006-10-04 06:43:04 |
| wellington-RankProd-buildsrc.html | 4.9 KiB | 2006-10-04 06:43:01 |
| wellington-RankProd-checksrc.html | 6.2 KiB | 2006-10-04 06:43:01 |
| wellington-RbcBook1-buildsrc.html | 4.8 KiB | 2006-10-04 06:43:01 |
| wellington-RbcBook1-checksrc.html | 6.0 KiB | 2006-10-04 06:43:01 |
| wellington-Rdbi-buildsrc.html | 4.0 KiB | 2006-10-04 06:43:02 |
| wellington-Rdbi-checksrc.html | 6.3 KiB | 2006-10-04 06:43:02 |
| wellington-RdbiPgSQL-buildsrc.html | 4.1 KiB | 2006-10-04 06:43:02 |
| wellington-RdbiPgSQL-checksrc.html | 7.9 KiB | 2006-10-04 06:43:02 |
| wellington-Resourcerer-buildsrc.html | 4.9 KiB | 2006-10-04 06:43:02 |
| wellington-Resourcerer-checksrc.html | 6.3 KiB | 2006-10-04 06:43:02 |
| wellington-Rgraphviz-buildsrc.html | 8.6 KiB | 2006-10-04 06:43:03 |
| wellington-Rgraphviz-checksrc.html | 10.1 KiB | 2006-10-04 06:43:03 |
| wellington-Rredland-buildsrc.html | 6.5 KiB | 2006-10-04 06:43:03 |
| wellington-Rredland-checksrc.html | 10.4 KiB | 2006-10-04 06:43:03 |
| wellington-Ruuid-buildsrc.html | 8.7 KiB | 2006-10-04 06:43:04 |
| wellington-Ruuid-checksrc.html | 10.1 KiB | 2006-10-04 06:43:04 |
| wellington-SAGElyzer-buildsrc.html | 5.7 KiB | 2006-10-04 06:43:04 |
| wellington-SAGElyzer-checksrc.html | 7.1 KiB | 2006-10-04 06:43:04 |
| wellington-SAGx-buildsrc.html | 7.2 KiB | 2006-10-04 06:43:04 |
| wellington-SAGx-checksrc.html | 8.5 KiB | 2006-10-04 06:43:04 |
| wellington-SBMLR-buildsrc.html | 3.9 KiB | 2006-10-04 06:43:04 |
| wellington-SBMLR-checksrc.html | 6.0 KiB | 2006-10-04 06:43:05 |
| wellington-ScISI-buildsrc.html | 8.9 KiB | 2006-10-04 06:43:05 |
| wellington-ScISI-checksrc.html | 10.1 KiB | 2006-10-04 06:43:05 |
| wellington-TypeInfo-buildsrc.html | 5.3 KiB | 2006-10-04 06:43:09 |
| wellington-TypeInfo-checksrc.html | 6.9 KiB | 2006-10-04 06:43:09 |
| wellington-aCGH-buildsrc.html | 6.6 KiB | 2006-10-04 06:42:36 |
| wellington-aCGH-checksrc.html | 8.0 KiB | 2006-10-04 06:42:36 |
| wellington-adSplit-buildsrc.html | 5.7 KiB | 2006-10-04 06:42:36 |
| wellington-adSplit-checksrc.html | 7.1 KiB | 2006-10-04 06:42:36 |
| wellington-affxparser-buildsrc.html | 4.0 KiB | 2006-10-04 06:42:36 |
| wellington-affxparser-checksrc.html | 55.5 KiB | 2006-10-04 06:42:36 |
| wellington-affy-buildsrc.html | 11.5 KiB | 2006-10-04 06:42:37 |
| wellington-affy-checksrc.html | 13.2 KiB | 2006-10-04 06:42:37 |
| wellington-affyPLM-buildsrc.html | 14.8 KiB | 2006-10-04 06:42:38 |
| wellington-affyPLM-checksrc.html | 16.4 KiB | 2006-10-04 06:42:38 |
| wellington-affyQCReport-buildsrc.html | 4.7 KiB | 2006-10-04 06:42:38 |
| wellington-affyQCReport-checksrc.html | 6.0 KiB | 2006-10-04 06:42:38 |
| wellington-affycomp-buildsrc.html | 5.9 KiB | 2006-10-04 06:42:37 |
| wellington-affycomp-checksrc.html | 7.1 KiB | 2006-10-04 06:42:37 |
| wellington-affycoretools-buildsrc.html | 6.8 KiB | 2006-10-04 06:42:37 |
| wellington-affycoretools-checksrc.html | 8.2 KiB | 2006-10-04 06:42:37 |
| wellington-affydata-buildsrc.html | 4.3 KiB | 2006-10-04 06:42:37 |
| wellington-affydata-checksrc.html | 5.6 KiB | 2006-10-04 06:42:37 |
| wellington-affyio-buildsrc.html | 3.9 KiB | 2006-10-04 06:42:37 |
| wellington-affyio-checksrc.html | 8.4 KiB | 2006-10-04 06:42:37 |
| wellington-affylmGUI-buildsrc.html | 4.9 KiB | 2006-10-04 06:42:37 |
| wellington-affylmGUI-checksrc.html | 6.1 KiB | 2006-10-04 06:42:37 |
| wellington-affypdnn-buildsrc.html | 4.0 KiB | 2006-10-04 06:42:37 |
| wellington-affypdnn-checksrc.html | 6.4 KiB | 2006-10-04 06:42:38 |
| wellington-altcdfenvs-buildsrc.html | 5.9 KiB | 2006-10-04 06:42:38 |
| wellington-altcdfenvs-checksrc.html | 7.1 KiB | 2006-10-04 06:42:38 |
| wellington-annaffy-buildsrc.html | 7.6 KiB | 2006-10-04 06:42:38 |
| wellington-annaffy-checksrc.html | 9.0 KiB | 2006-10-04 06:42:38 |
| wellington-annotate-buildsrc.html | 8.1 KiB | 2006-10-04 06:42:38 |
| wellington-annotate-checksrc.html | 9.4 KiB | 2006-10-04 06:42:38 |
| wellington-apComplex-buildsrc.html | 5.5 KiB | 2006-10-04 06:42:38 |
| wellington-apComplex-checksrc.html | 6.7 KiB | 2006-10-04 06:42:39 |
| wellington-applera-buildsrc.html | 5.4 KiB | 2006-10-04 06:42:39 |
| wellington-applera-checksrc.html | 6.7 KiB | 2006-10-04 06:42:39 |
| wellington-aroma.light-buildsrc.html | 4.0 KiB | 2006-10-04 06:42:39 |
| wellington-aroma.light-checksrc.html | 7.4 KiB | 2006-10-04 06:42:39 |
| wellington-arrayMagic-buildsrc.html | 7.7 KiB | 2006-10-04 06:42:39 |
| wellington-arrayMagic-checksrc.html | 9.0 KiB | 2006-10-04 06:42:39 |
| wellington-arrayQCplot-buildsrc.html | 4.1 KiB | 2006-10-04 06:42:39 |
| wellington-arrayQCplot-checksrc.html | 4.2 KiB | 2006-10-04 06:42:39 |
| wellington-arrayQuality-buildsrc.html | 4.1 KiB | 2006-10-04 06:42:39 |
| wellington-arrayQuality-checksrc.html | 7.8 KiB | 2006-10-04 06:42:39 |
| wellington-beadarray-buildsrc.html | 4.0 KiB | 2006-10-04 06:42:39 |
| wellington-beadarray-checksrc.html | 10.3 KiB | 2006-10-04 06:42:40 |
| wellington-beadarraySNP-buildsrc.html | 6.4 KiB | 2006-10-04 06:42:40 |
| wellington-beadarraySNP-checksrc.html | 7.8 KiB | 2006-10-04 06:42:40 |
| wellington-bim-buildsrc.html | 12.3 KiB | 2006-10-04 06:42:40 |
| wellington-bim-checksrc.html | 13.6 KiB | 2006-10-04 06:42:40 |
| wellington-bioDist-buildsrc.html | 4.0 KiB | 2006-10-04 06:42:41 |
| wellington-bioDist-checksrc.html | 6.1 KiB | 2006-10-04 06:42:41 |
| wellington-biocViews-buildsrc.html | 5.8 KiB | 2006-10-04 06:42:41 |
| wellington-biocViews-checksrc.html | 7.2 KiB | 2006-10-04 06:42:41 |
| wellington-biomaRt-buildsrc.html | 5.9 KiB | 2006-10-04 06:42:41 |
| wellington-biomaRt-checksrc.html | 7.2 KiB | 2006-10-04 06:42:41 |
| wellington-bridge-buildsrc.html | 8.7 KiB | 2006-10-04 06:42:42 |
| wellington-bridge-checksrc.html | 10.2 KiB | 2006-10-04 06:42:42 |
| wellington-cellHTS-buildsrc.html | 6.2 KiB | 2006-10-04 06:42:42 |
| wellington-cellHTS-checksrc.html | 7.6 KiB | 2006-10-04 06:42:42 |
| wellington-cghMCR-buildsrc.html | 5.3 KiB | 2006-10-04 06:42:42 |
| wellington-cghMCR-checksrc.html | 6.7 KiB | 2006-10-04 06:42:42 |
| wellington-clusterStab-buildsrc.html | 5.3 KiB | 2006-10-04 06:42:43 |
| wellington-clusterStab-checksrc.html | 6.6 KiB | 2006-10-04 06:42:43 |
| wellington-codelink-buildsrc.html | 6.5 KiB | 2006-10-04 06:42:43 |
| wellington-codelink-checksrc.html | 7.9 KiB | 2006-10-04 06:42:43 |
| wellington-convert-buildsrc.html | 4.3 KiB | 2006-10-04 06:42:43 |
| wellington-convert-checksrc.html | 5.5 KiB | 2006-10-04 06:42:43 |
| wellington-copa-buildsrc.html | 5.3 KiB | 2006-10-04 06:42:43 |
| wellington-copa-checksrc.html | 6.7 KiB | 2006-10-04 06:42:43 |
| wellington-ctc-buildsrc.html | 4.7 KiB | 2006-10-04 06:42:43 |
| wellington-ctc-checksrc.html | 6.0 KiB | 2006-10-04 06:42:43 |
| wellington-daMA-buildsrc.html | 3.9 KiB | 2006-10-04 06:42:43 |
| wellington-daMA-checksrc.html | 6.1 KiB | 2006-10-04 06:42:44 |
| wellington-diffGeneAnalysis-buildsrc.html | 5.1 KiB | 2006-10-04 06:42:44 |
| wellington-diffGeneAnalysis-checksrc.html | 6.2 KiB | 2006-10-04 06:42:44 |
| wellington-ecolitk-buildsrc.html | 5.0 KiB | 2006-10-04 06:42:45 |
| wellington-ecolitk-checksrc.html | 6.2 KiB | 2006-10-04 06:42:45 |
| wellington-edd-buildsrc.html | 5.1 KiB | 2006-10-04 06:42:45 |
| wellington-edd-checksrc.html | 6.4 KiB | 2006-10-04 06:42:45 |
| wellington-factDesign-buildsrc.html | 4.7 KiB | 2006-10-04 06:42:45 |
| wellington-factDesign-checksrc.html | 5.9 KiB | 2006-10-04 06:42:45 |
| wellington-fdrame-buildsrc.html | 4.9 KiB | 2006-10-04 06:42:45 |
| wellington-fdrame-checksrc.html | 6.1 KiB | 2006-10-04 06:42:45 |
| wellington-gaggle-buildsrc.html | 5.0 KiB | 2006-10-04 06:42:45 |
| wellington-gaggle-checksrc.html | 6.4 KiB | 2006-10-04 06:42:45 |
| wellington-gcrma-buildsrc.html | 6.0 KiB | 2006-10-04 06:42:45 |
| wellington-gcrma-checksrc.html | 7.4 KiB | 2006-10-04 06:42:46 |
| wellington-genArise-buildsrc.html | 7.9 KiB | 2006-10-04 06:42:46 |
| wellington-genArise-checksrc.html | 9.0 KiB | 2006-10-04 06:42:46 |
| wellington-geneRecommender-buildsrc.html | 4.6 KiB | 2006-10-04 06:42:47 |
| wellington-geneRecommender-checksrc.html | 5.9 KiB | 2006-10-04 06:42:47 |
| wellington-genefilter-buildsrc.html | 7.6 KiB | 2006-10-04 06:42:46 |
| wellington-genefilter-checksrc.html | 9.1 KiB | 2006-10-04 06:42:46 |
| wellington-geneplotter-buildsrc.html | 5.9 KiB | 2006-10-04 06:42:47 |
| wellington-geneplotter-checksrc.html | 7.3 KiB | 2006-10-04 06:42:47 |
| wellington-gff3Plotter-buildsrc.html | 4.7 KiB | 2006-10-04 06:42:48 |
| wellington-gff3Plotter-checksrc.html | 6.0 KiB | 2006-10-04 06:42:48 |
| wellington-globaltest-buildsrc.html | 6.2 KiB | 2006-10-04 06:42:48 |
| wellington-globaltest-checksrc.html | 7.6 KiB | 2006-10-04 06:42:48 |
| wellington-goTools-buildsrc.html | 4.9 KiB | 2006-10-04 06:42:49 |
| wellington-goTools-checksrc.html | 6.4 KiB | 2006-10-04 06:42:49 |
| wellington-gpls-buildsrc.html | 4.8 KiB | 2006-10-04 06:42:49 |
| wellington-gpls-checksrc.html | 6.0 KiB | 2006-10-04 06:42:49 |
| wellington-graph-buildsrc.html | 8.0 KiB | 2006-10-04 06:42:49 |
| wellington-graph-checksrc.html | 9.4 KiB | 2006-10-04 06:42:49 |
| wellington-hexbin-buildsrc.html | 7.1 KiB | 2006-10-04 06:42:50 |
| wellington-hexbin-checksrc.html | 9.5 KiB | 2006-10-04 06:42:50 |
| wellington-hopach-buildsrc.html | 5.5 KiB | 2006-10-04 06:42:50 |
| wellington-hopach-checksrc.html | 6.7 KiB | 2006-10-04 06:42:50 |
| wellington-hypergraph-buildsrc.html | 4.0 KiB | 2006-10-04 06:42:50 |
| wellington-hypergraph-checksrc.html | 6.2 KiB | 2006-10-04 06:42:50 |
| wellington-iSNetwork-buildsrc.html | 8.2 KiB | 2006-10-04 06:42:51 |
| wellington-iSNetwork-checksrc.html | 9.5 KiB | 2006-10-04 06:42:51 |
| wellington-iSPlot-buildsrc.html | 6.4 KiB | 2006-10-04 06:42:51 |
| wellington-iSPlot-checksrc.html | 7.7 KiB | 2006-10-04 06:42:51 |
| wellington-idiogram-buildsrc.html | 4.7 KiB | 2006-10-04 06:42:50 |
| wellington-idiogram-checksrc.html | 6.0 KiB | 2006-10-04 06:42:50 |
| wellington-impute-buildsrc.html | 4.0 KiB | 2006-10-04 06:42:51 |
| wellington-impute-checksrc.html | 6.1 KiB | 2006-10-04 06:42:51 |
| wellington-lapmix-buildsrc.html | 4.5 KiB | 2006-10-04 06:42:52 |
| wellington-lapmix-checksrc.html | 5.7 KiB | 2006-10-04 06:42:52 |
| wellington-limma-buildsrc.html | 12.1 KiB | 2006-10-04 06:42:52 |
| wellington-limma-checksrc.html | 60.9 KiB | 2006-10-04 06:42:52 |
| wellington-limmaGUI-buildsrc.html | 4.5 KiB | 2006-10-04 06:42:52 |
| wellington-limmaGUI-checksrc.html | 5.7 KiB | 2006-10-04 06:42:52 |
| wellington-logicFS-buildsrc.html | 4.9 KiB | 2006-10-04 06:42:52 |
| wellington-logicFS-checksrc.html | 6.1 KiB | 2006-10-04 06:42:52 |
| wellington-maCorrPlot-buildsrc.html | 4.5 KiB | 2006-10-04 06:42:53 |
| wellington-maCorrPlot-checksrc.html | 5.8 KiB | 2006-10-04 06:42:53 |
| wellington-maDB-buildsrc.html | 3.9 KiB | 2006-10-04 06:42:53 |
| wellington-maDB-checksrc.html | 9.2 KiB | 2006-10-04 06:42:53 |
| wellington-maSigPro-buildsrc.html | 6.1 KiB | 2006-10-04 06:42:54 |
| wellington-maSigPro-checksrc.html | 7.3 KiB | 2006-10-04 06:42:54 |
| wellington-maanova-buildsrc.html | 6.7 KiB | 2006-10-04 06:42:53 |
| wellington-maanova-checksrc.html | 8.0 KiB | 2006-10-04 06:42:53 |
| wellington-macat-buildsrc.html | 5.9 KiB | 2006-10-04 06:42:53 |
| wellington-macat-checksrc.html | 7.1 KiB | 2006-10-04 06:42:53 |
| wellington-made4-buildsrc.html | 6.6 KiB | 2006-10-04 06:42:53 |
| wellington-made4-checksrc.html | 7.7 KiB | 2006-10-04 06:42:53 |
| wellington-makecdfenv-buildsrc.html | 5.7 KiB | 2006-10-04 06:42:53 |
| wellington-makecdfenv-checksrc.html | 7.1 KiB | 2006-10-04 06:42:54 |
| wellington-marray-buildsrc.html | 11.6 KiB | 2006-10-04 06:42:54 |
| wellington-marray-checksrc.html | 13.2 KiB | 2006-10-04 06:42:54 |
| wellington-matchprobes-buildsrc.html | 5.7 KiB | 2006-10-04 06:42:54 |
| wellington-matchprobes-checksrc.html | 7.1 KiB | 2006-10-04 06:42:54 |
| wellington-metaArray-buildsrc.html | 6.4 KiB | 2006-10-04 06:42:55 |
| wellington-metaArray-checksrc.html | 7.7 KiB | 2006-10-04 06:42:55 |
| wellington-mmgmos-buildsrc.html | 85.1 KiB | 2006-10-04 06:42:56 |
| wellington-mmgmos-checksrc.html | 86.4 KiB | 2006-10-04 06:42:56 |
| wellington-multtest-buildsrc.html | 4.1 KiB | 2006-10-04 06:42:56 |
| wellington-multtest-checksrc.html | 9.3 KiB | 2006-10-04 06:42:56 |
| wellington-nem-buildsrc.html | 5.1 KiB | 2006-10-04 06:42:57 |
| wellington-nem-checksrc.html | 6.3 KiB | 2006-10-04 06:42:57 |
| wellington-nnNorm-buildsrc.html | 4.5 KiB | 2006-10-04 06:42:57 |
| wellington-nnNorm-checksrc.html | 5.6 KiB | 2006-10-04 06:42:57 |
| wellington-nudge-buildsrc.html | 4.9 KiB | 2006-10-04 06:42:57 |
| wellington-nudge-checksrc.html | 6.2 KiB | 2006-10-04 06:42:57 |
| wellington-ontoTools-buildsrc.html | 7.4 KiB | 2006-10-04 06:42:58 |
| wellington-ontoTools-checksrc.html | 8.6 KiB | 2006-10-04 06:42:58 |
| wellington-pairseqsim-buildsrc.html | 5.7 KiB | 2006-10-04 06:42:58 |
| wellington-pairseqsim-checksrc.html | 7.0 KiB | 2006-10-04 06:42:58 |
| wellington-pamr-buildsrc.html | 4.0 KiB | 2006-10-04 06:42:58 |
| wellington-pamr-checksrc.html | 7.8 KiB | 2006-10-04 06:42:58 |
| wellington-panp-buildsrc.html | 4.5 KiB | 2006-10-04 06:42:58 |
| wellington-panp-checksrc.html | 5.7 KiB | 2006-10-04 06:42:58 |
| wellington-pathRender-buildsrc.html | 4.0 KiB | 2006-10-04 06:42:58 |
| wellington-pathRender-checksrc.html | 6.1 KiB | 2006-10-04 06:42:59 |
| wellington-pcaMethods-buildsrc.html | 5.7 KiB | 2006-10-04 06:42:59 |
| wellington-pcaMethods-checksrc.html | 7.1 KiB | 2006-10-04 06:42:59 |
| wellington-pcot2-buildsrc.html | 4.5 KiB | 2006-10-04 06:42:59 |
| wellington-pcot2-checksrc.html | 5.8 KiB | 2006-10-04 06:42:59 |
| wellington-pdmclass-buildsrc.html | 4.7 KiB | 2006-10-04 06:42:59 |
| wellington-pdmclass-checksrc.html | 6.1 KiB | 2006-10-04 06:42:59 |
| wellington-pgUtils-buildsrc.html | 3.9 KiB | 2006-10-04 06:42:59 |
| wellington-pgUtils-checksrc.html | 7.0 KiB | 2006-10-04 06:42:59 |
| wellington-pickgene-buildsrc.html | 4.8 KiB | 2006-10-04 06:42:59 |
| wellington-pickgene-checksrc.html | 6.0 KiB | 2006-10-04 06:42:59 |
| wellington-pkgDepTools-buildsrc.html | 4.8 KiB | 2006-10-04 06:43:00 |
| wellington-pkgDepTools-checksrc.html | 6.2 KiB | 2006-10-04 06:43:00 |
| wellington-plgem-buildsrc.html | 4.5 KiB | 2006-10-04 06:43:00 |
| wellington-plgem-checksrc.html | 5.8 KiB | 2006-10-04 06:43:00 |
| wellington-plier-buildsrc.html | 3.9 KiB | 2006-10-04 06:43:00 |
| wellington-plier-checksrc.html | 6.8 KiB | 2006-10-04 06:43:00 |
| wellington-ppiStats-buildsrc.html | 4.8 KiB | 2006-10-04 06:43:00 |
| wellington-ppiStats-checksrc.html | 6.0 KiB | 2006-10-04 06:43:00 |
| wellington-prada-buildsrc.html | 7.3 KiB | 2006-10-04 06:43:00 |
| wellington-prada-checksrc.html | 8.7 KiB | 2006-10-04 06:43:00 |
| wellington-quantsmooth-buildsrc.html | 5.2 KiB | 2006-10-04 06:43:01 |
| wellington-quantsmooth-checksrc.html | 6.6 KiB | 2006-10-04 06:43:01 |
| wellington-qvalue-buildsrc.html | 4.7 KiB | 2006-10-04 06:43:01 |
| wellington-qvalue-checksrc.html | 5.9 KiB | 2006-10-04 06:43:01 |
| wellington-rama-buildsrc.html | 4.0 KiB | 2006-10-04 06:43:01 |
| wellington-rama-checksrc.html | 11.3 KiB | 2006-10-04 06:43:01 |
| wellington-reb-buildsrc.html | 6.4 KiB | 2006-10-04 06:43:02 |
| wellington-reb-checksrc.html | 7.8 KiB | 2006-10-04 06:43:02 |
| wellington-rflowcyt-buildsrc.html | 9.6 KiB | 2006-10-04 06:43:02 |
| wellington-rflowcyt-checksrc.html | 11.7 KiB | 2006-10-04 06:43:03 |
| wellington-safe-buildsrc.html | 4.5 KiB | 2006-10-04 06:43:04 |
| wellington-safe-checksrc.html | 5.8 KiB | 2006-10-04 06:43:04 |
| wellington-sagenhaft-buildsrc.html | 4.9 KiB | 2006-10-04 06:43:04 |
| wellington-sagenhaft-checksrc.html | 6.1 KiB | 2006-10-04 06:43:04 |
| wellington-sigPathway-buildsrc.html | 6.7 KiB | 2006-10-04 06:43:05 |
| wellington-sigPathway-checksrc.html | 8.2 KiB | 2006-10-04 06:43:05 |
| wellington-siggenes-buildsrc.html | 6.2 KiB | 2006-10-04 06:43:05 |
| wellington-siggenes-checksrc.html | 7.5 KiB | 2006-10-04 06:43:05 |
| wellington-simpleaffy-buildsrc.html | 8.3 KiB | 2006-10-04 06:43:05 |
| wellington-simpleaffy-checksrc.html | 9.9 KiB | 2006-10-04 06:43:06 |
| wellington-simulatorAPMS-buildsrc.html | 6.1 KiB | 2006-10-04 06:43:06 |
| wellington-simulatorAPMS-checksrc.html | 7.4 KiB | 2006-10-04 06:43:06 |
| wellington-sizepower-buildsrc.html | 4.7 KiB | 2006-10-04 06:43:06 |
| wellington-sizepower-checksrc.html | 5.9 KiB | 2006-10-04 06:43:06 |
| wellington-snapCGH-buildsrc.html | 8.6 KiB | 2006-10-04 06:43:06 |
| wellington-snapCGH-checksrc.html | 9.9 KiB | 2006-10-04 06:43:06 |
| wellington-spikeLI-buildsrc.html | 5.0 KiB | 2006-10-04 06:43:07 |
| wellington-spikeLI-checksrc.html | 6.3 KiB | 2006-10-04 06:43:07 |
| wellington-splicegear-buildsrc.html | 6.2 KiB | 2006-10-04 06:43:07 |
| wellington-splicegear-checksrc.html | 7.5 KiB | 2006-10-04 06:43:07 |
| wellington-splots-buildsrc.html | 4.3 KiB | 2006-10-04 06:43:07 |
| wellington-splots-checksrc.html | 5.7 KiB | 2006-10-04 06:43:07 |
| wellington-spotSegmentation-buildsrc.html | 4.2 KiB | 2006-10-04 06:43:07 |
| wellington-spotSegmentation-checksrc.html | 6.2 KiB | 2006-10-04 06:43:07 |
| wellington-sscore-buildsrc.html | 5.3 KiB | 2006-10-04 06:43:07 |
| wellington-sscore-checksrc.html | 6.5 KiB | 2006-10-04 06:43:08 |
| wellington-ssize-buildsrc.html | 4.3 KiB | 2006-10-04 06:43:08 |
| wellington-ssize-checksrc.html | 5.6 KiB | 2006-10-04 06:43:08 |
| wellington-stam-buildsrc.html | 6.4 KiB | 2006-10-04 06:43:08 |
| wellington-stam-checksrc.html | 7.7 KiB | 2006-10-04 06:43:08 |
| wellington-stepNorm-buildsrc.html | 3.9 KiB | 2006-10-04 06:43:08 |
| wellington-stepNorm-checksrc.html | 6.2 KiB | 2006-10-04 06:43:08 |
| wellington-tilingArray-buildsrc.html | 6.9 KiB | 2006-10-04 06:43:08 |
| wellington-tilingArray-checksrc.html | 8.4 KiB | 2006-10-04 06:43:08 |
| wellington-timecourse-buildsrc.html | 5.2 KiB | 2006-10-04 06:43:08 |
| wellington-timecourse-checksrc.html | 6.5 KiB | 2006-10-04 06:43:09 |
| wellington-tkWidgets-buildsrc.html | 6.7 KiB | 2006-10-04 06:43:09 |
| wellington-tkWidgets-checksrc.html | 7.9 KiB | 2006-10-04 06:43:09 |
| wellington-twilight-buildsrc.html | 6.2 KiB | 2006-10-04 06:43:09 |
| wellington-twilight-checksrc.html | 7.6 KiB | 2006-10-04 06:43:09 |
| wellington-vsn-buildsrc.html | 4.9 KiB | 2006-10-04 06:43:09 |
| wellington-vsn-checksrc.html | 6.4 KiB | 2006-10-04 06:43:09 |
| wellington-weaver-buildsrc.html | 4.4 KiB | 2006-10-04 06:43:09 |
| wellington-weaver-checksrc.html | 5.7 KiB | 2006-10-04 06:43:09 |
| wellington-webbioc-buildsrc.html | 5.0 KiB | 2006-10-04 06:43:09 |
| wellington-webbioc-checksrc.html | 6.2 KiB | 2006-10-04 06:43:10 |
| wellington-widgetInvoke-buildsrc.html | 4.8 KiB | 2006-10-04 06:43:10 |
| wellington-widgetInvoke-checksrc.html | 6.1 KiB | 2006-10-04 06:43:10 |
| wellington-widgetTools-buildsrc.html | 5.1 KiB | 2006-10-04 06:43:10 |
| wellington-widgetTools-checksrc.html | 6.4 KiB | 2006-10-04 06:43:10 |
| wellington-xcms-buildsrc.html | 9.2 KiB | 2006-10-04 06:43:10 |
| wellington-xcms-checksrc.html | 11.7 KiB | 2006-10-04 06:43:10 |