Back to the "Multiple platform build/check report"
Version Built
ABarray 1.2.0 2.4.1
acepack 1.3-2.2 2.4.1
aCGH 1.8.0 2.4.1
ade4 1.4-2 2.4.1
adSplit 1.4.0 2.4.1
affy 1.12.2 2.4.1
affycomp 1.10.0 2.4.1
affycoretools 1.6.1 2.4.1
affydata 1.10.0 2.4.1
affyio 1.2.0 2.4.1
affylmGUI 1.8.0 2.4.1
affypdnn 1.8.1 2.4.1
affyPLM 1.10.0 2.4.1
affyQCReport 1.12.0 2.4.1
akima 0.5-1 2.4.1
ALL 1.4.1 2.4.1
altcdfenvs 1.8.0 2.4.1
amap 0.7-3 2.4.1
annaffy 1.6.2 2.4.1
AnnBuilder 1.12.0 2.4.1
annotate 1.12.1 2.4.1
apComplex 1.8.0 2.4.1
ape 1.9-2 2.4.1
applera 1.4.0 2.4.1
aroma.light 1.2.0 2.4.1
arrayMagic 1.12.2 2.4.1
arrayQCplot 2.2.0 2.4.1
arrayQuality 1.10.0 2.4.1
base 2.4.1 2.4.1
beadarray 1.2.2 2.4.1
beadarraySNP 1.0.0 2.4.1
BeadExplorer 1.2.0 2.4.1
bim 1.01-5 2.4.1
Biobase 1.12.2 2.4.1
biocViews 1.2.0 2.4.1
bioDist 1.6.0 2.4.1
biomaRt 1.8.2 2.4.1
BioMVCClass 1.2.0 2.4.1
Biostrings 2.2.1 2.4.1
boot 1.2-27 2.4.1
bridge 1.6.0 2.4.1
BSgenome 1.2.3 2.4.1
BSgenome.Celegans.UCSC.ce2 1.0.0 2.4.1
cairoDevice 1.2 2.4.1
car 1.2-1 2.4.1
Category 2.0.3 2.4.1
cellHTS 1.4.0 2.4.1
cghMCR 1.4.0 2.4.1
ChromoViz 1.6.0 2.4.1
chron 2.3-10 2.4.1
class 7.2-32 2.4.1
cluster 1.11.4 2.4.1
clusterStab 1.6.0 2.4.1
cMAP 1.14.1 2.4.1
CoCiteStats 1.6.0 2.4.1
coda 0.10-7 2.4.1
codelink 1.2.2 2.4.1
codetools 0.0-3 2.4.1
colonCA 1.4.0 2.4.1
colorspace 0.95 2.4.1
combinat 0.0-6 2.4.1
convert 1.8.0 2.4.1
copa 1.2.0 2.4.1
corpcor 1.4.4 2.4.1
ctc 1.8.0 2.4.1
DAAG 0.91 2.4.1
daMA 1.6.0 2.4.1
datasets 2.4.1 2.4.1
DBI 0.1-12 2.4.1
DEDS 1.6.0 2.4.1
deldir 0.0-5 2.4.1
Design 2.0-12 2.4.1
diffGeneAnalysis 1.16.0 2.4.1
digest 0.2.3 2.4.1
DNAcopy 1.8.1 2.4.1
DynDoc 1.12.0 2.4.1
dynlm 0.1-2 2.4.1
e1071 1.5-16 2.4.1
EBarrays 1.6.0 2.4.1
Ecdat 0.1-5 2.4.1
ecolicdf 1.14.0 2.4.1
ecoliLeucine 1.2.0 2.4.1
ecolitk 1.6.0 2.4.1
edd 1.12.0 2.4.1
ellipse 0.3-4 2.4.1
EMV 1.3.1 2.4.1
faahKO 1.2.0 2.4.1
factDesign 1.8.0 2.4.1
fCalendar 240.10068 2.4.1
fdrame 1.6.0 2.4.1
fdrtool 1.1.0 2.4.1
fEcofin 240.10067 2.4.1
fibroEset 1.4.1 2.4.1
fields 3.04 2.4.1
foreign 0.8-18 2.4.1
gaggle 1.2.0 2.4.1
gam 0.98 2.4.1
gbm 1.5-7 2.4.1
gcrma 2.6.0 2.4.1
gdata 2.3.1 2.4.1
gee 4.13-12 2.4.1
genArise 1.10.0 2.4.1
GeneCycle 1.0.2 2.4.1
genefilter 1.12.0 2.4.1
GeneMeta 1.6.0 2.4.1
GeneNet 1.1.0 2.4.1
geneplotter 1.12.0 2.4.1
GeneR 2.4.0 2.4.1
geneRecommender 1.6.0 2.4.1
GeneSpring 2.6.0 2.4.1
GeneTraffic 1.6.0 2.4.1
GeneTS 2.12.0 2.4.1
GEOquery 1.8.0 2.4.1
gff3Plotter 1.10.0 2.4.1
GGtools 1.2.0 2.4.1
GLAD 1.8.0 2.4.1
GlobalAncova 2.4.0 2.4.1
globaltest 4.4.0 2.4.1
GO 1.14.1 2.4.1
golubEsets 1.4.2 2.4.1
GOstats 2.0.4 2.4.1
goTools 1.6.0 2.4.1
gpclib 1.4 2.4.1
gpls 1.6.0 2.4.1
graph 1.12.1 2.4.1
GraphAT 1.6.0 2.4.1
graphics 2.4.1 2.4.1
grDevices 2.4.1 2.4.1
grid 2.4.1 2.4.1
gridBase 0.4-3 2.4.1
gtkDevice 1.9-4 2.4.1
gtools 2.3.0 2.4.1
Harshlight 1.2.0 2.4.1
Heatplus 1.4.0 2.4.1
HEM 1.6.0 2.4.1
hexbin 1.8.0 2.4.1
hgfocus 1.14.0 2.4.1
hgfocuscdf 1.14.0 2.4.1
hgu133a 1.14.0 2.4.1
hgu133acdf 1.14.0 2.4.1
hgu133aprobe 1.14.0 2.4.1
hgu95acdf 1.14.0 2.4.1
hgu95av2 1.14.0 2.4.1
hgu95av2cdf 1.14.0 2.4.1
hgu95av2probe 1.14.0 2.4.1
Hmisc 3.2-1 2.4.1
hopach 1.8.0 2.4.1
hsahomology 1.14.2 2.4.1
hu6800 1.14.0 2.4.1
hu6800cdf 1.14.0 2.4.1
hu6800probe 1.14.0 2.4.1
humanLLMappings 1.14.2 2.4.1
hypergraph 1.6.0 2.4.1
Icens 1.6.0 2.4.1
idiogram 1.8.0 2.4.1
ipred 0.8-3 2.4.1
iSNetwork 1.4.0 2.4.1
iSPlot 1.8.0 2.4.1
its 1.1.5 2.4.1
Iyer517 1.4.1 2.4.1
KEGG 1.14.1 2.4.1
KEGGSOAP 1.8.3 2.4.1
KernSmooth 2.22-19 2.4.1
lapmix 1.0.0 2.4.1
lattice 0.14-16 2.4.1
leaps 2.7 2.4.1
limma 2.9.13 2.4.1
limmaGUI 1.10.0 2.4.1
LMGene 1.5 2.4.1
lmtest 0.9-18 2.4.1
locfdr 1.1-3 2.4.1
locfit 1.5-3 2.4.1
lodplot 1.1 2.4.1
logicFS 1.4.0 2.4.1
LogicReg 1.4.3 2.4.1
longitudinal 1.1.3 2.4.1
LPE 1.8.0 2.4.1
maanova 1.4.0 2.4.1
macat 1.8.0 2.4.1
maCorrPlot 1.4.0 2.4.1
maDB 1.6.0 2.4.1
made4 1.8.0 2.4.1
makecdfenv 1.12.0 2.4.1
MANOR 1.6.0 2.4.1
MantelCorr 1.4.0 2.4.1
mapproj 1.1-7.1 2.4.1
maps 2.0-35 2.4.1
maptools 0.6-8 2.4.1
marray 1.12.0 2.4.1
maSigPro 1.6.0 2.4.1
MASS 7.2-32 2.4.1
matchprobes 1.6.0 2.4.1
mclust 3.1-0 2.4.1
MCMCpack 0.8-1 2.4.1
MCRestimate 1.8.0 2.4.1
mda 0.3-2 2.4.1
MeasurementError.cor 1.6.0 2.4.1
MergeMaid 2.6.0 2.4.1
metaArray 1.6.0 2.4.1
methods 2.4.1 2.4.1
Mfuzz 1.2.0 2.4.1
mgcv 1.3-22 2.4.1
minpack.lm 1.0-5 2.4.1
mlbench 1.1-2 2.4.1
MLInterfaces 1.8.1 2.4.1
mmgmos 1.6.0 2.4.1
multtest 1.12.0 2.4.1
MVCClass 1.8.0 2.4.1
mvtnorm 0.7-5 2.4.1
nem 1.2.0 2.4.1
nlme 3.1-79 2.4.1
nnet 7.2-32 2.4.1
nnNorm 1.10.0 2.4.1
nudge 1.4.0 2.4.1
OCplus 1.8.0 2.4.1
odesolve 0.5-16 2.4.1
OLIN 1.10.0 2.4.1
OLINgui 1.8.0 2.4.1
ontoTools 1.10.0 2.4.1
OrderedList 1.6.0 2.4.1
oz 1.0-15 2.4.1
pairseqsim 1.8.0 2.4.1
pamr 1.32.0 2.4.1
panp 1.4.0 2.4.1
pathRender 1.2.0 2.4.1
PBSmapping 2.09 2.4.1
pcaMethods 1.2.3 2.4.1
pcot2 1.2.0 2.4.1
pdmclass 1.6.0 2.4.1
pgUtils 1.6.0 2.4.1
pickgene 1.6.0 2.4.1
pixmap 0.4-6 2.4.1
pkgDepTools 1.0.1 2.4.1
plasmodiumanophelescdf 1.14.0 2.4.1
plgem 1.6.0 2.4.1
plier 1.4.0 2.4.1
pls 2.0-0 2.4.1
ppiData 0.0.9 2.4.1
ppiStats 1.0.0 2.4.1
prada 1.10.1 2.4.1
PROcess 1.10.0 2.4.1
qcc 1.2 2.4.1
qtl 1.05-2 2.4.1
quadprog 1.4-10 2.4.1
quantreg 4.05 2.4.1
quantsmooth 1.0.0 2.4.1
qvalue 1.8.0 2.4.1
R2HTML 1.58 2.4.1
rae230a 1.14.0 2.4.1
rae230aprobe 1.14.0 2.4.1
rama 1.6.0 2.4.1
randomForest 4.5-18 2.4.1
RankProd 2.6.0 2.4.1
RArcInfo 0.4-7 2.4.1
RbcBook1 1.2.0 2.4.1
RBGL 1.10.0 2.4.1
RColorBrewer 0.2-3 2.4.1
RCurl 0.8-0 2.4.1
Rdbi 1.8.0 2.4.1
RdbiPgSQL 1.8.0 2.4.1
reb 1.6.0 2.4.1
Resourcerer 1.8.0 2.4.1
rfcdmin 1.6.0 2.4.1
rflowcyt 1.6.0 2.4.1
rgl 0.70 2.4.1
Rgraphviz 1.12.3 2.4.1
RGtk 0.7-3 2.4.1
RGtk2 2.8.7 2.4.1
rJava 0.4-14 2.4.1
RMAGEML 2.8.0 2.4.1
RMAPPER 1.4.0 2.4.1
ROC 1.8.0 2.4.1
R.oo 1.2.3 2.4.1
rpart 3.1-34 2.4.1
rrcov 0.3-05 2.4.1
Rredland 1.2.0 2.4.1
RSNPper 1.8.0 2.4.1
RSQLite 0.4-19 2.4.1
RSvgDevice 0.6.1 2.4.1
R.utils 0.8.0 2.4.1
Ruuid 1.12.0 2.4.1
safe 1.6.0 2.4.1
SAGElyzer 1.12.0 2.4.1
sagenhaft 1.6.0 2.4.1
SAGx 1.7.1 2.4.1
sandwich 2.0-1 2.4.1
SBMLR 1.28.0 2.4.1
scatterplot3d 0.3-24 2.4.1
ScISI 1.4.0 2.4.1
sem 0.9-6 2.4.1
sgeostat 1.0-20 2.4.1
siggenes 1.8.0 2.4.1
sigPathway 1.2.0 2.4.1
simpleaffy 2.8.0 2.4.1
simulatorAPMS 1.6.0 2.4.1
sizepower 1.4.0 2.4.1
sm 2.1-0 2.4.1
sma 0.5.15 2.4.1
snapCGH 1.2.0 2.4.1
snow 0.2-2 2.4.1
som 0.3-4 2.4.1
sp 0.9-8 2.4.1
SparseM 0.72 2.4.1
spatial 7.2-32 2.4.1
spatstat 1.11-1 2.4.1
spdep 0.3-32 2.4.1
spikeLI 1.2.0 2.4.1
splancs 2.01-19 2.4.1
splicegear 1.6.0 2.4.1
splines 2.4.1 2.4.1
splots 1.2.0 2.4.1
spotSegmentation 1.9.0 2.4.1
ssize 1.6.0 2.4.1
SSOAP 0.4-1 2.4.1
stam 1.6.0 2.4.1
statmod 1.2.4 2.4.1
stats 2.4.1 2.4.1
stats4 2.4.1 2.4.1
stepNorm 1.6.0 2.4.1
stjudem 1.2.0 2.4.1
strucchange 1.3-1 2.4.1
survival 2.31 2.4.1
systemfit 0.8-0 2.4.1
tcltk 2.4.1 2.4.1
tilingArray 1.12.0 2.4.1
timecourse 1.6.0 2.4.1
tkrplot 0.0-16 2.4.1
tkWidgets 1.12.2 2.4.1
tools 2.4.1 2.4.1
tripack 1.2-10 2.4.1
tseries 0.10-11 2.4.1
tweedie 1.2 2.4.1
twilight 1.10.0 2.4.1
TypeInfo 1.0.0 2.4.1
utils 2.4.1 2.4.1
vsn 1.12.0 2.4.1
waveslim 1.6 2.4.1
weaver 1.0.1 2.4.1
webbioc 1.6.0 2.4.1
widgetInvoke 1.6.0 2.4.1
widgetTools 1.10.0 2.4.1
xcms 1.6.1 2.4.1
xgobi 1.2-13 2.4.1
xlahomology 1.14.2 2.4.1
XML 1.4-1 2.4.1
xtable 1.4-3 2.4.1
YEAST 1.14.2 2.4.1
zoo 1.2-2 2.4.1