Back to Multiple platform build/check report
| Package: fdrame |
| Version: 1.4.0 |
| Command: /home/biocbuild/arch/i686/R-2.3.0/bin/R CMD build fdrame |
| RetCode: 0 |
| Time: 9.8 seconds |
| Status: OK |
| PackageFile: fdrame_1.4.0.tar.gz |
* checking for file 'fdrame/DESCRIPTION' ... OK
* preparing 'fdrame':
* checking DESCRIPTION meta-information ... OK
* cleaning src
* installing the package to re-build vignettes
* Installing *source* package 'fdrame' ...
** libs
gcc -I/home/biocbuild/arch/i686/R-2.3.0/include -I/home/biocbuild/arch/i686/R-2.3.0/include -I/usr/local/include -fpic -g -O2 -std=gnu99 -Wall -c fdr.c -o fdr.o
gcc -shared -L/usr/local/lib -o fdrame.so fdr.o
** R
** data
** inst
** preparing package for lazy loading
** help
Warning message:
incomplete final line found by readLines on './man/fdrgui.Rd'
>>> Building/Updating help pages for package 'fdrame'
Formats: text html latex example
design text html latex example
exp.arr text html latex example
fdr-internal text html latex
fdrgui text html latex example
fdrma text html latex example
** building package indices ...
* DONE (fdrame)
* creating vignettes ... OK
* cleaning src
* removing junk files
* checking for LF line-endings in source files
* checking for empty or unneeded directories
WARNING: Removing directory 'fdrame/html' which should only occur in an
installed package
* building 'fdrame_1.4.0.tar.gz'