Back to Multiple platform build/check report
| Package: Resourcerer |
| Version: 1.6.0 |
| Command: /home/biocbuild/arch/i686/R-2.3.0/bin/R CMD build Resourcerer |
| RetCode: 0 |
| Time: 26.8 seconds |
| Status: OK |
| PackageFile: Resourcerer_1.6.0.tar.gz |
* checking for file 'Resourcerer/DESCRIPTION' ... OK
* preparing 'Resourcerer':
* checking DESCRIPTION meta-information ... OK
* installing the package to re-build vignettes
* Installing *source* package 'Resourcerer' ...
** R
** inst
** preparing package for lazy loading
Loading required package: AnnBuilder
Loading required package: Biobase
Loading required package: tools
Welcome to Bioconductor
Vignettes contain introductory material. To view, type
'openVignette()' or start with 'help(Biobase)'. For details
on reading vignettes, see the openVignette help page.
Loading required package: XML
Loading required package: annotate
Loading required package: RSQLite
Loading required package: DBI
** help
>>> Building/Updating help pages for package 'Resourcerer'
Formats: text html latex example
getRsourcerer text html latex example
resourcerer2BioC text html latex example
** building package indices ...
* DONE (Resourcerer)
* creating vignettes ... OK
* removing junk files
* checking for LF line-endings in source files
* checking for empty or unneeded directories
* building 'Resourcerer_1.6.0.tar.gz'