Back to Multiple platform build/check report
| Package: ssize |
| Version: 1.4.0 |
| Command: D:\biocbld\R-2.3.0\bin\R.exe CMD INSTALL --build ssize_1.4.0.tar.gz |
| RetCode: 0 |
| Time: 8.5 seconds |
| Status: OK |
| PackageFile: ssize_1.4.0.zip |
Using auto-selected zip options 'ssize-ZIPDATA=zip'
---------- Making package ssize ------------
adding build stamp to DESCRIPTION
installing R files
installing inst files
installing data files
installing man source files
installing indices
zipping data
installing help
>>> Building/Updating help pages for package 'ssize'
Formats: text html latex example chm
exp.sd text html latex example chm
pow text html latex example chm
Microsoft HTML Help Compiler 4.74.8702
Compiling d:\biocbld\work-area\1.8d\madman\Rpacks\R.INSTALL\ssize\chm\ssize.chm
Compile time: 0 minutes, 0 seconds
3 Topics
11 Local links
1 Internet link
1 Graphic
Created d:\biocbld\work-area\1.8d\madman\Rpacks\R.INSTALL\ssize\chm\ssize.chm, 20,971 bytes
Compression increased file by 5,517 bytes.
adding MD5 sums
packaged installation of package 'ssize' as ssize_1.4.0.zip
* DONE (ssize)