Back to Multiple platform build/check report
| Package: safe |
| Version: 1.4.0 |
| Command: D:\biocbld\R-2.3.0\bin\R.exe CMD build safe |
| RetCode: 0 |
| Time: 134.1 seconds |
| Status: OK |
| PackageFile: safe_1.4.0.tar.gz |
* checking for file 'safe/DESCRIPTION' ... OK
* preparing 'safe':
* checking DESCRIPTION meta-information ... OK
* installing the package to re-build vignettes
installing R.css in D:/biocbld/work-area/1.8d/tmpdir/Rinst792883776
---------- Making package safe ------------
adding build stamp to DESCRIPTION
installing R files
installing inst files
installing man source files
installing indices
installing help
>>> Building/Updating help pages for package 'safe'
Formats: text html latex example chm
SAFE-class text html latex chm
getCmatrix text html latex example chm
getPImatrix text html latex example chm
safe-internal text html latex chm
safe text html latex example chm
safeplot text html latex example chm
Microsoft HTML Help Compiler 4.74.8702
Compiling d:\biocbld\work-area\1.8d\madman\Rpacks\safe\chm\safe.chm
Compile time: 0 minutes, 0 seconds
7 Topics
26 Local links
0 Internet links
1 Graphic
Created d:\biocbld\work-area\1.8d\madman\Rpacks\safe\chm\safe.chm, 27,703 bytes
Compression decreased file by 4,242 bytes.
adding MD5 sums
* DONE (safe)
* creating vignettes ... OK
* removing junk files
* checking for LF line-endings in source files
* checking for empty or unneeded directories
* building 'safe_1.4.0.tar.gz'