Back to Multiple platform build/check report
| Package: pathRender |
| Version: 0.2.0 |
| Command: D:\biocbld\R-2.3.0\bin\R.exe CMD INSTALL --build pathRender_0.2.0.tar.gz |
| RetCode: 0 |
| Time: 14.0 seconds |
| Status: OK |
| PackageFile: pathRender_0.2.0.zip |
Using auto-selected zip options ''
---------- Making package pathRender ------------
adding build stamp to DESCRIPTION
installing NAMESPACE file and metadata
installing R files
save image
Loading required package: graph
Loading required package: Ruuid
Loading required package: Rgraphviz
Loading required package: cMAP
installing man source files
installing indices
installing help
>>> Building/Updating help pages for package 'pathRender'
Formats: text html latex example chm
rendercMAP text html latex example chm
Microsoft HTML Help Compiler 4.74.8702
Compiling d:\biocbld\work-area\1.8d\madman\Rpacks\R.INSTALL\pathRender\chm\pathRender.chm
Compile time: 0 minutes, 0 seconds
2 Topics
2 Local links
0 Internet links
1 Graphic
Created d:\biocbld\work-area\1.8d\madman\Rpacks\R.INSTALL\pathRender\chm\pathRender.chm, 16,135 bytes
Compression increased file by 9,084 bytes.
adding MD5 sums
packaged installation of package 'pathRender' as pathRender_0.2.0.zip
* DONE (pathRender)