Back to Multiple platform build/check report
| Package: gtkWidgets |
| Version: 0.10.0 |
| Command: D:\biocbld\R-2.3.0\bin\R.exe CMD INSTALL --build gtkWidgets_0.10.0.tar.gz |
| RetCode: 0 |
| Time: 11.5 seconds |
| Status: OK |
| PackageFile: gtkWidgets_0.10.0.zip |
Using auto-selected zip options ''
---------- Making package gtkWidgets ------------
adding build stamp to DESCRIPTION
installing R files
save image
Loading required package: DynDoc
Loading required package: tools
Loading required package: reposTools
[1] "menuItem"
[1] "menuName"
[1] "menuName"
[1] "menuFunc"
[1] "menuFunc"
[1] "menuValue"
[1] "menuValue"
[1] "menuName<-"
[1] "menuName<-"
[1] "menuFunc<-"
[1] "menuFunc<-"
[1] "menuValue<-"
[1] "menuValue<-"
[1] "bioCMWidget"
[1] "menuEnv"
[1] "menuEnv"
[1] "show"
[1] "addMenuItem"
[1] "addMenuItem"
[1] "removeMenuItem"
[1] "removeMenuItem"
[1] "conBoxClear"
[1] "conBoxClear"
[1] "conBoxInsert"
[1] "conBoxInsert"
[1] "menuEnv<-"
[1] "menuEnv<-"
installing inst files
installing man source files
installing indices
installing help
>>> Building/Updating help pages for package 'gtkWidgets'
Formats: text html latex example chm
DPExplorer text html latex example chm
bioCMenu-class text html latex example chm
edgeTrimmer text html latex example chm
getCListWithVHScroll text html latex example chm
menuItem-class text html latex example chm
objectBrowser text html latex example chm
subExprSet text html latex example chm
vExplorer text html latex example chm
Microsoft HTML Help Compiler 4.74.8702
Compiling d:\biocbld\work-area\1.8d\madman\Rpacks\R.INSTALL\gtkWidgets\chm\gtkWidgets.chm
Compile time: 0 minutes, 0 seconds
9 Topics
58 Local links
2 Internet links
1 Graphic
Created d:\biocbld\work-area\1.8d\madman\Rpacks\R.INSTALL\gtkWidgets\chm\gtkWidgets.chm, 30,607 bytes
Compression decreased file by 15,906 bytes.
adding MD5 sums
packaged installation of package 'gtkWidgets' as gtkWidgets_0.10.0.zip
* DONE (gtkWidgets)