Back to Multiple platform build/check report
| Package: goTools |
| Version: 1.4.0 |
| Command: D:\biocbld\R-2.3.0\bin\R.exe CMD INSTALL --build goTools_1.4.0.tar.gz |
| RetCode: 0 |
| Time: 10.5 seconds |
| Status: OK |
| PackageFile: goTools_1.4.0.zip |
Using auto-selected zip options ''
---------- Making package goTools ------------
adding build stamp to DESCRIPTION
installing R files
save image
Loading required package: Biobase
Loading required package: tools
Welcome to Bioconductor
Vignettes contain introductory material. To view, type
'openVignette()' or start with 'help(Biobase)'. For details
on reading vignettes, see the openVignette help page.
Loading required package: annotate
Loading required package: GO
installing inst files
installing data files
installing man source files
installing indices
not zipping data
installing help
>>> Building/Updating help pages for package 'goTools'
Formats: text html latex example chm
EndNodeList text html latex example chm
goTools-internal text html latex chm
ontoCompare text html latex example chm
probeID text html latex chm
Microsoft HTML Help Compiler 4.74.8702
Compiling d:\biocbld\work-area\1.8d\madman\Rpacks\R.INSTALL\goTools\chm\goTools.chm
Compile time: 0 minutes, 0 seconds
5 Topics
26 Local links
0 Internet links
1 Graphic
Created d:\biocbld\work-area\1.8d\madman\Rpacks\R.INSTALL\goTools\chm\goTools.chm, 19,715 bytes
Compression increased file by 1,321 bytes.
adding MD5 sums
packaged installation of package 'goTools' as goTools_1.4.0.zip
* DONE (goTools)