Back to Multiple platform build/check report
| Package: affydata |
| Version: 1.8.0 |
| Command: D:\biocbld\R-2.3.0\bin\R.exe CMD INSTALL --build affydata_1.8.0.tar.gz |
| RetCode: 0 |
| Time: 33.5 seconds |
| Status: OK |
| PackageFile: affydata_1.8.0.zip |
Using auto-selected zip options 'affydata-ZIPDATA=zip'
---------- Making package affydata ------------
adding build stamp to DESCRIPTION
installing R files
installing inst files
installing data files
installing man source files
installing indices
zipping data
installing help
>>> Building/Updating help pages for package 'affydata'
Formats: text html latex example chm
Dilution text html latex chm
Microsoft HTML Help Compiler 4.74.8702
Compiling d:\biocbld\work-area\1.8d\madman\Rpacks\R.INSTALL\affydata\chm\affydata.chm
Compile time: 0 minutes, 0 seconds
2 Topics
2 Local links
1 Internet link
1 Graphic
Created d:\biocbld\work-area\1.8d\madman\Rpacks\R.INSTALL\affydata\chm\affydata.chm, 16,219 bytes
Compression increased file by 9,129 bytes.
adding MD5 sums
packaged installation of package 'affydata' as affydata_1.8.0.zip
* DONE (affydata)