Back to Multiple platform build/check report
| Package: SNAData |
| Version: 1.6.0 |
| Command: D:\biocbld\R-2.3.0\bin\R.exe CMD INSTALL --build SNAData_1.6.0.tar.gz |
| RetCode: 0 |
| Time: 9.0 seconds |
| Status: OK |
| PackageFile: SNAData_1.6.0.zip |
Using auto-selected zip options ''
---------- Making package SNAData ------------
adding build stamp to DESCRIPTION
installing R files
installing inst files
installing data files
installing man source files
installing indices
not zipping data
installing help
>>> Building/Updating help pages for package 'SNAData'
Formats: text html latex example chm
CEOclubs text html latex example chm
Countries text html latex example chm
Florentine text html latex example chm
Freeman text html latex example chm
Krackhardt text html latex example chm
Microsoft HTML Help Compiler 4.74.8702
Compiling d:\biocbld\work-area\1.8d\madman\Rpacks\R.INSTALL\SNAData\chm\SNAData.chm
Compile time: 0 minutes, 0 seconds
6 Topics
24 Local links
0 Internet links
1 Graphic
Created d:\biocbld\work-area\1.8d\madman\Rpacks\R.INSTALL\SNAData\chm\SNAData.chm, 22,597 bytes
Compression decreased file by 993 bytes.
adding MD5 sums
packaged installation of package 'SNAData' as SNAData_1.6.0.zip
* DONE (SNAData)