Back to Multiple platform build/check report
| Package: RSNPper |
| Version: 1.4.0 |
| Command: D:\biocbld\R-2.3.0\bin\R.exe CMD INSTALL --build RSNPper_1.4.0.tar.gz |
| RetCode: 0 |
| Time: 7.5 seconds |
| Status: OK |
| PackageFile: RSNPper_1.4.0.zip |
Using auto-selected zip options ''
---------- Making package RSNPper ------------
adding build stamp to DESCRIPTION
installing NAMESPACE file and metadata
installing R files
installing inst files
installing man source files
installing indices
installing help
>>> Building/Updating help pages for package 'RSNPper'
Formats: text html latex example chm
geneInfo text html latex example chm
Microsoft HTML Help Compiler 4.74.8702
Compiling d:\biocbld\work-area\1.8d\madman\Rpacks\R.INSTALL\RSNPper\chm\RSNPper.chm
Compile time: 0 minutes, 0 seconds
2 Topics
16 Local links
0 Internet links
1 Graphic
Created d:\biocbld\work-area\1.8d\madman\Rpacks\R.INSTALL\RSNPper\chm\RSNPper.chm, 18,841 bytes
Compression increased file by 4,982 bytes.
adding MD5 sums
packaged installation of package 'RSNPper' as RSNPper_1.4.0.zip
* DONE (RSNPper)