Back to Multiple platform build/check report
| Package: ROC |
| Version: 1.6.0 |
| Command: D:\biocbld\R-2.3.0\bin\R.exe CMD build ROC |
| RetCode: 0 |
| Time: 23.1 seconds |
| Status: OK |
| PackageFile: ROC_1.6.0.tar.gz |
* checking for file 'ROC/DESCRIPTION' ... OK
* preparing 'ROC':
* checking DESCRIPTION meta-information ... OK
* installing the package to re-build vignettes
installing R.css in D:/biocbld/work-area/1.8d/tmpdir/Rinst481647607
---------- Making package ROC ------------
adding build stamp to DESCRIPTION
installing NAMESPACE file and metadata
installing R files
save image
installing inst files
installing man source files
installing indices
installing help
>>> Building/Updating help pages for package 'ROC'
Formats: text html latex example chm
AUC text html latex example chm
plot-methods text html latex example chm
rocc-class text html latex example chm
rocdemo.sca text html latex example chm
trapezint text html latex example chm
Microsoft HTML Help Compiler 4.74.8702
Compiling d:\biocbld\work-area\1.8d\madman\Rpacks\ROC\chm\ROC.chm
Compile time: 0 minutes, 0 seconds
6 Topics
16 Local links
0 Internet links
1 Graphic
Created d:\biocbld\work-area\1.8d\madman\Rpacks\ROC\chm\ROC.chm, 20,661 bytes
Compression increased file by 2,486 bytes.
adding MD5 sums
* DONE (ROC)
* creating vignettes ... OK
* removing junk files
* checking for LF line-endings in source files
* checking for empty or unneeded directories
* building 'ROC_1.6.0.tar.gz'