Back to Multiple platform build/check report
| Package: RLMM |
| Version: 0.10.0 |
| Command: D:\biocbld\R-2.3.0\bin\R.exe CMD INSTALL --build RLMM_0.10.0.tar.gz |
| RetCode: 0 |
| Time: 8.0 seconds |
| Status: OK |
| PackageFile: RLMM_0.10.0.zip |
Using auto-selected zip options ''
---------- Making package RLMM ------------
adding build stamp to DESCRIPTION
installing R files
installing inst files
installing man source files
installing indices
installing help
>>> Building/Updating help pages for package 'RLMM'
Formats: text html latex example chm
Classify text html latex chm
create_Thetafile text html latex chm
normalize_Rawfiles text html latex chm
plot_theta text html latex chm
Microsoft HTML Help Compiler 4.74.8702
Compiling d:\biocbld\work-area\1.8d\madman\Rpacks\R.INSTALL\RLMM\chm\RLMM.chm
Compile time: 0 minutes, 0 seconds
5 Topics
8 Local links
0 Internet links
1 Graphic
Created d:\biocbld\work-area\1.8d\madman\Rpacks\R.INSTALL\RLMM\chm\RLMM.chm, 19,699 bytes
Compression increased file by 5,286 bytes.
adding MD5 sums
packaged installation of package 'RLMM' as RLMM_0.10.0.zip
* DONE (RLMM)