Back to Multiple platform build/check report
| Package: MeasurementError.cor |
| Version: 1.4.0 |
| Command: D:\biocbld\R-2.3.0\bin\R.exe CMD build MeasurementError.cor |
| RetCode: 0 |
| Time: 23.5 seconds |
| Status: OK |
| PackageFile: MeasurementError.cor_1.4.0.tar.gz |
* checking for file 'MeasurementError.cor/DESCRIPTION' ... OK
* preparing 'MeasurementError.cor':
* checking DESCRIPTION meta-information ... OK
* checking whether 'INDEX' is up-to-date ... NO
* use '--force' to overwrite the existing 'INDEX'
* installing the package to re-build vignettes
installing R.css in D:/biocbld/work-area/1.8d/tmpdir/Rinst644466409
---------- Making package MeasurementError.cor ------------
adding build stamp to DESCRIPTION
installing NAMESPACE file and metadata
installing R files
installing inst files
installing man source files
installing indices
installing help
>>> Building/Updating help pages for package 'MeasurementError.cor'
Formats: text html latex example chm
cor.me.matrix text html latex example chm
cor.me.vector text html latex example chm
Microsoft HTML Help Compiler 4.74.8702
Compiling d:\biocbld\work-area\1.8d\madman\Rpacks\MeasurementError.cor\chm\MeasurementError.cor.chm
Compile time: 0 minutes, 0 seconds
3 Topics
4 Local links
0 Internet links
1 Graphic
Created d:\biocbld\work-area\1.8d\madman\Rpacks\MeasurementError.cor\chm\MeasurementError.cor.chm, 18,249 bytes
Compression increased file by 6,719 bytes.
adding MD5 sums
* DONE (MeasurementError.cor)
* creating vignettes ... OK
* removing junk files
* excluding invalid files from 'MeasurementError.cor'
Subdirectory 'R' contains invalid file names:
zzz
Subdirectory 'man' contains invalid file names:
CalcInitials cor.me fcn fcn.uncons gradient gradient.uncons
TransformCon2Uncon TransformUncon2Con
* checking for LF line-endings in source files
* checking for empty or unneeded directories
* building 'MeasurementError.cor_1.4.0.tar.gz'