Back to Multiple platform build/check report
| Package: MeasurementError.cor |
| Version: 1.4.0 |
| Command: D:\biocbld\R-2.3.0\bin\R.exe CMD INSTALL --build MeasurementError.cor_1.4.0.tar.gz |
| RetCode: 0 |
| Time: 8.0 seconds |
| Status: OK |
| PackageFile: MeasurementError.cor_1.4.0.zip |
Using auto-selected zip options ''
---------- Making package MeasurementError.cor ------------
adding build stamp to DESCRIPTION
installing NAMESPACE file and metadata
installing R files
installing inst files
installing man source files
installing indices
installing help
>>> Building/Updating help pages for package 'MeasurementError.cor'
Formats: text html latex example chm
cor.me.matrix text html latex example chm
cor.me.vector text html latex example chm
Microsoft HTML Help Compiler 4.74.8702
Compiling d:\biocbld\work-area\1.8d\madman\Rpacks\R.INSTALL\MeasurementError.cor\chm\MeasurementError.cor.chm
Compile time: 0 minutes, 0 seconds
3 Topics
4 Local links
0 Internet links
1 Graphic
Created d:\biocbld\work-area\1.8d\madman\Rpacks\R.INSTALL\MeasurementError.cor\chm\MeasurementError.cor.chm, 18,249 bytes
Compression increased file by 6,719 bytes.
adding MD5 sums
packaged installation of package 'MeasurementError.cor' as MeasurementError.cor_1.4.0.zip
* DONE (MeasurementError.cor)