Back to Multiple platform build/check report
| Package: GenomeBase |
| Version: 1.0.0 |
| Command: D:\biocbld\R-2.3.0\bin\R.exe CMD build GenomeBase |
| RetCode: 0 |
| Time: 2.9 seconds |
| Status: OK |
| PackageFile: GenomeBase_1.0.0.tar.gz |
* checking for file 'GenomeBase/DESCRIPTION' ... OK * preparing 'GenomeBase': * checking DESCRIPTION meta-information ... OK * removing junk files * checking for LF line-endings in source files * checking for empty or unneeded directories * building 'GenomeBase_1.0.0.tar.gz'