Back to Multiple platform build/check report
| Package: GenomeBase |
| Version: 1.0.0 |
| Command: D:\biocbld\R-2.3.0\bin\R.exe CMD INSTALL --build GenomeBase_1.0.0.tar.gz |
| RetCode: 0 |
| Time: 8.5 seconds |
| Status: OK |
| PackageFile: GenomeBase_1.0.0.zip |
Using auto-selected zip options ''
---------- Making package GenomeBase ------------
adding build stamp to DESCRIPTION
installing NAMESPACE file and metadata
installing R files
save image
Loading required package: Biostrings
installing man source files
installing indices
installing help
>>> Building/Updating help pages for package 'GenomeBase'
Formats: text html latex example chm
BStringGenome-class text html latex example chm
buildDataFiles text html latex example chm
Microsoft HTML Help Compiler 4.74.8702
Compiling d:\biocbld\work-area\1.8d\madman\Rpacks\R.INSTALL\GenomeBase\chm\GenomeBase.chm
Compile time: 0 minutes, 0 seconds
3 Topics
10 Local links
0 Internet links
1 Graphic
Created d:\biocbld\work-area\1.8d\madman\Rpacks\R.INSTALL\GenomeBase\chm\GenomeBase.chm, 16,871 bytes
Compression increased file by 5,652 bytes.
adding MD5 sums
packaged installation of package 'GenomeBase' as GenomeBase_1.0.0.zip
* DONE (GenomeBase)