Back to Multiple platform build/check report
| Package: EBImage |
| Version: 1.2.0 |
| Command: D:\biocbld\R-2.3.0\bin\R.exe CMD build EBImage |
| RetCode: 1 |
| Time: 2.5 seconds |
| Status: ERROR |
| PackageFile: None |
* checking for file 'EBImage/DESCRIPTION' ... OK
* preparing 'EBImage':
* checking DESCRIPTION meta-information ... OK
* cleaning src
* installing the package to re-build vignettes
installing R.css in D:/biocbld/work-area/1.8d/tmpdir/Rinst691642376
---------- Making package EBImage ------------
**********************************************
WARNING: this package has a configure script
It probably needs manual configuration
**********************************************
adding build stamp to DESCRIPTION
installing NAMESPACE file and metadata
making DLL ...
making algorithms2D.d from algorithms2D.cpp
In file included from algorithms2D.h:9,
from algorithms2D.cpp:1:
common.h:1:22: Magick++.h: No such file or directory
In file included from d:/usr/MinGW/bin/../lib/gcc/mingw32/3.4.2/../../../../include/c++/3.4.2/bits/locale_facets.h:1537,
from d:/usr/MinGW/bin/../lib/gcc/mingw32/3.4.2/../../../../include/c++/3.4.2/bits/basic_ios.h:44,
from d:/usr/MinGW/bin/../lib/gcc/mingw32/3.4.2/../../../../include/c++/3.4.2/ios:51,
from d:/usr/MinGW/bin/../lib/gcc/mingw32/3.4.2/../../../../include/c++/3.4.2/ostream:45,
from d:/usr/MinGW/bin/../lib/gcc/mingw32/3.4.2/../../../../include/c++/3.4.2/iostream:45,
from algorithms2D.cpp:9:
d:/usr/MinGW/bin/../lib/gcc/mingw32/3.4.2/../../../../include/c++/3.4.2/bits/codecvt.h:219:45: macro "length" passed 4 arguments, but takes just 1
make[3]: *** [algorithms2D.d] Error 1
make[2]: *** [srcDynlib] Error 2
make[1]: *** [all] Error 2
make: *** [pkg-EBImage] Error 2
*** Installation of EBImage failed ***
Removing 'D:/biocbld/work-area/1.8d/tmpdir/Rinst691642376/EBImage'
ERROR
Installation failed.
Removing 'D:/biocbld/work-area/1.8d/tmpdir/Rinst691642376'