Back to Multiple platform build/check report
| Package: KEGGSOAP |
| Version: 1.6.0 |
| Command: /home/biocbuild/arch/sparc/R-2.3.0/bin/R CMD build KEGGSOAP |
| RetCode: 0 |
| Time: 1.8 seconds |
| Status: OK |
| PackageFile: KEGGSOAP_1.6.0.tar.gz |
* checking for file 'KEGGSOAP/DESCRIPTION' ... OK * preparing 'KEGGSOAP': * checking DESCRIPTION meta-information ... OK * removing junk files * checking for LF line-endings in source files * checking for empty or unneeded directories * building 'KEGGSOAP_1.6.0.tar.gz'