All our mirrors of open source software are available via http, https, ftp and an onion service. More information about our mirrors including statistics and contact information is available on our mirror info pages.
For information about dotsrc.org and our other services please go to our website.
| File Name ↓ | File Size ↓ | Date ↓ |
|---|---|---|
| Parent directory/ | - | - |
| AnnBuilder.buildsrc.html | 1.7 KiB | 2006-05-05 03:19:57 |
| AnnBuilder.checksrc.html | 3.2 KiB | 2006-05-05 03:19:57 |
| Biobase.buildsrc.html | 6.1 KiB | 2006-05-05 03:19:57 |
| Biobase.checksrc.html | 2.2 KiB | 2006-05-05 03:19:57 |
| Biostrings.buildsrc.html | 4.1 KiB | 2006-05-05 03:19:57 |
| Biostrings.checksrc.html | 2.0 KiB | 2006-05-05 03:19:57 |
| Category.buildsrc.html | 3.0 KiB | 2006-05-05 03:19:57 |
| Category.checksrc.html | 2.0 KiB | 2006-05-05 03:19:57 |
| ChromoViz.buildsrc.html | 1.1 KiB | 2006-05-05 03:19:57 |
| ChromoViz.checksrc.html | 2.0 KiB | 2006-05-05 03:19:57 |
| CoCiteStats.buildsrc.html | 1003 B | 2006-05-05 03:19:57 |
| CoCiteStats.checksrc.html | 1.9 KiB | 2006-05-05 03:19:57 |
| DEDS.buildsrc.html | 4.5 KiB | 2006-05-05 03:19:57 |
| DEDS.checksrc.html | 2.0 KiB | 2006-05-05 03:19:57 |
| DNAcopy.buildsrc.html | 3.1 KiB | 2006-05-05 03:19:57 |
| DNAcopy.checksrc.html | 2.0 KiB | 2006-05-05 03:19:57 |
| DynDoc.buildsrc.html | 971 B | 2006-05-05 03:19:57 |
| DynDoc.checksrc.html | 1.9 KiB | 2006-05-05 03:19:57 |
| EBImage.buildsrc.html | 4.7 KiB | 2006-05-05 03:19:57 |
| EBImage.checksrc.html | 3.2 KiB | 2006-05-05 03:19:57 |
| EBarrays.buildsrc.html | 2.8 KiB | 2006-05-05 03:19:57 |
| EBarrays.checksrc.html | 2.2 KiB | 2006-05-05 03:19:57 |
| GEOquery.buildsrc.html | 1.9 KiB | 2006-05-05 03:19:57 |
| GEOquery.checksrc.html | 2.4 KiB | 2006-05-05 03:19:57 |
| GLAD.buildsrc.html | 6.0 KiB | 2006-05-05 03:19:57 |
| GLAD.checksrc.html | 2.0 KiB | 2006-05-05 03:19:57 |
| GOstats.buildsrc.html | 2.6 KiB | 2006-05-05 03:19:57 |
| GOstats.checksrc.html | 1.9 KiB | 2006-05-05 03:19:57 |
| GeneMeta.buildsrc.html | 1.9 KiB | 2006-05-05 03:19:57 |
| GeneMeta.checksrc.html | 2.0 KiB | 2006-05-05 03:19:57 |
| GeneR.buildsrc.html | 2.1 KiB | 2006-05-05 03:19:57 |
| GeneR.checksrc.html | 3.2 KiB | 2006-05-05 03:19:57 |
| GeneSpring.buildsrc.html | 2.1 KiB | 2006-05-05 03:19:57 |
| GeneSpring.checksrc.html | 2.0 KiB | 2006-05-05 03:19:57 |
| GeneTS.buildsrc.html | 971 B | 2006-05-05 03:19:57 |
| GeneTS.checksrc.html | 1.9 KiB | 2006-05-05 03:19:57 |
| GeneTraffic.buildsrc.html | 1.1 KiB | 2006-05-05 03:19:57 |
| GeneTraffic.checksrc.html | 1.9 KiB | 2006-05-05 03:19:57 |
| GenomeBase.buildsrc.html | 996 B | 2006-05-05 03:19:57 |
| GenomeBase.checksrc.html | 1.9 KiB | 2006-05-05 03:19:57 |
| GlobalAncova.buildsrc.html | 2.0 KiB | 2006-05-05 03:19:57 |
| GlobalAncova.checksrc.html | 2.0 KiB | 2006-05-05 03:19:57 |
| GraphAT.buildsrc.html | 975 B | 2006-05-05 03:19:57 |
| GraphAT.checksrc.html | 1.9 KiB | 2006-05-05 03:19:57 |
| HEM.buildsrc.html | 3.6 KiB | 2006-05-05 03:19:57 |
| HEM.checksrc.html | 2.0 KiB | 2006-05-05 03:19:57 |
| Heatplus.buildsrc.html | 1.6 KiB | 2006-05-05 03:19:57 |
| Heatplus.checksrc.html | 2.0 KiB | 2006-05-05 03:19:57 |
| Icens.buildsrc.html | 1.0 KiB | 2006-05-05 03:19:57 |
| Icens.checksrc.html | 2.1 KiB | 2006-05-05 03:19:57 |
| KEGGSOAP.buildsrc.html | 982 B | 2006-05-05 03:19:57 |
| KEGGSOAP.checksrc.html | 1.9 KiB | 2006-05-05 03:19:57 |
| LMGene.buildsrc.html | 3.1 KiB | 2006-05-05 03:19:57 |
| LMGene.checksrc.html | 1.9 KiB | 2006-05-05 03:19:57 |
| LPE.buildsrc.html | 2.4 KiB | 2006-05-05 03:19:57 |
| LPE.checksrc.html | 1.9 KiB | 2006-05-05 03:19:57 |
| MANOR.buildsrc.html | 5.4 KiB | 2006-05-05 03:19:57 |
| MANOR.checksrc.html | 2.0 KiB | 2006-05-05 03:19:57 |
| MCRestimate.buildsrc.html | 2.9 KiB | 2006-05-05 03:19:57 |
| MCRestimate.checksrc.html | 2.0 KiB | 2006-05-05 03:19:57 |
| MLInterfaces.buildsrc.html | 4.1 KiB | 2006-05-05 03:19:57 |
| MLInterfaces.checksrc.html | 1.1 KiB | 2006-05-05 03:19:57 |
| MVCClass.buildsrc.html | 2.7 KiB | 2006-05-05 03:19:57 |
| MVCClass.checksrc.html | 2.1 KiB | 2006-05-05 03:19:57 |
| MantelCorr.buildsrc.html | 1.7 KiB | 2006-05-05 03:19:57 |
| MantelCorr.checksrc.html | 2.0 KiB | 2006-05-05 03:19:57 |
| MeasurementError.cor.buildsrc.html | 1.8 KiB | 2006-05-05 03:19:57 |
| MeasurementError.cor.checksrc.html | 2.1 KiB | 2006-05-05 03:19:57 |
| MergeMaid.buildsrc.html | 2.3 KiB | 2006-05-05 03:19:57 |
| MergeMaid.checksrc.html | 2.0 KiB | 2006-05-05 03:19:57 |
| Mfuzz.buildsrc.html | 2.6 KiB | 2006-05-05 03:19:57 |
| Mfuzz.checksrc.html | 1.9 KiB | 2006-05-05 03:19:57 |
| MiPP.buildsrc.html | 2.8 KiB | 2006-05-05 03:19:57 |
| MiPP.checksrc.html | 1.9 KiB | 2006-05-05 03:19:57 |
| OCplus.buildsrc.html | 2.8 KiB | 2006-05-05 03:19:57 |
| OCplus.checksrc.html | 1.9 KiB | 2006-05-05 03:19:57 |
| OLIN.buildsrc.html | 1.0 KiB | 2006-05-05 03:19:57 |
| OLIN.checksrc.html | 1.9 KiB | 2006-05-05 03:19:57 |
| OLINgui.buildsrc.html | 1.9 KiB | 2006-05-05 03:19:57 |
| OLINgui.checksrc.html | 1.9 KiB | 2006-05-05 03:19:57 |
| OrderedList.buildsrc.html | 2.9 KiB | 2006-05-05 03:19:57 |
| OrderedList.checksrc.html | 3.2 KiB | 2006-05-05 03:19:57 |
| PROcess.buildsrc.html | 2.7 KiB | 2006-05-05 03:19:57 |
| PROcess.checksrc.html | 1.9 KiB | 2006-05-05 03:19:57 |
| RBGL.buildsrc.html | 6.1 KiB | 2006-05-05 03:19:57 |
| RBGL.checksrc.html | 3.2 KiB | 2006-05-05 03:19:57 |
| RLMM.buildsrc.html | 1.5 KiB | 2006-05-05 03:19:57 |
| RLMM.checksrc.html | 1.9 KiB | 2006-05-05 03:19:57 |
| RMAGEML.buildsrc.html | 6.7 KiB | 2006-05-05 03:19:57 |
| RMAGEML.checksrc.html | 3.2 KiB | 2006-05-05 03:19:57 |
| RMAPPER.buildsrc.html | 1022 B | 2006-05-05 03:19:57 |
| RMAPPER.checksrc.html | 1.9 KiB | 2006-05-05 03:19:57 |
| ROC.buildsrc.html | 1.5 KiB | 2006-05-05 03:19:57 |
| ROC.checksrc.html | 1.9 KiB | 2006-05-05 03:19:57 |
| RSNPper.buildsrc.html | 1.3 KiB | 2006-05-05 03:19:57 |
| RSNPper.checksrc.html | 1.9 KiB | 2006-05-05 03:19:57 |
| RankProd.buildsrc.html | 2.0 KiB | 2006-05-05 03:19:57 |
| RankProd.checksrc.html | 2.0 KiB | 2006-05-05 03:19:57 |
| Rdbi.buildsrc.html | 1.0 KiB | 2006-05-05 03:19:57 |
| Rdbi.checksrc.html | 1.9 KiB | 2006-05-05 03:19:57 |
| RdbiPgSQL.buildsrc.html | 1.1 KiB | 2006-05-05 03:19:57 |
| RdbiPgSQL.checksrc.html | 1.2 KiB | 2006-05-05 03:19:57 |
| Resourcerer.buildsrc.html | 1.2 KiB | 2006-05-05 03:19:57 |
| Resourcerer.checksrc.html | 3.2 KiB | 2006-05-05 03:19:57 |
| Rgraphviz.buildsrc.html | 4.8 KiB | 2006-05-05 03:19:57 |
| Rgraphviz.checksrc.html | 2.1 KiB | 2006-05-05 03:19:57 |
| Ruuid.buildsrc.html | 6.0 KiB | 2006-05-05 03:19:57 |
| Ruuid.checksrc.html | 2.1 KiB | 2006-05-05 03:19:57 |
| SAGElyzer.buildsrc.html | 1.4 KiB | 2006-05-05 03:19:57 |
| SAGElyzer.checksrc.html | 3.2 KiB | 2006-05-05 03:19:57 |
| SBMLR.buildsrc.html | 964 B | 2006-05-05 03:19:57 |
| SBMLR.checksrc.html | 1.9 KiB | 2006-05-05 03:19:57 |
| SNAData.buildsrc.html | 1.7 KiB | 2006-05-05 03:19:57 |
| SNAData.checksrc.html | 1.9 KiB | 2006-05-05 03:19:57 |
| ScISI.buildsrc.html | 6.6 KiB | 2006-05-05 03:19:57 |
| ScISI.checksrc.html | 1.9 KiB | 2006-05-05 03:19:57 |
| aCGH.buildsrc.html | 3.7 KiB | 2006-05-05 03:19:57 |
| aCGH.checksrc.html | 2.0 KiB | 2006-05-05 03:19:57 |
| adSplit.buildsrc.html | 2.8 KiB | 2006-05-05 03:19:57 |
| adSplit.checksrc.html | 15.3 KiB | 2006-05-05 03:19:57 |
| affxparser.buildsrc.html | 1011 B | 2006-05-05 03:19:57 |
| affxparser.checksrc.html | 2.1 KiB | 2006-05-05 03:19:57 |
| affy.buildsrc.html | 8.5 KiB | 2006-05-05 03:19:57 |
| affy.checksrc.html | 2.3 KiB | 2006-05-05 03:19:57 |
| affyPLM.buildsrc.html | 12.2 KiB | 2006-05-05 03:19:57 |
| affyPLM.checksrc.html | 2.4 KiB | 2006-05-05 03:19:57 |
| affyQCReport.buildsrc.html | 1.7 KiB | 2006-05-05 03:19:57 |
| affyQCReport.checksrc.html | 2.0 KiB | 2006-05-05 03:19:57 |
| affycomp.buildsrc.html | 2.8 KiB | 2006-05-05 03:19:57 |
| affycomp.checksrc.html | 2.0 KiB | 2006-05-05 03:19:57 |
| affycoretools.buildsrc.html | 3.3 KiB | 2006-05-05 03:19:57 |
| affycoretools.checksrc.html | 2.0 KiB | 2006-05-05 03:19:57 |
| affydata.buildsrc.html | 1.3 KiB | 2006-05-05 03:19:57 |
| affydata.checksrc.html | 2.0 KiB | 2006-05-05 03:19:57 |
| affyio.buildsrc.html | 983 B | 2006-05-05 03:19:57 |
| affyio.checksrc.html | 2.0 KiB | 2006-05-05 03:19:57 |
| affylmGUI.buildsrc.html | 1.5 KiB | 2006-05-05 03:19:57 |
| affylmGUI.checksrc.html | 3.2 KiB | 2006-05-05 03:19:57 |
| affypdnn.buildsrc.html | 1.1 KiB | 2006-05-05 03:19:57 |
| affypdnn.checksrc.html | 1.9 KiB | 2006-05-05 03:19:57 |
| altcdfenvs.buildsrc.html | 2.9 KiB | 2006-05-05 03:19:57 |
| altcdfenvs.checksrc.html | 2.0 KiB | 2006-05-05 03:19:57 |
| annaffy.buildsrc.html | 4.7 KiB | 2006-05-05 03:19:57 |
| annaffy.checksrc.html | 1.9 KiB | 2006-05-05 03:19:57 |
| annotate.buildsrc.html | 4.8 KiB | 2006-05-05 03:19:57 |
| annotate.checksrc.html | 2.0 KiB | 2006-05-05 03:19:57 |
| apComplex.buildsrc.html | 2.5 KiB | 2006-05-05 03:19:57 |
| apComplex.checksrc.html | 2.0 KiB | 2006-05-05 03:19:57 |
| applera.buildsrc.html | 2.3 KiB | 2006-05-05 03:19:57 |
| applera.checksrc.html | 1.9 KiB | 2006-05-05 03:19:57 |
| arrayMagic.buildsrc.html | 4.7 KiB | 2006-05-05 03:19:57 |
| arrayMagic.checksrc.html | 2.0 KiB | 2006-05-05 03:19:57 |
| arrayQuality.buildsrc.html | 1.1 KiB | 2006-05-05 03:19:57 |
| arrayQuality.checksrc.html | 1.9 KiB | 2006-05-05 03:19:57 |
| beadarray.buildsrc.html | 1004 B | 2006-05-05 03:19:57 |
| beadarray.checksrc.html | 2.0 KiB | 2006-05-05 03:19:57 |
| bim.buildsrc.html | 7.1 KiB | 2006-05-05 03:19:57 |
| bim.checksrc.html | 2.0 KiB | 2006-05-05 03:19:57 |
| bioDist.buildsrc.html | 1.1 KiB | 2006-05-05 03:19:57 |
| bioDist.checksrc.html | 1.9 KiB | 2006-05-05 03:19:57 |
| biocViews.buildsrc.html | 2.7 KiB | 2006-05-05 03:19:57 |
| biocViews.checksrc.html | 2.0 KiB | 2006-05-05 03:19:57 |
| biomaRt.buildsrc.html | 2.9 KiB | 2006-05-05 03:19:57 |
| biomaRt.checksrc.html | 2.3 KiB | 2006-05-05 03:19:57 |
| bridge.buildsrc.html | 5.9 KiB | 2006-05-05 03:19:57 |
| bridge.checksrc.html | 2.0 KiB | 2006-05-05 03:19:57 |
| cellHTS.buildsrc.html | 975 B | 2006-05-05 03:19:57 |
| cellHTS.checksrc.html | 2.9 KiB | 2006-05-05 03:19:57 |
| cghMCR.buildsrc.html | 1.7 KiB | 2006-05-05 03:19:57 |
| cghMCR.checksrc.html | 1.9 KiB | 2006-05-05 03:19:57 |
| clusterStab.buildsrc.html | 2.3 KiB | 2006-05-05 03:19:57 |
| clusterStab.checksrc.html | 2.0 KiB | 2006-05-05 03:19:57 |
| codelink.buildsrc.html | 3.4 KiB | 2006-05-05 03:19:57 |
| codelink.checksrc.html | 2.0 KiB | 2006-05-05 03:19:57 |
| convert.buildsrc.html | 1.3 KiB | 2006-05-05 03:19:57 |
| convert.checksrc.html | 1.9 KiB | 2006-05-05 03:19:57 |
| copa.buildsrc.html | 2.1 KiB | 2006-05-05 03:19:57 |
| copa.checksrc.html | 2.0 KiB | 2006-05-05 03:19:57 |
| ctc.buildsrc.html | 1.8 KiB | 2006-05-05 03:19:57 |
| ctc.checksrc.html | 1.9 KiB | 2006-05-05 03:19:57 |
| daMA.buildsrc.html | 1002 B | 2006-05-05 03:19:57 |
| daMA.checksrc.html | 1.9 KiB | 2006-05-05 03:19:57 |
| diffGeneAnalysis.buildsrc.html | 2.3 KiB | 2006-05-05 03:19:57 |
| diffGeneAnalysis.checksrc.html | 2.0 KiB | 2006-05-05 03:19:57 |
| ecolitk.buildsrc.html | 2.0 KiB | 2006-05-05 03:19:57 |
| ecolitk.checksrc.html | 1.9 KiB | 2006-05-05 03:19:57 |
| edd.buildsrc.html | 2.2 KiB | 2006-05-05 03:19:57 |
| edd.checksrc.html | 1.9 KiB | 2006-05-05 03:19:57 |
| exprExternal.buildsrc.html | 1010 B | 2006-05-05 03:19:57 |
| exprExternal.checksrc.html | 1.9 KiB | 2006-05-05 03:19:57 |
| externalVector.buildsrc.html | 1.0 KiB | 2006-05-05 03:19:57 |
| externalVector.checksrc.html | 2.0 KiB | 2006-05-05 03:19:57 |
| factDesign.buildsrc.html | 1.7 KiB | 2006-05-05 03:19:57 |
| factDesign.checksrc.html | 2.0 KiB | 2006-05-05 03:19:57 |
| fdrame.buildsrc.html | 2.0 KiB | 2006-05-05 03:19:57 |
| fdrame.checksrc.html | 2.4 KiB | 2006-05-05 03:19:57 |
| gcrma.buildsrc.html | 3.1 KiB | 2006-05-05 03:19:57 |
| gcrma.checksrc.html | 2.0 KiB | 2006-05-05 03:19:57 |
| genArise.buildsrc.html | 1.7 KiB | 2006-05-05 03:19:57 |
| genArise.checksrc.html | 3.2 KiB | 2006-05-05 03:19:57 |
| geneRecommender.buildsrc.html | 1.5 KiB | 2006-05-05 03:19:57 |
| geneRecommender.checksrc.html | 2.0 KiB | 2006-05-05 03:19:57 |
| genefilter.buildsrc.html | 3.9 KiB | 2006-05-05 03:19:57 |
| genefilter.checksrc.html | 2.0 KiB | 2006-05-05 03:19:57 |
| geneplotter.buildsrc.html | 2.9 KiB | 2006-05-05 03:19:57 |
| geneplotter.checksrc.html | 2.0 KiB | 2006-05-05 03:19:57 |
| gff3Plotter.buildsrc.html | 1.7 KiB | 2006-05-05 03:19:57 |
| gff3Plotter.checksrc.html | 4.3 KiB | 2006-05-05 03:19:57 |
| globaltest.buildsrc.html | 2.6 KiB | 2006-05-05 03:19:57 |
| globaltest.checksrc.html | 2.0 KiB | 2006-05-05 03:19:57 |
| goCluster.buildsrc.html | 5.5 KiB | 2006-05-05 03:19:57 |
| goCluster.checksrc.html | 2.0 KiB | 2006-05-05 03:19:57 |
| goTools.buildsrc.html | 1.9 KiB | 2006-05-05 03:19:57 |
| goTools.checksrc.html | 1.9 KiB | 2006-05-05 03:19:57 |
| gpls.buildsrc.html | 1.8 KiB | 2006-05-05 03:19:57 |
| gpls.checksrc.html | 1.9 KiB | 2006-05-05 03:19:57 |
| graph.buildsrc.html | 6.1 KiB | 2006-05-05 03:19:57 |
| graph.checksrc.html | 2.0 KiB | 2006-05-05 03:19:57 |
| gtkWidgets.buildsrc.html | 999 B | 2006-05-05 03:19:57 |
| gtkWidgets.checksrc.html | 1.9 KiB | 2006-05-05 03:19:57 |
| hexbin.buildsrc.html | 4.0 KiB | 2006-05-05 03:19:57 |
| hexbin.checksrc.html | 2.4 KiB | 2006-05-05 03:19:57 |
| hopach.buildsrc.html | 2.6 KiB | 2006-05-05 03:19:57 |
| hopach.checksrc.html | 1.9 KiB | 2006-05-05 03:19:57 |
| hypergraph.buildsrc.html | 1.0 KiB | 2006-05-05 03:19:57 |
| hypergraph.checksrc.html | 1.9 KiB | 2006-05-05 03:19:57 |
| iSPlot.buildsrc.html | 1.5 KiB | 2006-05-05 03:19:57 |
| iSPlot.checksrc.html | 3.2 KiB | 2006-05-05 03:19:57 |
| idiogram.buildsrc.html | 1.7 KiB | 2006-05-05 03:19:57 |
| idiogram.checksrc.html | 2.0 KiB | 2006-05-05 03:19:57 |
| impute.buildsrc.html | 1.1 KiB | 2006-05-05 03:19:57 |
| impute.checksrc.html | 2.0 KiB | 2006-05-05 03:19:57 |
| limma.buildsrc.html | 9.0 KiB | 2006-05-05 03:19:57 |
| limma.checksrc.html | 49.2 KiB | 2006-05-05 03:19:57 |
| limmaGUI.buildsrc.html | 1.4 KiB | 2006-05-05 03:19:57 |
| limmaGUI.checksrc.html | 3.2 KiB | 2006-05-05 03:19:57 |
| logicFS.buildsrc.html | 1.9 KiB | 2006-05-05 03:19:57 |
| logicFS.checksrc.html | 1.9 KiB | 2006-05-05 03:19:57 |
| maCorrPlot.buildsrc.html | 1.5 KiB | 2006-05-05 03:19:57 |
| maCorrPlot.checksrc.html | 2.0 KiB | 2006-05-05 03:19:57 |
| maDB.buildsrc.html | 954 B | 2006-05-05 03:19:57 |
| maDB.checksrc.html | 1.0 KiB | 2006-05-05 03:19:57 |
| maSigPro.buildsrc.html | 3.7 KiB | 2006-05-05 03:19:57 |
| maSigPro.checksrc.html | 4.8 KiB | 2006-05-05 03:19:57 |
| maanova.buildsrc.html | 3.8 KiB | 2006-05-05 03:19:57 |
| maanova.checksrc.html | 2.0 KiB | 2006-05-05 03:19:57 |
| macat.buildsrc.html | 3.0 KiB | 2006-05-05 03:19:57 |
| macat.checksrc.html | 2.3 KiB | 2006-05-05 03:19:57 |
| made4.buildsrc.html | 3.6 KiB | 2006-05-05 03:19:57 |
| made4.checksrc.html | 1.9 KiB | 2006-05-05 03:19:57 |
| makecdfenv.buildsrc.html | 2.9 KiB | 2006-05-05 03:19:57 |
| makecdfenv.checksrc.html | 2.1 KiB | 2006-05-05 03:19:57 |
| marray.buildsrc.html | 8.5 KiB | 2006-05-05 03:19:57 |
| marray.checksrc.html | 1.9 KiB | 2006-05-05 03:19:57 |
| matchprobes.buildsrc.html | 2.7 KiB | 2006-05-05 03:19:57 |
| matchprobes.checksrc.html | 2.1 KiB | 2006-05-05 03:19:57 |
| metaArray.buildsrc.html | 3.6 KiB | 2006-05-05 03:19:57 |
| metaArray.checksrc.html | 2.1 KiB | 2006-05-05 03:19:57 |
| mmgmos.buildsrc.html | 78.6 KiB | 2006-05-05 03:19:57 |
| mmgmos.checksrc.html | 2.0 KiB | 2006-05-05 03:19:57 |
| multtest.buildsrc.html | 1.1 KiB | 2006-05-05 03:19:57 |
| multtest.checksrc.html | 2.0 KiB | 2006-05-05 03:19:57 |
| nnNorm.buildsrc.html | 1.5 KiB | 2006-05-05 03:19:57 |
| nnNorm.checksrc.html | 1.9 KiB | 2006-05-05 03:19:57 |
| nudge.buildsrc.html | 2.3 KiB | 2006-05-05 03:19:57 |
| nudge.checksrc.html | 1.9 KiB | 2006-05-05 03:19:57 |
| ontoTools.buildsrc.html | 4.4 KiB | 2006-05-05 03:19:57 |
| ontoTools.checksrc.html | 2.0 KiB | 2006-05-05 03:19:57 |
| pairseqsim.buildsrc.html | 2.7 KiB | 2006-05-05 03:19:57 |
| pairseqsim.checksrc.html | 2.0 KiB | 2006-05-05 03:19:57 |
| pamr.buildsrc.html | 1.0 KiB | 2006-05-05 03:19:57 |
| pamr.checksrc.html | 1.9 KiB | 2006-05-05 03:19:57 |
| panp.buildsrc.html | 1.9 KiB | 2006-05-05 03:19:57 |
| panp.checksrc.html | 1.9 KiB | 2006-05-05 03:19:57 |
| pathRender.buildsrc.html | 996 B | 2006-05-05 03:19:57 |
| pathRender.checksrc.html | 1.9 KiB | 2006-05-05 03:19:57 |
| pdmclass.buildsrc.html | 2.1 KiB | 2006-05-05 03:19:57 |
| pdmclass.checksrc.html | 2.0 KiB | 2006-05-05 03:19:57 |
| pgUtils.buildsrc.html | 975 B | 2006-05-05 03:19:57 |
| pgUtils.checksrc.html | 1.0 KiB | 2006-05-05 03:19:57 |
| pickgene.buildsrc.html | 1.8 KiB | 2006-05-05 03:19:57 |
| pickgene.checksrc.html | 2.0 KiB | 2006-05-05 03:19:57 |
| plgem.buildsrc.html | 1.6 KiB | 2006-05-05 03:19:57 |
| plgem.checksrc.html | 1.9 KiB | 2006-05-05 03:19:57 |
| plier.buildsrc.html | 976 B | 2006-05-05 03:19:57 |
| plier.checksrc.html | 1.9 KiB | 2006-05-05 03:19:57 |
| prada.buildsrc.html | 4.1 KiB | 2006-05-05 03:19:57 |
| prada.checksrc.html | 2.0 KiB | 2006-05-05 03:19:57 |
| qvalue.buildsrc.html | 1.8 KiB | 2006-05-05 03:19:57 |
| qvalue.checksrc.html | 1.9 KiB | 2006-05-05 03:19:57 |
| rama.buildsrc.html | 1.0 KiB | 2006-05-05 03:19:57 |
| rama.checksrc.html | 1.9 KiB | 2006-05-05 03:19:57 |
| reb.buildsrc.html | 3.5 KiB | 2006-05-05 03:19:57 |
| reb.checksrc.html | 2.0 KiB | 2006-05-05 03:19:57 |
| reposTools.buildsrc.html | 8.0 KiB | 2006-05-05 03:19:57 |
| reposTools.checksrc.html | 2.5 KiB | 2006-05-05 03:19:57 |
| rfcdmin.buildsrc.html | 977 B | 2006-05-05 03:19:57 |
| rfcdmin.checksrc.html | 1.7 KiB | 2006-05-05 03:19:57 |
| rflowcyt.buildsrc.html | 6.6 KiB | 2006-05-05 03:19:57 |
| rflowcyt.checksrc.html | 2.7 KiB | 2006-05-05 03:19:57 |
| safe.buildsrc.html | 1.6 KiB | 2006-05-05 03:19:57 |
| safe.checksrc.html | 1.9 KiB | 2006-05-05 03:19:57 |
| sagenhaft.buildsrc.html | 1.9 KiB | 2006-05-05 03:19:57 |
| sagenhaft.checksrc.html | 2.0 KiB | 2006-05-05 03:19:57 |
| siggenes.buildsrc.html | 3.3 KiB | 2006-05-05 03:19:57 |
| siggenes.checksrc.html | 2.0 KiB | 2006-05-05 03:19:57 |
| simpleaffy.buildsrc.html | 5.3 KiB | 2006-05-05 03:19:57 |
| simpleaffy.checksrc.html | 2.0 KiB | 2006-05-05 03:19:57 |
| simulatorAPMS.buildsrc.html | 3.1 KiB | 2006-05-05 03:19:57 |
| simulatorAPMS.checksrc.html | 2.0 KiB | 2006-05-05 03:19:57 |
| sizepower.buildsrc.html | 1.7 KiB | 2006-05-05 03:19:57 |
| sizepower.checksrc.html | 2.0 KiB | 2006-05-05 03:19:57 |
| snapCGH.buildsrc.html | 5.9 KiB | 2006-05-05 03:19:57 |
| snapCGH.checksrc.html | 2.0 KiB | 2006-05-05 03:19:57 |
| splicegear.buildsrc.html | 3.2 KiB | 2006-05-05 03:19:57 |
| splicegear.checksrc.html | 2.0 KiB | 2006-05-05 03:19:57 |
| spotSegmentation.buildsrc.html | 1.1 KiB | 2006-05-05 03:19:57 |
| spotSegmentation.checksrc.html | 2.0 KiB | 2006-05-05 03:19:57 |
| sscore.buildsrc.html | 2.2 KiB | 2006-05-05 03:19:57 |
| sscore.checksrc.html | 1.9 KiB | 2006-05-05 03:19:57 |
| ssize.buildsrc.html | 1.4 KiB | 2006-05-05 03:19:57 |
| ssize.checksrc.html | 1.9 KiB | 2006-05-05 03:19:57 |
| stam.buildsrc.html | 3.5 KiB | 2006-05-05 03:19:57 |
| stam.checksrc.html | 1.9 KiB | 2006-05-05 03:19:57 |
| stepNorm.buildsrc.html | 982 B | 2006-05-05 03:19:57 |
| stepNorm.checksrc.html | 1.9 KiB | 2006-05-05 03:19:57 |
| tilingArray.buildsrc.html | 3.6 KiB | 2006-05-05 03:19:57 |
| tilingArray.checksrc.html | 2.1 KiB | 2006-05-05 03:19:57 |
| timecourse.buildsrc.html | 2.2 KiB | 2006-05-05 03:19:57 |
| timecourse.checksrc.html | 2.0 KiB | 2006-05-05 03:19:57 |
| tkWidgets.buildsrc.html | 1.6 KiB | 2006-05-05 03:19:57 |
| tkWidgets.checksrc.html | 3.2 KiB | 2006-05-05 03:19:57 |
| twilight.buildsrc.html | 3.8 KiB | 2006-05-05 03:19:57 |
| twilight.checksrc.html | 3.2 KiB | 2006-05-05 03:19:57 |
| vsn.buildsrc.html | 2.1 KiB | 2006-05-05 03:19:57 |
| vsn.checksrc.html | 2.0 KiB | 2006-05-05 03:19:57 |
| webbioc.buildsrc.html | 2.2 KiB | 2006-05-05 03:19:57 |
| webbioc.checksrc.html | 1.9 KiB | 2006-05-05 03:19:57 |
| widgetInvoke.buildsrc.html | 1.6 KiB | 2006-05-05 03:19:57 |
| widgetInvoke.checksrc.html | 3.2 KiB | 2006-05-05 03:19:57 |
| widgetTools.buildsrc.html | 2.2 KiB | 2006-05-05 03:19:57 |
| widgetTools.checksrc.html | 3.2 KiB | 2006-05-05 03:19:57 |
| xcms.buildsrc.html | 7.2 KiB | 2006-05-05 03:19:57 |
| xcms.checksrc.html | 3.2 KiB | 2006-05-05 03:19:57 |
| y2hStat.buildsrc.html | 3.0 KiB | 2006-05-05 03:19:57 |
| y2hStat.checksrc.html | 1.8 KiB | 2006-05-05 03:19:57 |